| Back to Rapid builds (Linux only) of a subset of BioC 3.22 Report updated every 6 hours |
This page was generated on 2025-10-30 14:25 -0400 (Thu, 30 Oct 2025).
| Hostname | OS | Arch (*) | R version | Installed pkgs |
|---|---|---|---|---|
| teran2 | Linux (Ubuntu 24.04.3 LTS) | x86_64 | 4.5.1 (2025-06-13) -- "Great Square Root" | 896 |
| Click on any hostname to see more info about the system (e.g. compilers) (*) as reported by 'uname -p', except on Windows and Mac OS X | ||||
| Package 38/229 | Hostname | OS / Arch | INSTALL | BUILD | CHECK | |||||||
| biocthis 1.21.0 (landing page) Leonardo Collado-Torres
| teran2 | Linux (Ubuntu 24.04.3 LTS) / x86_64 | OK | OK | OK | |||||||
|
To the developers/maintainers of the biocthis package: - Use the following Renviron settings to reproduce errors and warnings. - If 'R CMD check' started to fail recently on the Linux builder(s) over a missing dependency, add the missing dependency to 'Suggests:' in your DESCRIPTION file. See Renviron.bioc for more information. |
| Package: biocthis |
| Version: 1.21.0 |
| Command: /home/rapidbuild/bbs-3.22-bioc-rapid/R/bin/R CMD check --install=check:biocthis.install-out.txt --library=/home/rapidbuild/bbs-3.22-bioc-rapid/R/site-library --timings biocthis_1.21.0.tar.gz |
| StartedAt: 2025-10-30 13:20:32 -0400 (Thu, 30 Oct 2025) |
| EndedAt: 2025-10-30 13:21:01 -0400 (Thu, 30 Oct 2025) |
| EllapsedTime: 28.6 seconds |
| RetCode: 0 |
| Status: OK |
| CheckDir: biocthis.Rcheck |
| Warnings: 0 |
##############################################################################
##############################################################################
###
### Running command:
###
### /home/rapidbuild/bbs-3.22-bioc-rapid/R/bin/R CMD check --install=check:biocthis.install-out.txt --library=/home/rapidbuild/bbs-3.22-bioc-rapid/R/site-library --timings biocthis_1.21.0.tar.gz
###
##############################################################################
##############################################################################
* using log directory ‘/media/volume/teran2_disk/rapidbuild/bbs-3.22-bioc-rapid/meat/biocthis.Rcheck’
* using R version 4.5.1 (2025-06-13)
* using platform: x86_64-pc-linux-gnu
* R was compiled by
gcc (Ubuntu 13.3.0-6ubuntu2~24.04) 13.3.0
GNU Fortran (Ubuntu 13.3.0-6ubuntu2~24.04) 13.3.0
* running under: Ubuntu 24.04.3 LTS
* using session charset: UTF-8
* checking for file ‘biocthis/DESCRIPTION’ ... OK
* this is package ‘biocthis’ version ‘1.21.0’
* package encoding: UTF-8
* checking package namespace information ... OK
* checking package dependencies ... OK
* checking if this is a source package ... OK
* checking if there is a namespace ... OK
* checking for hidden files and directories ... OK
* checking for portable file names ... OK
* checking for sufficient/correct file permissions ... OK
* checking whether package ‘biocthis’ can be installed ... OK
* checking installed package size ... OK
* checking package directory ... OK
* checking ‘build’ directory ... OK
* checking DESCRIPTION meta-information ... OK
* checking top-level files ... OK
* checking for left-over files ... OK
* checking index information ... OK
* checking package subdirectories ... OK
* checking code files for non-ASCII characters ... OK
* checking R files for syntax errors ... OK
* checking whether the package can be loaded ... OK
* checking whether the package can be loaded with stated dependencies ... OK
* checking whether the package can be unloaded cleanly ... OK
* checking whether the namespace can be loaded with stated dependencies ... OK
* checking whether the namespace can be unloaded cleanly ... OK
* checking loading without being on the library search path ... OK
* checking dependencies in R code ... NOTE
Missing object imported by a ':::' call: ‘usethis:::get_active_r_file’
Unexported objects imported by ':::' calls:
‘BiocManager:::.version_map_get_online’ ‘BiocManager:::isDevel’
‘usethis:::asciify’ ‘usethis:::check_is_package’
‘usethis:::check_vignette_name’ ‘usethis:::create_directory’
‘usethis:::is_package’ ‘usethis:::proj_desc_field_update’
‘usethis:::proj_version’ ‘usethis:::project_name’
‘usethis:::render_template’ ‘usethis:::target_repo_spec’
‘usethis:::use_dot_github’ ‘usethis:::uses_git’
See the note in ?`:::` about the use of this operator.
* checking S3 generic/method consistency ... OK
* checking replacement functions ... OK
* checking foreign function calls ... OK
* checking R code for possible problems ... OK
* checking Rd files ... OK
* checking Rd metadata ... OK
* checking Rd cross-references ... OK
* checking for missing documentation entries ... OK
* checking for code/documentation mismatches ... OK
* checking Rd \usage sections ... OK
* checking Rd contents ... OK
* checking for unstated dependencies in examples ... OK
* checking files in ‘vignettes’ ... OK
* checking examples ... OK
* checking for unstated dependencies in ‘tests’ ... OK
* checking tests ...
Running ‘testthat.R’
OK
* checking for unstated dependencies in vignettes ... OK
* checking package vignettes ... OK
* checking re-building of vignette outputs ... OK
* checking PDF version of manual ... OK
* DONE
Status: 1 NOTE
See
‘/media/volume/teran2_disk/rapidbuild/bbs-3.22-bioc-rapid/meat/biocthis.Rcheck/00check.log’
for details.
biocthis.Rcheck/00install.out
############################################################################## ############################################################################## ### ### Running command: ### ### /home/rapidbuild/bbs-3.22-bioc-rapid/R/bin/R CMD INSTALL biocthis ### ############################################################################## ############################################################################## * installing to library ‘/media/volume/teran2_disk/rapidbuild/bbs-3.22-bioc-rapid/R/site-library’ * installing *source* package ‘biocthis’ ... ** this is package ‘biocthis’ version ‘1.21.0’ ** using staged installation ** R ** inst ** byte-compile and prepare package for lazy loading ** help *** installing help indices ** building package indices ** installing vignettes ** testing if installed package can be loaded from temporary location ** testing if installed package can be loaded from final location ** testing if installed package keeps a record of temporary installation path * DONE (biocthis)
biocthis.Rcheck/tests/testthat.Rout
R version 4.5.1 (2025-06-13) -- "Great Square Root"
Copyright (C) 2025 The R Foundation for Statistical Computing
Platform: x86_64-pc-linux-gnu
R is free software and comes with ABSOLUTELY NO WARRANTY.
You are welcome to redistribute it under certain conditions.
Type 'license()' or 'licence()' for distribution details.
R is a collaborative project with many contributors.
Type 'contributors()' for more information and
'citation()' on how to cite R or R packages in publications.
Type 'demo()' for some demos, 'help()' for on-line help, or
'help.start()' for an HTML browser interface to help.
Type 'q()' to quit R.
> library(testthat)
> library(biocthis)
>
> test_check("biocthis")
[ FAIL 0 | WARN 0 | SKIP 0 | PASS 4 ]
>
> proc.time()
user system elapsed
0.654 0.105 0.801
biocthis.Rcheck/biocthis-Ex.timings
| name | user | system | elapsed | |
| bioc_badges | 0.000 | 0.000 | 0.001 | |
| bioc_style | 0.326 | 0.034 | 0.361 | |
| biocthis_example_pkg | 0.038 | 0.001 | 0.040 | |
| use_bioc_citation | 0.174 | 0.058 | 0.232 | |
| use_bioc_coc | 0.117 | 0.009 | 0.126 | |
| use_bioc_description | 0.235 | 0.009 | 0.244 | |
| use_bioc_feature_request_template | 0.072 | 0.005 | 0.079 | |
| use_bioc_github_action | 0 | 0 | 0 | |
| use_bioc_issue_template | 0.064 | 0.003 | 0.067 | |
| use_bioc_news_md | 0.058 | 0.005 | 0.064 | |
| use_bioc_pkg_templates | 0.225 | 0.007 | 0.236 | |
| use_bioc_pkgdown_css | 0.067 | 0.003 | 0.071 | |
| use_bioc_readme_rmd | 0.172 | 0.007 | 0.181 | |
| use_bioc_support | 0.117 | 0.002 | 0.120 | |
| use_bioc_vignette | 0.810 | 0.068 | 0.889 | |