| Back to Rapid builds (Linux only) of a subset of BioC 3.22 Report updated every 6 hours |
This page was generated on 2025-10-30 14:25 -0400 (Thu, 30 Oct 2025).
| Hostname | OS | Arch (*) | R version | Installed pkgs |
|---|---|---|---|---|
| teran2 | Linux (Ubuntu 24.04.3 LTS) | x86_64 | 4.5.1 (2025-06-13) -- "Great Square Root" | 896 |
| Click on any hostname to see more info about the system (e.g. compilers) (*) as reported by 'uname -p', except on Windows and Mac OS X | ||||
| Package 100/229 | Hostname | OS / Arch | INSTALL | BUILD | CHECK | |||||||
| GenomicAlignments 1.47.0 (landing page) Hervé Pagès
| teran2 | Linux (Ubuntu 24.04.3 LTS) / x86_64 | ERROR | ERROR | skipped | |||||||
|
To the developers/maintainers of the GenomicAlignments package: - Use the following Renviron settings to reproduce errors and warnings. - If 'R CMD check' started to fail recently on the Linux builder(s) over a missing dependency, add the missing dependency to 'Suggests:' in your DESCRIPTION file. See Renviron.bioc for more information. |
| Package: GenomicAlignments |
| Version: 1.47.0 |
| Command: /home/rapidbuild/bbs-3.22-bioc-rapid/R/bin/R CMD build --keep-empty-dirs --no-resave-data GenomicAlignments |
| StartedAt: 2025-10-30 12:42:40 -0400 (Thu, 30 Oct 2025) |
| EndedAt: 2025-10-30 12:42:41 -0400 (Thu, 30 Oct 2025) |
| EllapsedTime: 1.0 seconds |
| RetCode: 1 |
| Status: ERROR |
| PackageFile: None |
| PackageFileSize: NA |
##############################################################################
##############################################################################
###
### Running command:
###
### /home/rapidbuild/bbs-3.22-bioc-rapid/R/bin/R CMD build --keep-empty-dirs --no-resave-data GenomicAlignments
###
##############################################################################
##############################################################################
* checking for file ‘GenomicAlignments/DESCRIPTION’ ... OK
* preparing ‘GenomicAlignments’:
* checking DESCRIPTION meta-information ... OK
* cleaning src
* installing the package to build vignettes
-----------------------------------
ERROR: dependency ‘cigarillo’ is not available for package ‘GenomicAlignments’
Perhaps try a variation of:
install.packages('cigarillo')
* removing ‘/tmp/Rtmp32qWGc/Rinst1f99e8df959c5/GenomicAlignments’
-----------------------------------
ERROR: package installation failed