| Back to Multiple platform build/check report for BioC 3.21: simplified long |
|
This page was generated on 2025-10-16 11:38 -0400 (Thu, 16 Oct 2025).
| Hostname | OS | Arch (*) | R version | Installed pkgs |
|---|---|---|---|---|
| nebbiolo1 | Linux (Ubuntu 24.04.3 LTS) | x86_64 | 4.5.1 (2025-06-13) -- "Great Square Root" | 4833 |
| merida1 | macOS 12.7.6 Monterey | x86_64 | 4.5.1 RC (2025-06-05 r88288) -- "Great Square Root" | 4614 |
| kjohnson1 | macOS 13.7.5 Ventura | arm64 | 4.5.1 Patched (2025-06-14 r88325) -- "Great Square Root" | 4555 |
| kunpeng2 | Linux (openEuler 24.03 LTS) | aarch64 | R Under development (unstable) (2025-02-19 r87757) -- "Unsuffered Consequences" | 4586 |
| Click on any hostname to see more info about the system (e.g. compilers) (*) as reported by 'uname -p', except on Windows and Mac OS X | ||||
| Package 2187/2341 | Hostname | OS / Arch | INSTALL | BUILD | CHECK | BUILD BIN | ||||||||
| tidyFlowCore 1.2.0 (landing page) Timothy Keyes
| nebbiolo1 | Linux (Ubuntu 24.04.3 LTS) / x86_64 | OK | OK | OK | |||||||||
| merida1 | macOS 12.7.6 Monterey / x86_64 | OK | OK | OK | OK | |||||||||
| kjohnson1 | macOS 13.7.5 Ventura / arm64 | OK | OK | OK | OK | |||||||||
| kunpeng2 | Linux (openEuler 24.03 LTS) / aarch64 | OK | OK | NA | ||||||||||
|
To the developers/maintainers of the tidyFlowCore package: - Allow up to 24 hours (and sometimes 48 hours) for your latest push to git@git.bioconductor.org:packages/tidyFlowCore.git to reflect on this report. See Troubleshooting Build Report for more information. - Use the following Renviron settings to reproduce errors and warnings. - If 'R CMD check' started to fail recently on the Linux builder(s) over a missing dependency, add the missing dependency to 'Suggests:' in your DESCRIPTION file. See Renviron.bioc for more information. |
| Package: tidyFlowCore |
| Version: 1.2.0 |
| Command: /home/biocbuild/bbs-3.21-bioc/R/bin/R CMD check --install=check:tidyFlowCore.install-out.txt --library=/home/biocbuild/bbs-3.21-bioc/R/site-library --timings tidyFlowCore_1.2.0.tar.gz |
| StartedAt: 2025-10-16 04:23:01 -0400 (Thu, 16 Oct 2025) |
| EndedAt: 2025-10-16 04:25:18 -0400 (Thu, 16 Oct 2025) |
| EllapsedTime: 137.2 seconds |
| RetCode: 0 |
| Status: OK |
| CheckDir: tidyFlowCore.Rcheck |
| Warnings: 0 |
##############################################################################
##############################################################################
###
### Running command:
###
### /home/biocbuild/bbs-3.21-bioc/R/bin/R CMD check --install=check:tidyFlowCore.install-out.txt --library=/home/biocbuild/bbs-3.21-bioc/R/site-library --timings tidyFlowCore_1.2.0.tar.gz
###
##############################################################################
##############################################################################
* using log directory ‘/home/biocbuild/bbs-3.21-bioc/meat/tidyFlowCore.Rcheck’
* using R version 4.5.1 (2025-06-13)
* using platform: x86_64-pc-linux-gnu
* R was compiled by
gcc (Ubuntu 13.3.0-6ubuntu2~24.04) 13.3.0
GNU Fortran (Ubuntu 13.3.0-6ubuntu2~24.04) 13.3.0
* running under: Ubuntu 24.04.3 LTS
* using session charset: UTF-8
* checking for file ‘tidyFlowCore/DESCRIPTION’ ... OK
* checking extension type ... Package
* this is package ‘tidyFlowCore’ version ‘1.2.0’
* package encoding: UTF-8
* checking package namespace information ... OK
* checking package dependencies ... OK
* checking if this is a source package ... OK
* checking if there is a namespace ... OK
* checking for hidden files and directories ... OK
* checking for portable file names ... OK
* checking for sufficient/correct file permissions ... OK
* checking whether package ‘tidyFlowCore’ can be installed ... OK
* checking installed package size ... OK
* checking package directory ... OK
* checking ‘build’ directory ... OK
* checking DESCRIPTION meta-information ... OK
* checking top-level files ... OK
* checking for left-over files ... OK
* checking index information ... OK
* checking package subdirectories ... OK
* checking code files for non-ASCII characters ... OK
* checking R files for syntax errors ... OK
* checking whether the package can be loaded ... OK
* checking whether the package can be loaded with stated dependencies ... OK
* checking whether the package can be unloaded cleanly ... OK
* checking whether the namespace can be loaded with stated dependencies ... OK
* checking whether the namespace can be unloaded cleanly ... OK
* checking loading without being on the library search path ... OK
* checking dependencies in R code ... OK
* checking S3 generic/method consistency ... OK
* checking replacement functions ... OK
* checking foreign function calls ... OK
* checking R code for possible problems ... OK
* checking Rd files ... OK
* checking Rd metadata ... OK
* checking Rd cross-references ... OK
* checking for missing documentation entries ... OK
* checking for code/documentation mismatches ... OK
* checking Rd \usage sections ... OK
* checking Rd contents ... OK
* checking for unstated dependencies in examples ... OK
* checking contents of ‘data’ directory ... OK
* checking data for non-ASCII characters ... OK
* checking data for ASCII and uncompressed saves ... OK
* checking files in ‘vignettes’ ... OK
* checking examples ... OK
* checking for unstated dependencies in ‘tests’ ... OK
* checking tests ...
Running ‘testthat.R’
OK
* checking for unstated dependencies in vignettes ... OK
* checking package vignettes ... OK
* checking re-building of vignette outputs ... OK
* checking PDF version of manual ... OK
* DONE
Status: OK
tidyFlowCore.Rcheck/00install.out
############################################################################## ############################################################################## ### ### Running command: ### ### /home/biocbuild/bbs-3.21-bioc/R/bin/R CMD INSTALL tidyFlowCore ### ############################################################################## ############################################################################## * installing to library ‘/home/biocbuild/bbs-3.21-bioc/R/site-library’ * installing *source* package ‘tidyFlowCore’ ... ** this is package ‘tidyFlowCore’ version ‘1.2.0’ ** using staged installation ** R ** data ** inst ** byte-compile and prepare package for lazy loading ** help *** installing help indices *** copying figures ** building package indices ** installing vignettes ** testing if installed package can be loaded from temporary location ** testing if installed package can be loaded from final location ** testing if installed package keeps a record of temporary installation path * DONE (tidyFlowCore)
tidyFlowCore.Rcheck/tests/testthat.Rout
R version 4.5.1 (2025-06-13) -- "Great Square Root"
Copyright (C) 2025 The R Foundation for Statistical Computing
Platform: x86_64-pc-linux-gnu
R is free software and comes with ABSOLUTELY NO WARRANTY.
You are welcome to redistribute it under certain conditions.
Type 'license()' or 'licence()' for distribution details.
R is a collaborative project with many contributors.
Type 'contributors()' for more information and
'citation()' on how to cite R or R packages in publications.
Type 'demo()' for some demos, 'help()' for on-line help, or
'help.start()' for an HTML browser interface to help.
Type 'q()' to quit R.
> # This file is part of the standard setup for testthat.
> # It is recommended that you do not modify it.
> #
> # Where should you do additional test configuration?
> # Learn more about the roles of various files in:
> # * https://r-pkgs.org/testing-design.html#sec-tests-files-overview
> # * https://testthat.r-lib.org/articles/special-files.html
>
> library(testthat)
> library(tidyFlowCore)
>
> test_check("tidyFlowCore")
Attaching package: 'dplyr'
The following object is masked from 'package:testthat':
matches
The following objects are masked from 'package:stats':
filter, lag
The following objects are masked from 'package:base':
intersect, setdiff, setequal, union
Attaching package: 'tidyr'
The following object is masked from 'package:testthat':
matches
[ FAIL 0 | WARN 0 | SKIP 0 | PASS 104 ]
>
> proc.time()
user system elapsed
12.805 0.418 13.214
tidyFlowCore.Rcheck/tidyFlowCore-Ex.timings
| name | user | system | elapsed | |
| arrange.flowFrame | 0.236 | 0.006 | 0.241 | |
| arrange.flowSet | 0.551 | 0.030 | 0.583 | |
| as_flowFrame | 0.000 | 0.000 | 0.001 | |
| as_flowSet | 0 | 0 | 0 | |
| as_tof_tbl | 0.031 | 0.003 | 0.035 | |
| count.flowFrame | 0.259 | 0.028 | 0.287 | |
| count.flowSet | 0.153 | 0.001 | 0.155 | |
| filter.flowFrame | 0.141 | 0.001 | 0.142 | |
| filter.flowSet | 0.362 | 0.003 | 0.365 | |
| ggplot.flowFrame | 0.122 | 0.004 | 0.127 | |
| ggplot.flowSet | 0.126 | 0.000 | 0.126 | |
| group_by.flowFrame | 0.332 | 0.001 | 0.333 | |
| make_flowcore_annotated_data_frame | 0 | 0 | 0 | |
| mutate.flowFrame | 0.292 | 0.000 | 0.292 | |
| mutate.flowSet | 0.378 | 0.001 | 0.380 | |
| nest.flowFrame | 0.338 | 0.002 | 0.341 | |
| pull.flowFrame | 0.093 | 0.019 | 0.113 | |
| pull.flowSet | 0.103 | 0.017 | 0.121 | |
| reexports | 0 | 0 | 0 | |
| rename.flowFrame | 0.147 | 0.009 | 0.156 | |
| rename.flowSet | 0.365 | 0.009 | 0.373 | |
| rename_with.flowFrame | 0.144 | 0.004 | 0.148 | |
| rename_with.flowSet | 0.381 | 0.001 | 0.383 | |
| select.flowFrame | 0.142 | 0.001 | 0.143 | |
| select.flowSet | 0.322 | 0.002 | 0.324 | |
| simulate_cytometry_data | 0.087 | 0.001 | 0.088 | |
| slice.flowFrame | 0.142 | 0.001 | 0.144 | |
| slice.flowSet | 0.367 | 0.003 | 0.371 | |
| slice_head.flowFrame | 0.140 | 0.002 | 0.143 | |
| slice_head.flowSet | 0.368 | 0.001 | 0.368 | |
| slice_max.flowFrame | 0.145 | 0.000 | 0.145 | |
| slice_max.flowSet | 0.357 | 0.002 | 0.359 | |
| slice_min.flowFrame | 0.145 | 0.004 | 0.149 | |
| slice_min.flowSet | 0.362 | 0.002 | 0.365 | |
| slice_sample.flowFrame | 0.143 | 0.001 | 0.144 | |
| slice_sample.flowSet | 0.358 | 0.004 | 0.362 | |
| slice_tail.flowFrame | 0.141 | 0.000 | 0.141 | |
| slice_tail.flowSet | 0.364 | 0.010 | 0.375 | |
| summarise.flowFrame | 0.104 | 0.017 | 0.122 | |
| summarise.flowSet | 0.155 | 0.013 | 0.169 | |
| summarize.flowFrame | 0.133 | 0.020 | 0.153 | |
| summarize.flowSet | 0.146 | 0.006 | 0.152 | |
| tof_get_panel | 0.000 | 0.000 | 0.001 | |
| tof_set_panel | 0 | 0 | 0 | |
| transmute.flowFrame | 0.135 | 0.003 | 0.138 | |
| transmute.flowSet | 0.338 | 0.002 | 0.340 | |
| ungroup.flowSet | 0.177 | 0.001 | 0.177 | |
| unnest.flowSet | 0.323 | 0.001 | 0.324 | |