| Back to Multiple platform build/check report for BioC 3.21: simplified long |
|
This page was generated on 2025-10-16 11:40 -0400 (Thu, 16 Oct 2025).
| Hostname | OS | Arch (*) | R version | Installed pkgs |
|---|---|---|---|---|
| nebbiolo1 | Linux (Ubuntu 24.04.3 LTS) | x86_64 | 4.5.1 (2025-06-13) -- "Great Square Root" | 4833 |
| merida1 | macOS 12.7.6 Monterey | x86_64 | 4.5.1 RC (2025-06-05 r88288) -- "Great Square Root" | 4614 |
| kjohnson1 | macOS 13.7.5 Ventura | arm64 | 4.5.1 Patched (2025-06-14 r88325) -- "Great Square Root" | 4555 |
| kunpeng2 | Linux (openEuler 24.03 LTS) | aarch64 | R Under development (unstable) (2025-02-19 r87757) -- "Unsuffered Consequences" | 4586 |
| Click on any hostname to see more info about the system (e.g. compilers) (*) as reported by 'uname -p', except on Windows and Mac OS X | ||||
| Package 2187/2341 | Hostname | OS / Arch | INSTALL | BUILD | CHECK | BUILD BIN | ||||||||
| tidyFlowCore 1.2.0 (landing page) Timothy Keyes
| nebbiolo1 | Linux (Ubuntu 24.04.3 LTS) / x86_64 | OK | OK | OK | |||||||||
| merida1 | macOS 12.7.6 Monterey / x86_64 | OK | OK | OK | OK | |||||||||
| kjohnson1 | macOS 13.7.5 Ventura / arm64 | OK | OK | OK | OK | |||||||||
| kunpeng2 | Linux (openEuler 24.03 LTS) / aarch64 | OK | OK | NA | ||||||||||
|
To the developers/maintainers of the tidyFlowCore package: - Allow up to 24 hours (and sometimes 48 hours) for your latest push to git@git.bioconductor.org:packages/tidyFlowCore.git to reflect on this report. See Troubleshooting Build Report for more information. - Use the following Renviron settings to reproduce errors and warnings. - If 'R CMD check' started to fail recently on the Linux builder(s) over a missing dependency, add the missing dependency to 'Suggests:' in your DESCRIPTION file. See Renviron.bioc for more information. |
| Package: tidyFlowCore |
| Version: 1.2.0 |
| Command: /Library/Frameworks/R.framework/Resources/bin/R CMD check --install=check:tidyFlowCore.install-out.txt --library=/Library/Frameworks/R.framework/Resources/library --no-vignettes --timings tidyFlowCore_1.2.0.tar.gz |
| StartedAt: 2025-10-15 15:18:51 -0400 (Wed, 15 Oct 2025) |
| EndedAt: 2025-10-15 15:20:42 -0400 (Wed, 15 Oct 2025) |
| EllapsedTime: 110.6 seconds |
| RetCode: 0 |
| Status: OK |
| CheckDir: tidyFlowCore.Rcheck |
| Warnings: 0 |
##############################################################################
##############################################################################
###
### Running command:
###
### /Library/Frameworks/R.framework/Resources/bin/R CMD check --install=check:tidyFlowCore.install-out.txt --library=/Library/Frameworks/R.framework/Resources/library --no-vignettes --timings tidyFlowCore_1.2.0.tar.gz
###
##############################################################################
##############################################################################
* using log directory ‘/Users/biocbuild/bbs-3.21-bioc/meat/tidyFlowCore.Rcheck’
* using R version 4.5.1 Patched (2025-06-14 r88325)
* using platform: aarch64-apple-darwin20
* R was compiled by
Apple clang version 16.0.0 (clang-1600.0.26.6)
GNU Fortran (GCC) 14.2.0
* running under: macOS Ventura 13.7.5
* using session charset: UTF-8
* using option ‘--no-vignettes’
* checking for file ‘tidyFlowCore/DESCRIPTION’ ... OK
* checking extension type ... Package
* this is package ‘tidyFlowCore’ version ‘1.2.0’
* package encoding: UTF-8
* checking package namespace information ... OK
* checking package dependencies ... OK
* checking if this is a source package ... OK
* checking if there is a namespace ... OK
* checking for hidden files and directories ... OK
* checking for portable file names ... OK
* checking for sufficient/correct file permissions ... OK
* checking whether package ‘tidyFlowCore’ can be installed ... OK
* checking installed package size ... OK
* checking package directory ... OK
* checking ‘build’ directory ... OK
* checking DESCRIPTION meta-information ... OK
* checking top-level files ... OK
* checking for left-over files ... OK
* checking index information ... OK
* checking package subdirectories ... OK
* checking code files for non-ASCII characters ... OK
* checking R files for syntax errors ... OK
* checking whether the package can be loaded ... OK
* checking whether the package can be loaded with stated dependencies ... OK
* checking whether the package can be unloaded cleanly ... OK
* checking whether the namespace can be loaded with stated dependencies ... OK
* checking whether the namespace can be unloaded cleanly ... OK
* checking dependencies in R code ... OK
* checking S3 generic/method consistency ... OK
* checking replacement functions ... OK
* checking foreign function calls ... OK
* checking R code for possible problems ... OK
* checking Rd files ... OK
* checking Rd metadata ... OK
* checking Rd cross-references ... OK
* checking for missing documentation entries ... OK
* checking for code/documentation mismatches ... OK
* checking Rd \usage sections ... OK
* checking Rd contents ... OK
* checking for unstated dependencies in examples ... OK
* checking contents of ‘data’ directory ... OK
* checking data for non-ASCII characters ... OK
* checking data for ASCII and uncompressed saves ... OK
* checking files in ‘vignettes’ ... OK
* checking examples ... OK
* checking for unstated dependencies in ‘tests’ ... OK
* checking tests ...
Running ‘testthat.R’
OK
* checking for unstated dependencies in vignettes ... OK
* checking package vignettes ... OK
* checking running R code from vignettes ... SKIPPED
* checking re-building of vignette outputs ... SKIPPED
* checking PDF version of manual ... OK
* DONE
Status: OK
tidyFlowCore.Rcheck/00install.out
############################################################################## ############################################################################## ### ### Running command: ### ### /Library/Frameworks/R.framework/Resources/bin/R CMD INSTALL tidyFlowCore ### ############################################################################## ############################################################################## * installing to library ‘/Library/Frameworks/R.framework/Versions/4.5-arm64/Resources/library’ * installing *source* package ‘tidyFlowCore’ ... ** this is package ‘tidyFlowCore’ version ‘1.2.0’ ** using staged installation ** R ** data ** inst ** byte-compile and prepare package for lazy loading ** help *** installing help indices *** copying figures ** building package indices ** installing vignettes ** testing if installed package can be loaded from temporary location ** testing if installed package can be loaded from final location ** testing if installed package keeps a record of temporary installation path * DONE (tidyFlowCore)
tidyFlowCore.Rcheck/tests/testthat.Rout
R version 4.5.1 Patched (2025-06-14 r88325) -- "Great Square Root"
Copyright (C) 2025 The R Foundation for Statistical Computing
Platform: aarch64-apple-darwin20
R is free software and comes with ABSOLUTELY NO WARRANTY.
You are welcome to redistribute it under certain conditions.
Type 'license()' or 'licence()' for distribution details.
R is a collaborative project with many contributors.
Type 'contributors()' for more information and
'citation()' on how to cite R or R packages in publications.
Type 'demo()' for some demos, 'help()' for on-line help, or
'help.start()' for an HTML browser interface to help.
Type 'q()' to quit R.
> # This file is part of the standard setup for testthat.
> # It is recommended that you do not modify it.
> #
> # Where should you do additional test configuration?
> # Learn more about the roles of various files in:
> # * https://r-pkgs.org/testing-design.html#sec-tests-files-overview
> # * https://testthat.r-lib.org/articles/special-files.html
>
> library(testthat)
> library(tidyFlowCore)
>
> test_check("tidyFlowCore")
Attaching package: 'dplyr'
The following object is masked from 'package:testthat':
matches
The following objects are masked from 'package:stats':
filter, lag
The following objects are masked from 'package:base':
intersect, setdiff, setequal, union
Attaching package: 'tidyr'
The following object is masked from 'package:testthat':
matches
[ FAIL 0 | WARN 0 | SKIP 0 | PASS 104 ]
>
> proc.time()
user system elapsed
14.186 0.744 15.079
tidyFlowCore.Rcheck/tidyFlowCore-Ex.timings
| name | user | system | elapsed | |
| arrange.flowFrame | 0.263 | 0.014 | 0.277 | |
| arrange.flowSet | 0.645 | 0.024 | 0.671 | |
| as_flowFrame | 0 | 0 | 0 | |
| as_flowSet | 0 | 0 | 0 | |
| as_tof_tbl | 0.027 | 0.002 | 0.030 | |
| count.flowFrame | 0.297 | 0.033 | 0.337 | |
| count.flowSet | 0.175 | 0.014 | 0.189 | |
| filter.flowFrame | 0.158 | 0.016 | 0.175 | |
| filter.flowSet | 0.414 | 0.019 | 0.436 | |
| ggplot.flowFrame | 0.146 | 0.009 | 0.157 | |
| ggplot.flowSet | 0.143 | 0.008 | 0.153 | |
| group_by.flowFrame | 0.375 | 0.020 | 0.397 | |
| make_flowcore_annotated_data_frame | 0 | 0 | 0 | |
| mutate.flowFrame | 0.332 | 0.019 | 0.353 | |
| mutate.flowSet | 0.412 | 0.018 | 0.434 | |
| nest.flowFrame | 0.370 | 0.020 | 0.392 | |
| pull.flowFrame | 0.103 | 0.008 | 0.112 | |
| pull.flowSet | 0.114 | 0.010 | 0.124 | |
| reexports | 0 | 0 | 0 | |
| rename.flowFrame | 0.158 | 0.010 | 0.172 | |
| rename.flowSet | 0.400 | 0.016 | 0.426 | |
| rename_with.flowFrame | 0.152 | 0.009 | 0.162 | |
| rename_with.flowSet | 0.394 | 0.016 | 0.420 | |
| select.flowFrame | 0.149 | 0.010 | 0.163 | |
| select.flowSet | 0.370 | 0.015 | 0.390 | |
| simulate_cytometry_data | 0.097 | 0.008 | 0.104 | |
| slice.flowFrame | 0.175 | 0.010 | 0.190 | |
| slice.flowSet | 0.407 | 0.017 | 0.429 | |
| slice_head.flowFrame | 0.170 | 0.010 | 0.184 | |
| slice_head.flowSet | 0.393 | 0.017 | 0.415 | |
| slice_max.flowFrame | 0.153 | 0.009 | 0.163 | |
| slice_max.flowSet | 0.394 | 0.014 | 0.415 | |
| slice_min.flowFrame | 0.150 | 0.009 | 0.161 | |
| slice_min.flowSet | 0.401 | 0.016 | 0.424 | |
| slice_sample.flowFrame | 0.162 | 0.011 | 0.183 | |
| slice_sample.flowSet | 0.409 | 0.014 | 0.432 | |
| slice_tail.flowFrame | 0.155 | 0.009 | 0.166 | |
| slice_tail.flowSet | 0.413 | 0.014 | 0.442 | |
| summarise.flowFrame | 0.113 | 0.007 | 0.120 | |
| summarise.flowSet | 0.162 | 0.008 | 0.174 | |
| summarize.flowFrame | 0.156 | 0.011 | 0.171 | |
| summarize.flowSet | 0.172 | 0.008 | 0.183 | |
| tof_get_panel | 0.001 | 0.000 | 0.001 | |
| tof_set_panel | 0 | 0 | 0 | |
| transmute.flowFrame | 0.154 | 0.012 | 0.169 | |
| transmute.flowSet | 0.385 | 0.019 | 0.409 | |
| ungroup.flowSet | 0.198 | 0.011 | 0.212 | |
| unnest.flowSet | 0.353 | 0.014 | 0.368 | |