| Back to Multiple platform build/check report for BioC 3.21: simplified long |
|
This page was generated on 2025-10-16 11:38 -0400 (Thu, 16 Oct 2025).
| Hostname | OS | Arch (*) | R version | Installed pkgs |
|---|---|---|---|---|
| nebbiolo1 | Linux (Ubuntu 24.04.3 LTS) | x86_64 | 4.5.1 (2025-06-13) -- "Great Square Root" | 4833 |
| merida1 | macOS 12.7.6 Monterey | x86_64 | 4.5.1 RC (2025-06-05 r88288) -- "Great Square Root" | 4614 |
| kjohnson1 | macOS 13.7.5 Ventura | arm64 | 4.5.1 Patched (2025-06-14 r88325) -- "Great Square Root" | 4555 |
| kunpeng2 | Linux (openEuler 24.03 LTS) | aarch64 | R Under development (unstable) (2025-02-19 r87757) -- "Unsuffered Consequences" | 4586 |
| Click on any hostname to see more info about the system (e.g. compilers) (*) as reported by 'uname -p', except on Windows and Mac OS X | ||||
| Package 2122/2341 | Hostname | OS / Arch | INSTALL | BUILD | CHECK | BUILD BIN | ||||||||
| structToolbox 1.20.0 (landing page) Gavin Rhys Lloyd
| nebbiolo1 | Linux (Ubuntu 24.04.3 LTS) / x86_64 | OK | OK | OK | |||||||||
| merida1 | macOS 12.7.6 Monterey / x86_64 | OK | OK | OK | OK | |||||||||
| kjohnson1 | macOS 13.7.5 Ventura / arm64 | OK | OK | OK | OK | |||||||||
| kunpeng2 | Linux (openEuler 24.03 LTS) / aarch64 | OK | OK | OK | ||||||||||
|
To the developers/maintainers of the structToolbox package: - Allow up to 24 hours (and sometimes 48 hours) for your latest push to git@git.bioconductor.org:packages/structToolbox.git to reflect on this report. See Troubleshooting Build Report for more information. - Use the following Renviron settings to reproduce errors and warnings. - If 'R CMD check' started to fail recently on the Linux builder(s) over a missing dependency, add the missing dependency to 'Suggests:' in your DESCRIPTION file. See Renviron.bioc for more information. |
| Package: structToolbox |
| Version: 1.20.0 |
| Command: /home/biocbuild/bbs-3.21-bioc/R/bin/R CMD check --install=check:structToolbox.install-out.txt --library=/home/biocbuild/bbs-3.21-bioc/R/site-library --timings structToolbox_1.20.0.tar.gz |
| StartedAt: 2025-10-16 04:09:55 -0400 (Thu, 16 Oct 2025) |
| EndedAt: 2025-10-16 04:28:37 -0400 (Thu, 16 Oct 2025) |
| EllapsedTime: 1122.5 seconds |
| RetCode: 0 |
| Status: OK |
| CheckDir: structToolbox.Rcheck |
| Warnings: 0 |
##############################################################################
##############################################################################
###
### Running command:
###
### /home/biocbuild/bbs-3.21-bioc/R/bin/R CMD check --install=check:structToolbox.install-out.txt --library=/home/biocbuild/bbs-3.21-bioc/R/site-library --timings structToolbox_1.20.0.tar.gz
###
##############################################################################
##############################################################################
* using log directory ‘/home/biocbuild/bbs-3.21-bioc/meat/structToolbox.Rcheck’
* using R version 4.5.1 (2025-06-13)
* using platform: x86_64-pc-linux-gnu
* R was compiled by
gcc (Ubuntu 13.3.0-6ubuntu2~24.04) 13.3.0
GNU Fortran (Ubuntu 13.3.0-6ubuntu2~24.04) 13.3.0
* running under: Ubuntu 24.04.3 LTS
* using session charset: UTF-8
* checking for file ‘structToolbox/DESCRIPTION’ ... OK
* checking extension type ... Package
* this is package ‘structToolbox’ version ‘1.20.0’
* package encoding: UTF-8
* checking package namespace information ... OK
* checking package dependencies ... OK
* checking if this is a source package ... OK
* checking if there is a namespace ... OK
* checking for hidden files and directories ... OK
* checking for portable file names ... OK
* checking for sufficient/correct file permissions ... OK
* checking whether package ‘structToolbox’ can be installed ... OK
* checking installed package size ... OK
* checking package directory ... OK
* checking ‘build’ directory ... OK
* checking DESCRIPTION meta-information ... OK
* checking top-level files ... OK
* checking for left-over files ... OK
* checking index information ... OK
* checking package subdirectories ... OK
* checking code files for non-ASCII characters ... OK
* checking R files for syntax errors ... OK
* checking whether the package can be loaded ... OK
* checking whether the package can be loaded with stated dependencies ... OK
* checking whether the package can be unloaded cleanly ... OK
* checking whether the namespace can be loaded with stated dependencies ... OK
* checking whether the namespace can be unloaded cleanly ... OK
* checking loading without being on the library search path ... OK
* checking dependencies in R code ... OK
* checking S3 generic/method consistency ... OK
* checking replacement functions ... OK
* checking foreign function calls ... OK
* checking R code for possible problems ... OK
* checking Rd files ... OK
* checking Rd metadata ... OK
* checking Rd cross-references ... OK
* checking for missing documentation entries ... OK
* checking for code/documentation mismatches ... OK
* checking Rd \usage sections ... OK
* checking Rd contents ... OK
* checking for unstated dependencies in examples ... OK
* checking R/sysdata.rda ... OK
* checking files in ‘vignettes’ ... OK
* checking examples ... OK
Examples with CPU (user + system) or elapsed time > 5s
user system elapsed
fold_change_int 16.314 0.112 16.426
fold_change 10.741 0.090 10.831
fisher_exact 9.926 0.022 9.948
fs_line 6.170 0.014 6.184
forward_selection_by_rank 5.839 0.074 5.914
* checking for unstated dependencies in ‘tests’ ... OK
* checking tests ...
Running ‘testthat.R’
OK
* checking for unstated dependencies in vignettes ... OK
* checking package vignettes ... OK
* checking re-building of vignette outputs ... OK
* checking PDF version of manual ... OK
* DONE
Status: OK
structToolbox.Rcheck/00install.out
############################################################################## ############################################################################## ### ### Running command: ### ### /home/biocbuild/bbs-3.21-bioc/R/bin/R CMD INSTALL structToolbox ### ############################################################################## ############################################################################## * installing to library ‘/home/biocbuild/bbs-3.21-bioc/R/site-library’ * installing *source* package ‘structToolbox’ ... ** this is package ‘structToolbox’ version ‘1.20.0’ ** using staged installation ** R ** inst ** byte-compile and prepare package for lazy loading ** help *** installing help indices ** building package indices ** installing vignettes ** testing if installed package can be loaded from temporary location ** testing if installed package can be loaded from final location ** testing if installed package keeps a record of temporary installation path * DONE (structToolbox)
structToolbox.Rcheck/tests/testthat.Rout
R version 4.5.1 (2025-06-13) -- "Great Square Root"
Copyright (C) 2025 The R Foundation for Statistical Computing
Platform: x86_64-pc-linux-gnu
R is free software and comes with ABSOLUTELY NO WARRANTY.
You are welcome to redistribute it under certain conditions.
Type 'license()' or 'licence()' for distribution details.
R is a collaborative project with many contributors.
Type 'contributors()' for more information and
'citation()' on how to cite R or R packages in publications.
Type 'demo()' for some demos, 'help()' for on-line help, or
'help.start()' for an HTML browser interface to help.
Type 'q()' to quit R.
> library(testthat)
> library(ggplot2)
> library(structToolbox)
Loading required package: struct
>
> test_check("structToolbox")
[ FAIL 0 | WARN 6 | SKIP 0 | PASS 166 ]
[ FAIL 0 | WARN 6 | SKIP 0 | PASS 166 ]
>
> proc.time()
user system elapsed
185.134 2.024 187.187
structToolbox.Rcheck/structToolbox-Ex.timings
| name | user | system | elapsed | |
| ANOVA | 0.203 | 0.003 | 0.206 | |
| AUC | 1.945 | 0.091 | 2.035 | |
| DFA | 0.192 | 0.001 | 0.192 | |
| DatasetExperiment_boxplot | 1.839 | 0.017 | 1.855 | |
| DatasetExperiment_dist | 1.313 | 0.041 | 1.355 | |
| DatasetExperiment_factor_boxplot | 0.334 | 0.000 | 0.335 | |
| DatasetExperiment_heatmap | 0.551 | 0.001 | 0.553 | |
| HCA | 0.057 | 0.000 | 0.057 | |
| HSD | 0.273 | 0.003 | 0.281 | |
| HSDEM | 0.258 | 0.003 | 0.261 | |
| MTBLS79_DatasetExperiment | 0.001 | 0.000 | 0.001 | |
| OPLSDA | 0.011 | 0.000 | 0.011 | |
| OPLSR | 0.008 | 0.000 | 0.007 | |
| PCA | 0.004 | 0.000 | 0.004 | |
| PLSDA | 0.012 | 0.000 | 0.012 | |
| PLSR | 0.009 | 0.001 | 0.010 | |
| SVM | 0.020 | 0.000 | 0.021 | |
| as_data_frame | 0.121 | 0.000 | 0.121 | |
| autoscale | 0.071 | 0.000 | 0.072 | |
| balanced_accuracy | 1.724 | 0.004 | 1.728 | |
| blank_filter | 0.344 | 0.005 | 0.349 | |
| blank_filter_hist | 0.001 | 0.000 | 0.001 | |
| bootstrap | 0.012 | 0.000 | 0.012 | |
| calculate | 0.006 | 0.000 | 0.006 | |
| chart_plot | 0.031 | 0.000 | 0.030 | |
| classical_lsq | 0.307 | 0.003 | 0.309 | |
| compare_dist | 4.279 | 0.031 | 4.309 | |
| confounders_clsq | 2.900 | 0.027 | 2.927 | |
| confounders_lsq_barchart | 3.189 | 0.011 | 3.200 | |
| confounders_lsq_boxplot | 3.075 | 0.027 | 3.101 | |
| constant_sum_norm | 0.008 | 0.000 | 0.008 | |
| corr_coef | 0.27 | 0.00 | 0.27 | |
| dfa_scores_plot | 0.932 | 0.007 | 0.939 | |
| dratio_filter | 0.312 | 0.002 | 0.314 | |
| equal_split | 0.109 | 0.001 | 0.111 | |
| feature_boxplot | 0.025 | 0.000 | 0.025 | |
| feature_profile | 0.515 | 0.000 | 0.515 | |
| feature_profile_array | 0.717 | 0.004 | 0.721 | |
| filter_by_name | 0.031 | 0.002 | 0.033 | |
| filter_na_count | 0.998 | 0.008 | 1.008 | |
| filter_smeta | 0.059 | 0.000 | 0.059 | |
| fisher_exact | 9.926 | 0.022 | 9.948 | |
| fold_change | 10.741 | 0.090 | 10.831 | |
| fold_change_int | 16.314 | 0.112 | 16.426 | |
| fold_change_plot | 0.007 | 0.000 | 0.007 | |
| forward_selection_by_rank | 5.839 | 0.074 | 5.914 | |
| fs_line | 6.170 | 0.014 | 6.184 | |
| glog_opt_plot | 0.523 | 0.005 | 0.529 | |
| glog_transform | 0.271 | 0.000 | 0.272 | |
| grid_search_1d | 3.356 | 0.006 | 3.363 | |
| gs_line | 0.000 | 0.000 | 0.001 | |
| hca_dendrogram | 0.001 | 0.000 | 0.000 | |
| kfold_xval | 3.36 | 0.01 | 3.37 | |
| kfoldxcv_grid | 3.906 | 0.011 | 3.917 | |
| kfoldxcv_metric | 0.001 | 0.000 | 0.001 | |
| knn_impute | 0.011 | 0.001 | 0.012 | |
| kw_p_hist | 0.001 | 0.000 | 0.001 | |
| kw_rank_sum | 0.071 | 0.000 | 0.071 | |
| linear_model | 0.027 | 0.001 | 0.028 | |
| log_transform | 0.007 | 0.000 | 0.006 | |
| mean_centre | 0.002 | 0.000 | 0.002 | |
| mean_of_medians | 0.122 | 0.000 | 0.122 | |
| mixed_effect | 0.153 | 0.001 | 0.154 | |
| model_apply | 0.022 | 0.001 | 0.023 | |
| model_predict | 0.051 | 0.000 | 0.051 | |
| model_reverse | 0.023 | 0.001 | 0.023 | |
| model_train | 0.046 | 0.001 | 0.047 | |
| mv_boxplot | 0.410 | 0.000 | 0.411 | |
| mv_feature_filter | 0.101 | 0.001 | 0.103 | |
| mv_feature_filter_hist | 0.000 | 0.001 | 0.001 | |
| mv_histogram | 0.333 | 0.001 | 0.333 | |
| mv_sample_filter | 0.008 | 0.001 | 0.010 | |
| mv_sample_filter_hist | 0.001 | 0.000 | 0.000 | |
| nroot_transform | 0.006 | 0.001 | 0.007 | |
| ontology_cache | 0.001 | 0.000 | 0.001 | |
| pairs_filter | 0.008 | 0.000 | 0.009 | |
| pareto_scale | 0.066 | 0.000 | 0.067 | |
| pca_biplot | 0.013 | 0.000 | 0.014 | |
| pca_correlation_plot | 0.006 | 0.000 | 0.006 | |
| pca_dstat_plot | 0.009 | 0.000 | 0.009 | |
| pca_loadings_plot | 0.008 | 0.000 | 0.009 | |
| pca_scores_plot | 0.684 | 0.000 | 0.684 | |
| pca_scree_plot | 0.007 | 0.000 | 0.007 | |
| permutation_test | 0.01 | 0.00 | 0.01 | |
| permutation_test_plot | 0.002 | 0.000 | 0.003 | |
| permute_sample_order | 0.005 | 0.001 | 0.006 | |
| pls_regcoeff_plot | 0.477 | 0.002 | 0.480 | |
| pls_scores_plot | 0.813 | 0.003 | 0.816 | |
| pls_vip_plot | 0.476 | 0.002 | 0.478 | |
| plsda_feature_importance_plot | 0.833 | 0.002 | 0.835 | |
| plsda_predicted_plot | 0.564 | 0.003 | 0.567 | |
| plsda_roc_plot | 1.248 | 0.001 | 1.249 | |
| plsr_cook_dist | 0.007 | 0.000 | 0.007 | |
| plsr_prediction_plot | 0.005 | 0.000 | 0.007 | |
| plsr_qq_plot | 0.006 | 0.000 | 0.007 | |
| plsr_residual_hist | 0.006 | 0.000 | 0.007 | |
| pqn_norm | 0.344 | 0.000 | 0.345 | |
| pqn_norm_hist | 0.001 | 0.000 | 0.001 | |
| prop_na | 0.009 | 0.000 | 0.009 | |
| r_squared | 0.001 | 0.000 | 0.001 | |
| resample | 0.015 | 0.000 | 0.014 | |
| resample_chart | 0.002 | 0.001 | 0.003 | |
| rsd_filter | 0.013 | 0.000 | 0.013 | |
| rsd_filter_hist | 0.000 | 0.000 | 0.001 | |
| run | 0.032 | 0.000 | 0.032 | |
| sb_corr | 0.024 | 0.001 | 0.026 | |
| scatter_chart | 0.541 | 0.003 | 0.544 | |
| split_data | 0.006 | 0.001 | 0.006 | |
| stratified_split | 0.107 | 0.001 | 0.109 | |
| svm_plot_2d | 0.764 | 0.003 | 0.767 | |
| tSNE | 0.022 | 0.000 | 0.023 | |
| tSNE_scatter | 0.007 | 0.000 | 0.007 | |
| tic_chart | 0.330 | 0.001 | 0.330 | |
| ttest | 0.021 | 0.000 | 0.021 | |
| vec_norm | 0.001 | 0.000 | 0.001 | |
| wilcox_p_hist | 0.000 | 0.000 | 0.001 | |
| wilcox_test | 0.016 | 0.000 | 0.016 | |