| Back to Multiple platform build/check report for BioC 3.21: simplified long |
|
This page was generated on 2025-10-16 11:40 -0400 (Thu, 16 Oct 2025).
| Hostname | OS | Arch (*) | R version | Installed pkgs |
|---|---|---|---|---|
| nebbiolo1 | Linux (Ubuntu 24.04.3 LTS) | x86_64 | 4.5.1 (2025-06-13) -- "Great Square Root" | 4833 |
| merida1 | macOS 12.7.6 Monterey | x86_64 | 4.5.1 RC (2025-06-05 r88288) -- "Great Square Root" | 4614 |
| kjohnson1 | macOS 13.7.5 Ventura | arm64 | 4.5.1 Patched (2025-06-14 r88325) -- "Great Square Root" | 4555 |
| kunpeng2 | Linux (openEuler 24.03 LTS) | aarch64 | R Under development (unstable) (2025-02-19 r87757) -- "Unsuffered Consequences" | 4586 |
| Click on any hostname to see more info about the system (e.g. compilers) (*) as reported by 'uname -p', except on Windows and Mac OS X | ||||
| Package 2122/2341 | Hostname | OS / Arch | INSTALL | BUILD | CHECK | BUILD BIN | ||||||||
| structToolbox 1.20.0 (landing page) Gavin Rhys Lloyd
| nebbiolo1 | Linux (Ubuntu 24.04.3 LTS) / x86_64 | OK | OK | OK | |||||||||
| merida1 | macOS 12.7.6 Monterey / x86_64 | OK | OK | OK | OK | |||||||||
| kjohnson1 | macOS 13.7.5 Ventura / arm64 | OK | OK | OK | OK | |||||||||
| kunpeng2 | Linux (openEuler 24.03 LTS) / aarch64 | OK | OK | OK | ||||||||||
|
To the developers/maintainers of the structToolbox package: - Allow up to 24 hours (and sometimes 48 hours) for your latest push to git@git.bioconductor.org:packages/structToolbox.git to reflect on this report. See Troubleshooting Build Report for more information. - Use the following Renviron settings to reproduce errors and warnings. - If 'R CMD check' started to fail recently on the Linux builder(s) over a missing dependency, add the missing dependency to 'Suggests:' in your DESCRIPTION file. See Renviron.bioc for more information. |
| Package: structToolbox |
| Version: 1.20.0 |
| Command: /Library/Frameworks/R.framework/Resources/bin/R CMD check --install=check:structToolbox.install-out.txt --library=/Library/Frameworks/R.framework/Resources/library --no-vignettes --timings structToolbox_1.20.0.tar.gz |
| StartedAt: 2025-10-15 14:35:57 -0400 (Wed, 15 Oct 2025) |
| EndedAt: 2025-10-15 14:45:04 -0400 (Wed, 15 Oct 2025) |
| EllapsedTime: 547.3 seconds |
| RetCode: 0 |
| Status: OK |
| CheckDir: structToolbox.Rcheck |
| Warnings: 0 |
##############################################################################
##############################################################################
###
### Running command:
###
### /Library/Frameworks/R.framework/Resources/bin/R CMD check --install=check:structToolbox.install-out.txt --library=/Library/Frameworks/R.framework/Resources/library --no-vignettes --timings structToolbox_1.20.0.tar.gz
###
##############################################################################
##############################################################################
* using log directory ‘/Users/biocbuild/bbs-3.21-bioc/meat/structToolbox.Rcheck’
* using R version 4.5.1 Patched (2025-06-14 r88325)
* using platform: aarch64-apple-darwin20
* R was compiled by
Apple clang version 16.0.0 (clang-1600.0.26.6)
GNU Fortran (GCC) 14.2.0
* running under: macOS Ventura 13.7.5
* using session charset: UTF-8
* using option ‘--no-vignettes’
* checking for file ‘structToolbox/DESCRIPTION’ ... OK
* checking extension type ... Package
* this is package ‘structToolbox’ version ‘1.20.0’
* package encoding: UTF-8
* checking package namespace information ... OK
* checking package dependencies ... OK
* checking if this is a source package ... OK
* checking if there is a namespace ... OK
* checking for hidden files and directories ... OK
* checking for portable file names ... OK
* checking for sufficient/correct file permissions ... OK
* checking whether package ‘structToolbox’ can be installed ... OK
* checking installed package size ... OK
* checking package directory ... OK
* checking ‘build’ directory ... OK
* checking DESCRIPTION meta-information ... OK
* checking top-level files ... OK
* checking for left-over files ... OK
* checking index information ... OK
* checking package subdirectories ... OK
* checking code files for non-ASCII characters ... OK
* checking R files for syntax errors ... OK
* checking whether the package can be loaded ... OK
* checking whether the package can be loaded with stated dependencies ... OK
* checking whether the package can be unloaded cleanly ... OK
* checking whether the namespace can be loaded with stated dependencies ... OK
* checking whether the namespace can be unloaded cleanly ... OK
* checking dependencies in R code ... OK
* checking S3 generic/method consistency ... OK
* checking replacement functions ... OK
* checking foreign function calls ... OK
* checking R code for possible problems ... OK
* checking Rd files ... OK
* checking Rd metadata ... OK
* checking Rd cross-references ... OK
* checking for missing documentation entries ... OK
* checking for code/documentation mismatches ... OK
* checking Rd \usage sections ... OK
* checking Rd contents ... OK
* checking for unstated dependencies in examples ... OK
* checking R/sysdata.rda ... OK
* checking files in ‘vignettes’ ... OK
* checking examples ... OK
Examples with CPU (user + system) or elapsed time > 5s
user system elapsed
fold_change_int 15.809 0.044 15.930
fold_change 10.428 0.060 10.598
fisher_exact 9.861 0.040 9.942
forward_selection_by_rank 6.983 0.125 7.131
fs_line 6.367 0.230 6.673
compare_dist 4.760 0.321 5.271
* checking for unstated dependencies in ‘tests’ ... OK
* checking tests ...
Running ‘testthat.R’
OK
* checking for unstated dependencies in vignettes ... OK
* checking package vignettes ... OK
* checking running R code from vignettes ... SKIPPED
* checking re-building of vignette outputs ... SKIPPED
* checking PDF version of manual ... OK
* DONE
Status: OK
structToolbox.Rcheck/00install.out
############################################################################## ############################################################################## ### ### Running command: ### ### /Library/Frameworks/R.framework/Resources/bin/R CMD INSTALL structToolbox ### ############################################################################## ############################################################################## * installing to library ‘/Library/Frameworks/R.framework/Versions/4.5-arm64/Resources/library’ * installing *source* package ‘structToolbox’ ... ** this is package ‘structToolbox’ version ‘1.20.0’ ** using staged installation ** R ** inst ** byte-compile and prepare package for lazy loading ** help *** installing help indices ** building package indices ** installing vignettes ** testing if installed package can be loaded from temporary location ** testing if installed package can be loaded from final location ** testing if installed package keeps a record of temporary installation path * DONE (structToolbox)
structToolbox.Rcheck/tests/testthat.Rout
R version 4.5.1 Patched (2025-06-14 r88325) -- "Great Square Root"
Copyright (C) 2025 The R Foundation for Statistical Computing
Platform: aarch64-apple-darwin20
R is free software and comes with ABSOLUTELY NO WARRANTY.
You are welcome to redistribute it under certain conditions.
Type 'license()' or 'licence()' for distribution details.
R is a collaborative project with many contributors.
Type 'contributors()' for more information and
'citation()' on how to cite R or R packages in publications.
Type 'demo()' for some demos, 'help()' for on-line help, or
'help.start()' for an HTML browser interface to help.
Type 'q()' to quit R.
> library(testthat)
> library(ggplot2)
> library(structToolbox)
Loading required package: struct
>
> test_check("structToolbox")
[ FAIL 0 | WARN 6 | SKIP 0 | PASS 166 ]
[ FAIL 0 | WARN 6 | SKIP 0 | PASS 166 ]
>
> proc.time()
user system elapsed
195.578 2.471 199.181
structToolbox.Rcheck/structToolbox-Ex.timings
| name | user | system | elapsed | |
| ANOVA | 0.219 | 0.011 | 0.236 | |
| AUC | 2.044 | 0.096 | 2.149 | |
| DFA | 0.183 | 0.003 | 0.185 | |
| DatasetExperiment_boxplot | 2.113 | 0.046 | 2.159 | |
| DatasetExperiment_dist | 1.622 | 0.076 | 1.702 | |
| DatasetExperiment_factor_boxplot | 0.340 | 0.011 | 0.352 | |
| DatasetExperiment_heatmap | 0.638 | 0.029 | 0.678 | |
| HCA | 0.073 | 0.002 | 0.077 | |
| HSD | 0.306 | 0.019 | 0.335 | |
| HSDEM | 0.393 | 0.024 | 0.431 | |
| MTBLS79_DatasetExperiment | 0.001 | 0.000 | 0.001 | |
| OPLSDA | 0.010 | 0.001 | 0.010 | |
| OPLSR | 0.008 | 0.000 | 0.008 | |
| PCA | 0.005 | 0.000 | 0.005 | |
| PLSDA | 0.011 | 0.001 | 0.013 | |
| PLSR | 0.010 | 0.001 | 0.010 | |
| SVM | 0.022 | 0.001 | 0.024 | |
| as_data_frame | 0.139 | 0.001 | 0.140 | |
| autoscale | 0.076 | 0.002 | 0.080 | |
| balanced_accuracy | 1.921 | 0.044 | 2.000 | |
| blank_filter | 0.370 | 0.019 | 0.391 | |
| blank_filter_hist | 0.001 | 0.000 | 0.001 | |
| bootstrap | 0.009 | 0.000 | 0.009 | |
| calculate | 0.005 | 0.000 | 0.005 | |
| chart_plot | 0.028 | 0.001 | 0.029 | |
| classical_lsq | 0.314 | 0.004 | 0.318 | |
| compare_dist | 4.760 | 0.321 | 5.271 | |
| confounders_clsq | 2.874 | 0.021 | 2.920 | |
| confounders_lsq_barchart | 3.193 | 0.023 | 3.266 | |
| confounders_lsq_boxplot | 3.093 | 0.024 | 3.126 | |
| constant_sum_norm | 0.007 | 0.001 | 0.008 | |
| corr_coef | 0.250 | 0.003 | 0.252 | |
| dfa_scores_plot | 1.020 | 0.018 | 1.038 | |
| dratio_filter | 0.278 | 0.007 | 0.290 | |
| equal_split | 0.126 | 0.001 | 0.130 | |
| feature_boxplot | 0.027 | 0.001 | 0.028 | |
| feature_profile | 0.564 | 0.008 | 0.577 | |
| feature_profile_array | 0.666 | 0.005 | 0.673 | |
| filter_by_name | 0.033 | 0.000 | 0.033 | |
| filter_na_count | 1.060 | 0.048 | 1.109 | |
| filter_smeta | 0.060 | 0.001 | 0.060 | |
| fisher_exact | 9.861 | 0.040 | 9.942 | |
| fold_change | 10.428 | 0.060 | 10.598 | |
| fold_change_int | 15.809 | 0.044 | 15.930 | |
| fold_change_plot | 0.007 | 0.000 | 0.007 | |
| forward_selection_by_rank | 6.983 | 0.125 | 7.131 | |
| fs_line | 6.367 | 0.230 | 6.673 | |
| glog_opt_plot | 0.596 | 0.006 | 0.606 | |
| glog_transform | 0.299 | 0.002 | 0.303 | |
| grid_search_1d | 4.618 | 0.189 | 4.816 | |
| gs_line | 0.001 | 0.000 | 0.001 | |
| hca_dendrogram | 0.000 | 0.000 | 0.001 | |
| kfold_xval | 3.199 | 0.048 | 3.296 | |
| kfoldxcv_grid | 3.897 | 0.029 | 3.931 | |
| kfoldxcv_metric | 0.001 | 0.000 | 0.001 | |
| knn_impute | 0.011 | 0.000 | 0.012 | |
| kw_p_hist | 0.001 | 0.000 | 0.001 | |
| kw_rank_sum | 0.073 | 0.001 | 0.073 | |
| linear_model | 0.030 | 0.001 | 0.030 | |
| log_transform | 0.007 | 0.000 | 0.007 | |
| mean_centre | 0.003 | 0.000 | 0.003 | |
| mean_of_medians | 0.126 | 0.003 | 0.129 | |
| mixed_effect | 0.168 | 0.002 | 0.170 | |
| model_apply | 0.023 | 0.001 | 0.024 | |
| model_predict | 0.056 | 0.001 | 0.056 | |
| model_reverse | 0.025 | 0.001 | 0.025 | |
| model_train | 0.052 | 0.001 | 0.052 | |
| mv_boxplot | 0.442 | 0.006 | 0.448 | |
| mv_feature_filter | 0.107 | 0.001 | 0.108 | |
| mv_feature_filter_hist | 0.000 | 0.000 | 0.001 | |
| mv_histogram | 0.345 | 0.004 | 0.350 | |
| mv_sample_filter | 0.009 | 0.000 | 0.010 | |
| mv_sample_filter_hist | 0.001 | 0.000 | 0.001 | |
| nroot_transform | 0.006 | 0.001 | 0.006 | |
| ontology_cache | 0.000 | 0.000 | 0.001 | |
| pairs_filter | 0.009 | 0.001 | 0.010 | |
| pareto_scale | 0.070 | 0.003 | 0.073 | |
| pca_biplot | 0.013 | 0.000 | 0.013 | |
| pca_correlation_plot | 0.006 | 0.000 | 0.007 | |
| pca_dstat_plot | 0.008 | 0.000 | 0.008 | |
| pca_loadings_plot | 0.008 | 0.000 | 0.008 | |
| pca_scores_plot | 0.701 | 0.005 | 0.707 | |
| pca_scree_plot | 0.007 | 0.000 | 0.007 | |
| permutation_test | 0.009 | 0.000 | 0.009 | |
| permutation_test_plot | 0.003 | 0.000 | 0.002 | |
| permute_sample_order | 0.006 | 0.000 | 0.007 | |
| pls_regcoeff_plot | 0.466 | 0.005 | 0.472 | |
| pls_scores_plot | 0.868 | 0.005 | 0.875 | |
| pls_vip_plot | 0.492 | 0.004 | 0.496 | |
| plsda_feature_importance_plot | 0.871 | 0.007 | 0.879 | |
| plsda_predicted_plot | 0.611 | 0.005 | 0.617 | |
| plsda_roc_plot | 1.301 | 0.009 | 1.310 | |
| plsr_cook_dist | 0.007 | 0.000 | 0.007 | |
| plsr_prediction_plot | 0.006 | 0.001 | 0.007 | |
| plsr_qq_plot | 0.006 | 0.000 | 0.006 | |
| plsr_residual_hist | 0.006 | 0.000 | 0.006 | |
| pqn_norm | 0.355 | 0.002 | 0.357 | |
| pqn_norm_hist | 0.001 | 0.000 | 0.001 | |
| prop_na | 0.008 | 0.000 | 0.009 | |
| r_squared | 0.001 | 0.000 | 0.001 | |
| resample | 0.014 | 0.000 | 0.014 | |
| resample_chart | 0.003 | 0.000 | 0.003 | |
| rsd_filter | 0.011 | 0.001 | 0.012 | |
| rsd_filter_hist | 0.001 | 0.000 | 0.001 | |
| run | 0.028 | 0.000 | 0.028 | |
| sb_corr | 0.024 | 0.000 | 0.024 | |
| scatter_chart | 0.543 | 0.003 | 0.546 | |
| split_data | 0.007 | 0.000 | 0.007 | |
| stratified_split | 0.109 | 0.001 | 0.110 | |
| svm_plot_2d | 0.860 | 0.027 | 0.920 | |
| tSNE | 0.024 | 0.001 | 0.026 | |
| tSNE_scatter | 0.009 | 0.001 | 0.010 | |
| tic_chart | 0.387 | 0.008 | 0.400 | |
| ttest | 0.021 | 0.000 | 0.021 | |
| vec_norm | 0.001 | 0.001 | 0.001 | |
| wilcox_p_hist | 0.001 | 0.000 | 0.002 | |
| wilcox_test | 0.020 | 0.000 | 0.021 | |