| Back to Multiple platform build/check report for BioC 3.22: simplified long |
|
This page was generated on 2025-11-07 12:01 -0500 (Fri, 07 Nov 2025).
| Hostname | OS | Arch (*) | R version | Installed pkgs |
|---|---|---|---|---|
| nebbiolo2 | Linux (Ubuntu 24.04.3 LTS) | x86_64 | 4.5.1 Patched (2025-08-23 r88802) -- "Great Square Root" | 4902 |
| kjohnson3 | macOS 13.7.7 Ventura | arm64 | 4.5.1 Patched (2025-09-10 r88807) -- "Great Square Root" | 4638 |
| Click on any hostname to see more info about the system (e.g. compilers) (*) as reported by 'uname -p', except on Windows and Mac OS X | ||||
| Package 1513/2361 | Hostname | OS / Arch | INSTALL | BUILD | CHECK | BUILD BIN | ||||||||
| ontoProc 2.4.0 (landing page) Vincent Carey
| nebbiolo2 | Linux (Ubuntu 24.04.3 LTS) / x86_64 | OK | OK | OK | |||||||||
| kjohnson3 | macOS 13.7.7 Ventura / arm64 | OK | OK | OK | OK | |||||||||
|
To the developers/maintainers of the ontoProc package: - Allow up to 24 hours (and sometimes 48 hours) for your latest push to git@git.bioconductor.org:packages/ontoProc.git to reflect on this report. See Troubleshooting Build Report for more information. - Use the following Renviron settings to reproduce errors and warnings. - If 'R CMD check' started to fail recently on the Linux builder(s) over a missing dependency, add the missing dependency to 'Suggests:' in your DESCRIPTION file. See Renviron.bioc for more information. |
| Package: ontoProc |
| Version: 2.4.0 |
| Command: /Library/Frameworks/R.framework/Resources/bin/R CMD check --install=check:ontoProc.install-out.txt --library=/Library/Frameworks/R.framework/Resources/library --no-vignettes --timings ontoProc_2.4.0.tar.gz |
| StartedAt: 2025-11-06 21:09:53 -0500 (Thu, 06 Nov 2025) |
| EndedAt: 2025-11-06 21:20:30 -0500 (Thu, 06 Nov 2025) |
| EllapsedTime: 636.4 seconds |
| RetCode: 0 |
| Status: OK |
| CheckDir: ontoProc.Rcheck |
| Warnings: 0 |
##############################################################################
##############################################################################
###
### Running command:
###
### /Library/Frameworks/R.framework/Resources/bin/R CMD check --install=check:ontoProc.install-out.txt --library=/Library/Frameworks/R.framework/Resources/library --no-vignettes --timings ontoProc_2.4.0.tar.gz
###
##############################################################################
##############################################################################
* using log directory ‘/Users/biocbuild/bbs-3.22-bioc/meat/ontoProc.Rcheck’
* using R version 4.5.1 Patched (2025-09-10 r88807)
* using platform: aarch64-apple-darwin20
* R was compiled by
Apple clang version 16.0.0 (clang-1600.0.26.6)
GNU Fortran (GCC) 14.2.0
* running under: macOS Ventura 13.7.7
* using session charset: UTF-8
* using option ‘--no-vignettes’
* checking for file ‘ontoProc/DESCRIPTION’ ... OK
* this is package ‘ontoProc’ version ‘2.4.0’
* package encoding: UTF-8
* checking package namespace information ... OK
* checking package dependencies ... OK
* checking if this is a source package ... OK
* checking if there is a namespace ... OK
* checking for hidden files and directories ... OK
* checking for portable file names ... OK
* checking for sufficient/correct file permissions ... OK
* checking whether package ‘ontoProc’ can be installed ... OK
* checking installed package size ... INFO
installed size is 11.5Mb
sub-directories of 1Mb or more:
app 1.9Mb
data 1.8Mb
ontoRda 2.8Mb
owl 3.8Mb
* checking package directory ... OK
* checking ‘build’ directory ... OK
* checking DESCRIPTION meta-information ... OK
* checking top-level files ... OK
* checking for left-over files ... OK
* checking index information ... OK
* checking package subdirectories ... OK
* checking code files for non-ASCII characters ... OK
* checking R files for syntax errors ... OK
* checking whether the package can be loaded ... OK
* checking whether the package can be loaded with stated dependencies ... OK
* checking whether the package can be unloaded cleanly ... OK
* checking whether the namespace can be loaded with stated dependencies ... OK
* checking whether the namespace can be unloaded cleanly ... OK
* checking dependencies in R code ... NOTE
':::' call which should be '::': ‘ontologyPlot:::remove_uninformative_terms’
See the note in ?`:::` about the use of this operator.
* checking S3 generic/method consistency ... OK
* checking replacement functions ... OK
* checking foreign function calls ... OK
* checking R code for possible problems ... NOTE
CLfeat : prupdate: no visible binding for global variable ‘PROSYM’
CLfeat : prupdate: no visible binding for global variable ‘PRID’
CLfeat : prupdate: no visible binding for global variable ‘SYMBOL’
ctmarks : server: no visible binding for global variable ‘text’
ctmarks : server: no visible binding for global variable ‘packDesc2022’
ctmarks : server: no visible binding for global variable ‘packDesc2021’
ctmarks: no visible binding for global variable ‘cumu’
dropStop: no visible binding for global variable ‘stopWords’
getOnto: no visible binding for global variable ‘rdatadateadded’
getOnto: no visible binding for global variable ‘title’
getOnto: no visible binding for global variable ‘description’
ldfToTerm: no visible binding for global variable ‘PROSYM’
sym2CellOnto: no visible binding for global variable ‘PROSYM’
sym2CellOnto: no visible binding for global variable ‘SYMBOL’
Undefined global functions or variables:
PRID PROSYM SYMBOL cumu description packDesc2021 packDesc2022
rdatadateadded stopWords text title
Consider adding
importFrom("graphics", "text", "title")
to your NAMESPACE file.
* checking Rd files ... OK
* checking Rd metadata ... OK
* checking Rd cross-references ... NOTE
Found the following Rd file(s) with Rd \link{} targets missing package
anchors:
findCommonAncestors.Rd: graph, DataFrame-class, List-class
Please provide package anchors for all Rd \link{} targets not in the
package itself and the base packages.
* checking for missing documentation entries ... OK
* checking for code/documentation mismatches ... OK
* checking Rd \usage sections ... NOTE
S3 methods shown with full name in Rd file 'plot.owlents.Rd':
‘plot.owlents’
The \usage entries for S3 methods should use the \method markup and not
their full name.
See chapter ‘Writing R documentation files’ in the ‘Writing R
Extensions’ manual.
* checking Rd contents ... OK
* checking for unstated dependencies in examples ... OK
* checking contents of ‘data’ directory ... OK
* checking data for non-ASCII characters ... OK
* checking data for ASCII and uncompressed saves ... OK
* checking files in ‘vignettes’ ... OK
* checking examples ... OK
Examples with CPU (user + system) or elapsed time > 5s
user system elapsed
sym2CellOnto 70.137 0.686 71.294
siblings_TAG 40.045 0.494 41.124
cleanCLOnames 29.113 0.295 29.755
nomenCheckup 28.412 0.199 28.953
fastGrep 24.914 0.359 35.423
CLfeats 24.597 0.549 25.927
getLeavesFromTerm 19.069 0.307 19.544
common_classes 15.946 0.598 16.945
liberalMap 15.655 0.195 18.767
getOnto 14.784 0.271 16.900
TermSet-class 14.623 0.239 15.131
make_graphNEL_from_ontology_plot 14.593 0.265 15.201
selectFromMap 14.127 0.211 14.503
findCommonAncestors 13.879 0.200 14.374
onto_plot2 13.767 0.206 14.109
secLevGen 13.466 0.183 13.996
mapOneNaive 13.259 0.152 13.593
graph2paths 3.371 0.044 5.021
plot.owlents 2.224 0.213 30.237
bioregistry_ols_resources 0.251 0.008 5.065
search_labels 0.141 0.007 6.086
* checking for unstated dependencies in ‘tests’ ... OK
* checking tests ...
Running ‘test.R’
OK
* checking for unstated dependencies in vignettes ... OK
* checking package vignettes ... OK
* checking running R code from vignettes ... SKIPPED
* checking re-building of vignette outputs ... SKIPPED
* checking PDF version of manual ... OK
* DONE
Status: 4 NOTEs
See
‘/Users/biocbuild/bbs-3.22-bioc/meat/ontoProc.Rcheck/00check.log’
for details.
ontoProc.Rcheck/00install.out
############################################################################## ############################################################################## ### ### Running command: ### ### /Library/Frameworks/R.framework/Resources/bin/R CMD INSTALL ontoProc ### ############################################################################## ############################################################################## * installing to library ‘/Library/Frameworks/R.framework/Versions/4.5-arm64/Resources/library’ * installing *source* package ‘ontoProc’ ... ** this is package ‘ontoProc’ version ‘2.4.0’ ** using staged installation ** R ** data ** inst ** byte-compile and prepare package for lazy loading ** help *** installing help indices ** building package indices ** installing vignettes ** testing if installed package can be loaded from temporary location ** testing if installed package can be loaded from final location ** testing if installed package keeps a record of temporary installation path * DONE (ontoProc)
ontoProc.Rcheck/tests/test.Rout
R version 4.5.1 Patched (2025-09-10 r88807) -- "Great Square Root"
Copyright (C) 2025 The R Foundation for Statistical Computing
Platform: aarch64-apple-darwin20
R is free software and comes with ABSOLUTELY NO WARRANTY.
You are welcome to redistribute it under certain conditions.
Type 'license()' or 'licence()' for distribution details.
R is a collaborative project with many contributors.
Type 'contributors()' for more information and
'citation()' on how to cite R or R packages in publications.
Type 'demo()' for some demos, 'help()' for on-line help, or
'help.start()' for an HTML browser interface to help.
Type 'q()' to quit R.
>
> library(ontoProc)
Loading required package: ontologyIndex
> library(testthat)
>
> test_check("ontoProc")
[ FAIL 0 | WARN 0 | SKIP 0 | PASS 12 ]
>
>
> proc.time()
user system elapsed
92.196 1.674 95.636
ontoProc.Rcheck/ontoProc-Ex.timings
| name | user | system | elapsed | |
| CLfeats | 24.597 | 0.549 | 25.927 | |
| PROSYM | 0.110 | 0.001 | 0.112 | |
| TermSet-class | 14.623 | 0.239 | 15.131 | |
| allGOterms | 0.044 | 0.001 | 0.046 | |
| ancestors | 0.286 | 0.086 | 0.472 | |
| ancestors_names | 0.001 | 0.001 | 0.003 | |
| bioregistry_ols_resources | 0.251 | 0.008 | 5.065 | |
| cellTypeToGO | 0.783 | 0.049 | 0.839 | |
| children_names | 0.002 | 0.001 | 0.002 | |
| cleanCLOnames | 29.113 | 0.295 | 29.755 | |
| common_classes | 15.946 | 0.598 | 16.945 | |
| ctmarks | 0 | 0 | 0 | |
| cyclicSigset | 0.002 | 0.000 | 0.002 | |
| demoApp | 0 | 0 | 0 | |
| dropStop | 0.002 | 0.001 | 0.003 | |
| fastGrep | 24.914 | 0.359 | 35.423 | |
| findCommonAncestors | 13.879 | 0.200 | 14.374 | |
| formalize | 0.001 | 0.000 | 0.000 | |
| getLeavesFromTerm | 19.069 | 0.307 | 19.544 | |
| getOnto | 14.784 | 0.271 | 16.900 | |
| graph2paths | 3.371 | 0.044 | 5.021 | |
| humrna | 0.003 | 0.001 | 0.006 | |
| jowl2classgraph | 0.125 | 0.002 | 0.197 | |
| jowl2classgraph_nio | 0.260 | 0.003 | 0.289 | |
| labels.owlents | 0 | 0 | 0 | |
| ldfToTerms | 1.093 | 0.020 | 1.203 | |
| liberalMap | 15.655 | 0.195 | 18.767 | |
| makeSelectInput | 0 | 0 | 0 | |
| make_graphNEL_from_ontology_plot | 14.593 | 0.265 | 15.201 | |
| mapOneNaive | 13.259 | 0.152 | 13.593 | |
| minicorpus | 0.001 | 0.000 | 0.001 | |
| nomenCheckup | 28.412 | 0.199 | 28.953 | |
| ontoDiff | 4.259 | 0.212 | 4.777 | |
| onto_plot2 | 13.767 | 0.206 | 14.109 | |
| onto_roots | 0 | 0 | 0 | |
| owl2cache | 0.009 | 0.000 | 0.009 | |
| packDesc2019 | 0.001 | 0.001 | 0.002 | |
| packDesc2021 | 0.001 | 0.001 | 0.002 | |
| packDesc2022 | 0.001 | 0.001 | 0.002 | |
| packDesc2023 | 0.001 | 0.000 | 0.001 | |
| parents | 0.002 | 0.001 | 0.002 | |
| plot.owlents | 2.224 | 0.213 | 30.237 | |
| quickOnto | 0.097 | 0.007 | 0.105 | |
| recognizedPredicates | 0 | 0 | 0 | |
| search_labels | 0.141 | 0.007 | 6.086 | |
| secLevGen | 13.466 | 0.183 | 13.996 | |
| selectFromMap | 14.127 | 0.211 | 14.503 | |
| setup_entities | 0.002 | 0.000 | 0.003 | |
| setup_entities2 | 0.119 | 0.003 | 0.122 | |
| seur3kTab | 0.001 | 0.000 | 0.002 | |
| siblings_TAG | 40.045 | 0.494 | 41.124 | |
| stopWords | 0.001 | 0.001 | 0.002 | |
| subclasses | 0.002 | 0.000 | 0.002 | |
| sym2CellOnto | 70.137 | 0.686 | 71.294 | |
| valid_ontonames | 0 | 0 | 0 | |