| Back to Multiple platform build/check report for BioC 3.22: simplified long |
|
This page was generated on 2025-07-28 12:07 -0400 (Mon, 28 Jul 2025).
| Hostname | OS | Arch (*) | R version | Installed pkgs |
|---|---|---|---|---|
| nebbiolo2 | Linux (Ubuntu 24.04.2 LTS) | x86_64 | 4.5.1 (2025-06-13) -- "Great Square Root" | 4796 |
| palomino8 | Windows Server 2022 Datacenter | x64 | 4.5.1 (2025-06-13 ucrt) -- "Great Square Root" | 4536 |
| lconway | macOS 12.7.1 Monterey | x86_64 | 4.5.1 (2025-06-13) -- "Great Square Root" | 4578 |
| kjohnson3 | macOS 13.7.1 Ventura | arm64 | 4.5.1 Patched (2025-06-14 r88325) -- "Great Square Root" | 4519 |
| taishan | Linux (openEuler 24.03 LTS) | aarch64 | 4.5.0 (2025-04-11) -- "How About a Twenty-Six" | 4512 |
| Click on any hostname to see more info about the system (e.g. compilers) (*) as reported by 'uname -p', except on Windows and Mac OS X | ||||
| Package 974/2313 | Hostname | OS / Arch | INSTALL | BUILD | CHECK | BUILD BIN | ||||||||
| hipathia 3.9.0 (landing page) Marta R. Hidalgo
| nebbiolo2 | Linux (Ubuntu 24.04.2 LTS) / x86_64 | OK | OK | OK | |||||||||
| palomino8 | Windows Server 2022 Datacenter / x64 | OK | OK | OK | OK | |||||||||
| lconway | macOS 12.7.1 Monterey / x86_64 | OK | OK | OK | OK | |||||||||
| kjohnson3 | macOS 13.7.1 Ventura / arm64 | OK | OK | OK | OK | |||||||||
| taishan | Linux (openEuler 24.03 LTS) / aarch64 | OK | OK | OK | ||||||||||
|
To the developers/maintainers of the hipathia package: - Allow up to 24 hours (and sometimes 48 hours) for your latest push to git@git.bioconductor.org:packages/hipathia.git to reflect on this report. See Troubleshooting Build Report for more information. - Use the following Renviron settings to reproduce errors and warnings. - If 'R CMD check' started to fail recently on the Linux builder(s) over a missing dependency, add the missing dependency to 'Suggests:' in your DESCRIPTION file. See Renviron.bioc for more information. |
| Package: hipathia |
| Version: 3.9.0 |
| Command: F:\biocbuild\bbs-3.22-bioc\R\bin\R.exe CMD check --no-multiarch --install=check:hipathia.install-out.txt --library=F:\biocbuild\bbs-3.22-bioc\R\library --no-vignettes --timings hipathia_3.9.0.tar.gz |
| StartedAt: 2025-07-28 03:28:33 -0400 (Mon, 28 Jul 2025) |
| EndedAt: 2025-07-28 03:45:21 -0400 (Mon, 28 Jul 2025) |
| EllapsedTime: 1007.9 seconds |
| RetCode: 0 |
| Status: OK |
| CheckDir: hipathia.Rcheck |
| Warnings: 0 |
##############################################################################
##############################################################################
###
### Running command:
###
### F:\biocbuild\bbs-3.22-bioc\R\bin\R.exe CMD check --no-multiarch --install=check:hipathia.install-out.txt --library=F:\biocbuild\bbs-3.22-bioc\R\library --no-vignettes --timings hipathia_3.9.0.tar.gz
###
##############################################################################
##############################################################################
* using log directory 'F:/biocbuild/bbs-3.22-bioc/meat/hipathia.Rcheck'
* using R version 4.5.1 (2025-06-13 ucrt)
* using platform: x86_64-w64-mingw32
* R was compiled by
gcc.exe (GCC) 14.2.0
GNU Fortran (GCC) 14.2.0
* running under: Windows Server 2022 x64 (build 20348)
* using session charset: UTF-8
* using option '--no-vignettes'
* checking for file 'hipathia/DESCRIPTION' ... OK
* this is package 'hipathia' version '3.9.0'
* package encoding: UTF-8
* checking package namespace information ... OK
* checking package dependencies ... OK
* checking if this is a source package ... OK
* checking if there is a namespace ... OK
* checking for hidden files and directories ... OK
* checking for portable file names ... OK
* checking whether package 'hipathia' can be installed ... OK
* checking installed package size ... INFO
installed size is 9.0Mb
sub-directories of 1Mb or more:
data 4.1Mb
extdata 4.4Mb
* checking package directory ... OK
* checking 'build' directory ... OK
* checking DESCRIPTION meta-information ... OK
* checking top-level files ... OK
* checking for left-over files ... OK
* checking index information ... OK
* checking package subdirectories ... OK
* checking code files for non-ASCII characters ... OK
* checking R files for syntax errors ... OK
* checking whether the package can be loaded ... OK
* checking whether the package can be loaded with stated dependencies ... OK
* checking whether the package can be unloaded cleanly ... OK
* checking whether the namespace can be loaded with stated dependencies ... OK
* checking whether the namespace can be unloaded cleanly ... OK
* checking dependencies in R code ... OK
* checking S3 generic/method consistency ... OK
* checking replacement functions ... OK
* checking foreign function calls ... OK
* checking R code for possible problems ... NOTE
DAreport: no visible binding for global variable 'ID'
DAreport: no visible binding for global variable 'FDRp.value'
DAtop : <anonymous>: no visible binding for global variable
'FDRp.value'
DAtop : <anonymous>: no visible binding for global variable 'statistic'
DAtop : <anonymous>: no visible binding for global variable 'p.value'
DAtop : <anonymous>: no visible binding for global variable 'name'
DAtop : <anonymous>: no visible binding for global variable 'logPV'
DAtop : <anonymous>: no visible binding for global variable 'feature'
DAtop: no visible binding for global variable 'name'
DAtop: no visible binding for global variable 'logPV'
DAtop: no visible binding for global variable 'direction'
get_edges_df: no visible binding for global variable 'from'
get_edges_df: no visible binding for global variable 'to'
nsig_plot: no visible binding for global variable 'total'
nsig_plot: no visible binding for global variable 'UPs'
nsig_plot: no visible binding for global variable 'DOWNs'
nsig_plot: no visible binding for global variable 'feature'
nsig_plot: no visible binding for global variable 'UP'
nsig_plot: no visible binding for global variable 'DOWN'
nsig_plot: no visible binding for global variable 'Not'
nsig_plot: no visible binding for global variable 'value'
nsig_plot: no visible binding for global variable 'variable'
prepare_DAedges: no visible binding for global variable 'to'
prepare_DAedges: no visible binding for global variable 'functional'
prepare_DAedges: no visible binding for global variable 'status'
prepare_DAedges: no visible binding for global variable 'type'
prepare_DAnodes : <anonymous>: no visible binding for global variable
'ID'
prepare_DAnodes : <anonymous>: no visible binding for global variable
'FDRp.value'
prepare_DAnodes : <anonymous>: no visible binding for global variable
'statistic'
prepare_DAnodes : <anonymous>: no visible binding for global variable
'p.value'
prepare_edges: no visible binding for global variable 'to'
prepare_edges: no visible binding for global variable 'functional'
summary_plot: no visible binding for global variable 'total'
summary_plot: no visible binding for global variable 'UPs'
summary_plot: no visible binding for global variable 'DOWNs'
summary_plot: no visible binding for global variable 'name'
summary_plot: no visible binding for global variable 'UP'
summary_plot: no visible binding for global variable 'DOWN'
summary_plot: no visible binding for global variable 'Not'
summary_plot: no visible binding for global variable 'value'
summary_plot: no visible binding for global variable 'variable'
summary_plot: no visible binding for global variable 'UP.nodes'
summary_plot: no visible binding for global variable 'DOWN.nodes'
summary_plot: no visible binding for global variable 'nodes'
summary_plot: no visible binding for global variable 'ratio.sigs'
summary_plot: no visible binding for global variable 'ratio.UPs'
summary_plot: no visible binding for global variable 'ratio.DOWNs'
Undefined global functions or variables:
DOWN DOWN.nodes DOWNs FDRp.value ID Not UP UP.nodes UPs direction
feature from functional logPV name nodes p.value ratio.DOWNs
ratio.UPs ratio.sigs statistic status to total type value variable
* checking Rd files ... OK
* checking Rd metadata ... OK
* checking Rd cross-references ... OK
* checking for missing documentation entries ... OK
* checking for code/documentation mismatches ... OK
* checking Rd \usage sections ... OK
* checking Rd contents ... OK
* checking for unstated dependencies in examples ... OK
* checking contents of 'data' directory ... OK
* checking data for non-ASCII characters ... OK
* checking LazyData ... OK
* checking data for ASCII and uncompressed saves ... OK
* checking sizes of PDF files under 'inst/doc' ... OK
* checking files in 'vignettes' ... OK
* checking examples ... OK
Examples with CPU (user + system) or elapsed time > 5s
user system elapsed
quantify_terms 30.85 2.86 34.33
create_report 24.57 1.09 27.00
get_pathways_annotations 22.80 1.64 24.88
normalize_data 22.30 1.08 23.75
hipathia 21.50 1.03 22.86
translate_data 21.05 0.93 22.35
node_color 20.36 1.09 21.65
node_color_per_de 20.48 0.92 22.29
save_results 20.22 1.00 21.36
get_path_names 20.05 1.03 21.25
pathway_comparison_plot 19.70 0.98 21.05
load_pathways 19.51 1.05 21.52
visualize_report 19.50 1.04 20.70
normalize_paths 19.49 0.83 20.43
get_node_names 18.45 1.11 19.69
get_pathways_list 18.53 0.83 19.48
get_pathways_summary 16.20 0.86 17.22
DAreport 2.49 0.69 9.40
* checking for unstated dependencies in 'tests' ... OK
* checking tests ...
Running 'testthat.R'
OK
* checking for unstated dependencies in vignettes ... OK
* checking package vignettes ... OK
* checking running R code from vignettes ... SKIPPED
* checking re-building of vignette outputs ... SKIPPED
* checking PDF version of manual ... OK
* DONE
Status: 1 NOTE
See
'F:/biocbuild/bbs-3.22-bioc/meat/hipathia.Rcheck/00check.log'
for details.
hipathia.Rcheck/00install.out
############################################################################## ############################################################################## ### ### Running command: ### ### F:\biocbuild\bbs-3.22-bioc\R\bin\R.exe CMD INSTALL hipathia ### ############################################################################## ############################################################################## * installing to library 'F:/biocbuild/bbs-3.22-bioc/R/library' * installing *source* package 'hipathia' ... ** this is package 'hipathia' version '3.9.0' ** using staged installation ** R ** data *** moving datasets to lazyload DB ** inst ** byte-compile and prepare package for lazy loading ** help *** installing help indices ** building package indices ** installing vignettes ** testing if installed package can be loaded from temporary location ** testing if installed package can be loaded from final location ** testing if installed package keeps a record of temporary installation path * DONE (hipathia)
hipathia.Rcheck/tests/testthat.Rout
R version 4.5.1 (2025-06-13 ucrt) -- "Great Square Root"
Copyright (C) 2025 The R Foundation for Statistical Computing
Platform: x86_64-w64-mingw32/x64
R is free software and comes with ABSOLUTELY NO WARRANTY.
You are welcome to redistribute it under certain conditions.
Type 'license()' or 'licence()' for distribution details.
R is a collaborative project with many contributors.
Type 'contributors()' for more information and
'citation()' on how to cite R or R packages in publications.
Type 'demo()' for some demos, 'help()' for on-line help, or
'help.start()' for an HTML browser interface to help.
Type 'q()' to quit R.
> library(testthat)
> library(hipathia)
Loading required package: igraph
Attaching package: 'igraph'
The following object is masked from 'package:testthat':
compare
The following objects are masked from 'package:stats':
decompose, spectrum
The following object is masked from 'package:base':
union
Loading required package: AnnotationHub
Loading required package: BiocGenerics
Loading required package: generics
Attaching package: 'generics'
The following objects are masked from 'package:igraph':
components, union
The following objects are masked from 'package:base':
as.difftime, as.factor, as.ordered, intersect, is.element, setdiff,
setequal, union
Attaching package: 'BiocGenerics'
The following objects are masked from 'package:igraph':
normalize, path
The following objects are masked from 'package:stats':
IQR, mad, sd, var, xtabs
The following objects are masked from 'package:base':
Filter, Find, Map, Position, Reduce, anyDuplicated, aperm, append,
as.data.frame, basename, cbind, colnames, dirname, do.call,
duplicated, eval, evalq, get, grep, grepl, is.unsorted, lapply,
mapply, match, mget, order, paste, pmax, pmax.int, pmin, pmin.int,
rank, rbind, rownames, sapply, saveRDS, table, tapply, unique,
unsplit, which.max, which.min
Loading required package: BiocFileCache
Loading required package: dbplyr
Loading required package: MultiAssayExperiment
Loading required package: SummarizedExperiment
Loading required package: MatrixGenerics
Loading required package: matrixStats
Attaching package: 'MatrixGenerics'
The following objects are masked from 'package:matrixStats':
colAlls, colAnyNAs, colAnys, colAvgsPerRowSet, colCollapse,
colCounts, colCummaxs, colCummins, colCumprods, colCumsums,
colDiffs, colIQRDiffs, colIQRs, colLogSumExps, colMadDiffs,
colMads, colMaxs, colMeans2, colMedians, colMins, colOrderStats,
colProds, colQuantiles, colRanges, colRanks, colSdDiffs, colSds,
colSums2, colTabulates, colVarDiffs, colVars, colWeightedMads,
colWeightedMeans, colWeightedMedians, colWeightedSds,
colWeightedVars, rowAlls, rowAnyNAs, rowAnys, rowAvgsPerColSet,
rowCollapse, rowCounts, rowCummaxs, rowCummins, rowCumprods,
rowCumsums, rowDiffs, rowIQRDiffs, rowIQRs, rowLogSumExps,
rowMadDiffs, rowMads, rowMaxs, rowMeans2, rowMedians, rowMins,
rowOrderStats, rowProds, rowQuantiles, rowRanges, rowRanks,
rowSdDiffs, rowSds, rowSums2, rowTabulates, rowVarDiffs, rowVars,
rowWeightedMads, rowWeightedMeans, rowWeightedMedians,
rowWeightedSds, rowWeightedVars
Loading required package: GenomicRanges
Loading required package: stats4
Loading required package: S4Vectors
Attaching package: 'S4Vectors'
The following object is masked from 'package:utils':
findMatches
The following objects are masked from 'package:base':
I, expand.grid, unname
Loading required package: IRanges
Attaching package: 'IRanges'
The following object is masked from 'package:grDevices':
windows
Loading required package: Seqinfo
Loading required package: Biobase
Welcome to Bioconductor
Vignettes contain introductory material; view with
'browseVignettes()'. To cite Bioconductor, see
'citation("Biobase")', and for packages 'citation("pkgname")'.
Attaching package: 'Biobase'
The following object is masked from 'package:MatrixGenerics':
rowMedians
The following objects are masked from 'package:matrixStats':
anyMissing, rowMedians
The following object is masked from 'package:AnnotationHub':
cache
>
> test_check("hipathia")
Computing pathway...
hsa03320 - PPAR signaling pathway
hsa04012 - ErbB signaling pathway
Computing pathway...
hsa03320 - PPAR signaling pathway
hsa04012 - ErbB signaling pathway
translated ids = 3184 (1)
untranslated ids = 3 (0.00094)
multihit ids = 0 (0)
[ FAIL 0 | WARN 1 | SKIP 0 | PASS 119 ]
[ FAIL 0 | WARN 1 | SKIP 0 | PASS 119 ]
>
> proc.time()
user system elapsed
281.46 16.29 301.28
hipathia.Rcheck/hipathia-Ex.timings
| name | user | system | elapsed | |
| DAcomp | 1.55 | 0.06 | 1.74 | |
| DAoverview | 0.39 | 0.03 | 0.43 | |
| DAreport | 2.49 | 0.69 | 9.40 | |
| DAsummary | 1.11 | 0.04 | 1.16 | |
| DAtop | 0.65 | 0.04 | 0.69 | |
| create_report | 24.57 | 1.09 | 27.00 | |
| define_colors | 0 | 0 | 0 | |
| do_pca | 0.03 | 0.04 | 0.06 | |
| do_wilcoxon | 0.08 | 0.04 | 0.13 | |
| get_go_names | 3.48 | 0.61 | 4.37 | |
| get_node_names | 18.45 | 1.11 | 19.69 | |
| get_nodes_data | 0.03 | 0.00 | 0.03 | |
| get_path_names | 20.05 | 1.03 | 21.25 | |
| get_paths_data | 0.00 | 0.01 | 0.01 | |
| get_pathways_annotations | 22.80 | 1.64 | 24.88 | |
| get_pathways_list | 18.53 | 0.83 | 19.48 | |
| get_pathways_summary | 16.20 | 0.86 | 17.22 | |
| heatmap_plot | 0.14 | 0.03 | 0.17 | |
| hhead | 0 | 0 | 0 | |
| hipathia | 21.50 | 1.03 | 22.86 | |
| load_pathways | 19.51 | 1.05 | 21.52 | |
| multiple_pca_plot | 0.04 | 0.02 | 0.04 | |
| node_color | 20.36 | 1.09 | 21.65 | |
| node_color_per_de | 20.48 | 0.92 | 22.29 | |
| normalize_data | 22.30 | 1.08 | 23.75 | |
| normalize_paths | 19.49 | 0.83 | 20.43 | |
| paths_to_go_ancestor | 0.23 | 0.03 | 0.27 | |
| pathway_comparison_plot | 19.70 | 0.98 | 21.05 | |
| pca_plot | 0.02 | 0.02 | 0.03 | |
| plotVG | 1.51 | 0.19 | 2.40 | |
| quantify_terms | 30.85 | 2.86 | 34.33 | |
| save_results | 20.22 | 1.00 | 21.36 | |
| top_pathways | 0.03 | 0.00 | 0.03 | |
| translate_data | 21.05 | 0.93 | 22.35 | |
| visualize_report | 19.50 | 1.04 | 20.70 | |