| Back to Multiple platform build/check report for BioC 3.21: simplified long |
|
This page was generated on 2025-04-22 13:18 -0400 (Tue, 22 Apr 2025).
| Hostname | OS | Arch (*) | R version | Installed pkgs |
|---|---|---|---|---|
| nebbiolo1 | Linux (Ubuntu 24.04.1 LTS) | x86_64 | 4.5.0 RC (2025-04-04 r88126) -- "How About a Twenty-Six" | 4831 |
| palomino7 | Windows Server 2022 Datacenter | x64 | 4.5.0 RC (2025-04-04 r88126 ucrt) -- "How About a Twenty-Six" | 4573 |
| lconway | macOS 12.7.1 Monterey | x86_64 | 4.5.0 RC (2025-04-04 r88126) -- "How About a Twenty-Six" | 4599 |
| kjohnson3 | macOS 13.7.1 Ventura | arm64 | 4.5.0 RC (2025-04-04 r88126) -- "How About a Twenty-Six" | 4553 |
| kunpeng2 | Linux (openEuler 24.03 LTS) | aarch64 | R Under development (unstable) (2025-02-19 r87757) -- "Unsuffered Consequences" | 4570 |
| Click on any hostname to see more info about the system (e.g. compilers) (*) as reported by 'uname -p', except on Windows and Mac OS X | ||||
| Package 985/2341 | Hostname | OS / Arch | INSTALL | BUILD | CHECK | BUILD BIN | ||||||||
| hipathia 3.8.0 (landing page) Marta R. Hidalgo
| nebbiolo1 | Linux (Ubuntu 24.04.1 LTS) / x86_64 | OK | OK | OK | |||||||||
| palomino7 | Windows Server 2022 Datacenter / x64 | OK | OK | OK | OK | |||||||||
| lconway | macOS 12.7.1 Monterey / x86_64 | OK | OK | OK | OK | |||||||||
| kjohnson3 | macOS 13.7.1 Ventura / arm64 | OK | OK | OK | OK | |||||||||
| kunpeng2 | Linux (openEuler 24.03 LTS) / aarch64 | OK | OK | OK | ||||||||||
|
To the developers/maintainers of the hipathia package: - Allow up to 24 hours (and sometimes 48 hours) for your latest push to git@git.bioconductor.org:packages/hipathia.git to reflect on this report. See Troubleshooting Build Report for more information. - Use the following Renviron settings to reproduce errors and warnings. - If 'R CMD check' started to fail recently on the Linux builder(s) over a missing dependency, add the missing dependency to 'Suggests:' in your DESCRIPTION file. See Renviron.bioc for more information. |
| Package: hipathia |
| Version: 3.8.0 |
| Command: /Library/Frameworks/R.framework/Resources/bin/R CMD check --install=check:hipathia.install-out.txt --library=/Library/Frameworks/R.framework/Resources/library --no-vignettes --timings hipathia_3.8.0.tar.gz |
| StartedAt: 2025-04-21 19:49:49 -0400 (Mon, 21 Apr 2025) |
| EndedAt: 2025-04-21 19:55:27 -0400 (Mon, 21 Apr 2025) |
| EllapsedTime: 338.2 seconds |
| RetCode: 0 |
| Status: OK |
| CheckDir: hipathia.Rcheck |
| Warnings: 0 |
##############################################################################
##############################################################################
###
### Running command:
###
### /Library/Frameworks/R.framework/Resources/bin/R CMD check --install=check:hipathia.install-out.txt --library=/Library/Frameworks/R.framework/Resources/library --no-vignettes --timings hipathia_3.8.0.tar.gz
###
##############################################################################
##############################################################################
* using log directory ‘/Users/biocbuild/bbs-3.21-bioc/meat/hipathia.Rcheck’
* using R version 4.5.0 RC (2025-04-04 r88126)
* using platform: aarch64-apple-darwin20
* R was compiled by
Apple clang version 14.0.0 (clang-1400.0.29.202)
GNU Fortran (GCC) 14.2.0
* running under: macOS Ventura 13.7.1
* using session charset: UTF-8
* using option ‘--no-vignettes’
* checking for file ‘hipathia/DESCRIPTION’ ... OK
* this is package ‘hipathia’ version ‘3.8.0’
* package encoding: UTF-8
* checking package namespace information ... OK
* checking package dependencies ... OK
* checking if this is a source package ... OK
* checking if there is a namespace ... OK
* checking for hidden files and directories ... OK
* checking for portable file names ... OK
* checking for sufficient/correct file permissions ... OK
* checking whether package ‘hipathia’ can be installed ... OK
* checking installed package size ... INFO
installed size is 8.9Mb
sub-directories of 1Mb or more:
data 4.1Mb
extdata 4.4Mb
* checking package directory ... OK
* checking ‘build’ directory ... OK
* checking DESCRIPTION meta-information ... OK
* checking top-level files ... OK
* checking for left-over files ... OK
* checking index information ... OK
* checking package subdirectories ... OK
* checking code files for non-ASCII characters ... OK
* checking R files for syntax errors ... OK
* checking whether the package can be loaded ... OK
* checking whether the package can be loaded with stated dependencies ... OK
* checking whether the package can be unloaded cleanly ... OK
* checking whether the namespace can be loaded with stated dependencies ... OK
* checking whether the namespace can be unloaded cleanly ... OK
* checking dependencies in R code ... OK
* checking S3 generic/method consistency ... OK
* checking replacement functions ... OK
* checking foreign function calls ... OK
* checking R code for possible problems ... NOTE
DAreport: no visible binding for global variable ‘ID’
DAreport: no visible binding for global variable ‘FDRp.value’
DAtop : <anonymous>: no visible binding for global variable
‘FDRp.value’
DAtop : <anonymous>: no visible binding for global variable ‘statistic’
DAtop : <anonymous>: no visible binding for global variable ‘p.value’
DAtop : <anonymous>: no visible binding for global variable ‘name’
DAtop : <anonymous>: no visible binding for global variable ‘logPV’
DAtop : <anonymous>: no visible binding for global variable ‘feature’
DAtop: no visible binding for global variable ‘name’
DAtop: no visible binding for global variable ‘logPV’
DAtop: no visible binding for global variable ‘direction’
get_edges_df: no visible binding for global variable ‘from’
get_edges_df: no visible binding for global variable ‘to’
nsig_plot: no visible binding for global variable ‘total’
nsig_plot: no visible binding for global variable ‘UPs’
nsig_plot: no visible binding for global variable ‘DOWNs’
nsig_plot: no visible binding for global variable ‘feature’
nsig_plot: no visible binding for global variable ‘UP’
nsig_plot: no visible binding for global variable ‘DOWN’
nsig_plot: no visible binding for global variable ‘Not’
nsig_plot: no visible binding for global variable ‘value’
nsig_plot: no visible binding for global variable ‘variable’
prepare_DAedges: no visible binding for global variable ‘to’
prepare_DAedges: no visible binding for global variable ‘functional’
prepare_DAedges: no visible binding for global variable ‘status’
prepare_DAedges: no visible binding for global variable ‘type’
prepare_DAnodes : <anonymous>: no visible binding for global variable
‘ID’
prepare_DAnodes : <anonymous>: no visible binding for global variable
‘FDRp.value’
prepare_DAnodes : <anonymous>: no visible binding for global variable
‘statistic’
prepare_DAnodes : <anonymous>: no visible binding for global variable
‘p.value’
prepare_edges: no visible binding for global variable ‘to’
prepare_edges: no visible binding for global variable ‘functional’
summary_plot: no visible binding for global variable ‘total’
summary_plot: no visible binding for global variable ‘UPs’
summary_plot: no visible binding for global variable ‘DOWNs’
summary_plot: no visible binding for global variable ‘name’
summary_plot: no visible binding for global variable ‘UP’
summary_plot: no visible binding for global variable ‘DOWN’
summary_plot: no visible binding for global variable ‘Not’
summary_plot: no visible binding for global variable ‘value’
summary_plot: no visible binding for global variable ‘variable’
summary_plot: no visible binding for global variable ‘UP.nodes’
summary_plot: no visible binding for global variable ‘DOWN.nodes’
summary_plot: no visible binding for global variable ‘nodes’
summary_plot: no visible binding for global variable ‘ratio.sigs’
summary_plot: no visible binding for global variable ‘ratio.UPs’
summary_plot: no visible binding for global variable ‘ratio.DOWNs’
Undefined global functions or variables:
DOWN DOWN.nodes DOWNs FDRp.value ID Not UP UP.nodes UPs direction
feature from functional logPV name nodes p.value ratio.DOWNs
ratio.UPs ratio.sigs statistic status to total type value variable
* checking Rd files ... OK
* checking Rd metadata ... OK
* checking Rd cross-references ... OK
* checking for missing documentation entries ... OK
* checking for code/documentation mismatches ... OK
* checking Rd \usage sections ... OK
* checking Rd contents ... OK
* checking for unstated dependencies in examples ... OK
* checking contents of ‘data’ directory ... OK
* checking data for non-ASCII characters ... OK
* checking LazyData ... OK
* checking data for ASCII and uncompressed saves ... OK
* checking sizes of PDF files under ‘inst/doc’ ... OK
* checking files in ‘vignettes’ ... OK
* checking examples ... OK
Examples with CPU (user + system) or elapsed time > 5s
user system elapsed
quantify_terms 10.779 0.623 12.290
get_pathways_annotations 8.517 0.335 9.432
create_report 8.544 0.228 9.453
hipathia 7.791 0.215 8.242
visualize_report 7.507 0.234 8.062
node_color_per_de 7.202 0.227 7.653
normalize_data 7.219 0.204 7.700
load_pathways 7.199 0.213 7.631
pathway_comparison_plot 7.135 0.195 7.553
get_pathways_summary 7.122 0.190 7.833
node_color 7.119 0.185 7.730
get_path_names 6.989 0.203 7.581
normalize_paths 6.961 0.218 7.499
get_pathways_list 6.885 0.209 7.287
save_results 6.861 0.218 7.277
get_node_names 6.469 0.225 6.879
translate_data 6.109 0.155 6.567
* checking for unstated dependencies in ‘tests’ ... OK
* checking tests ...
Running ‘testthat.R’
OK
* checking for unstated dependencies in vignettes ... OK
* checking package vignettes ... OK
* checking running R code from vignettes ... SKIPPED
* checking re-building of vignette outputs ... SKIPPED
* checking PDF version of manual ... OK
* DONE
Status: 1 NOTE
See
‘/Users/biocbuild/bbs-3.21-bioc/meat/hipathia.Rcheck/00check.log’
for details.
hipathia.Rcheck/00install.out
############################################################################## ############################################################################## ### ### Running command: ### ### /Library/Frameworks/R.framework/Resources/bin/R CMD INSTALL hipathia ### ############################################################################## ############################################################################## * installing to library ‘/Library/Frameworks/R.framework/Versions/4.5-arm64/Resources/library’ * installing *source* package ‘hipathia’ ... ** this is package ‘hipathia’ version ‘3.8.0’ ** using staged installation ** R ** data *** moving datasets to lazyload DB ** inst ** byte-compile and prepare package for lazy loading ** help *** installing help indices ** building package indices ** installing vignettes ** testing if installed package can be loaded from temporary location ** testing if installed package can be loaded from final location ** testing if installed package keeps a record of temporary installation path * DONE (hipathia)
hipathia.Rcheck/tests/testthat.Rout
R version 4.5.0 RC (2025-04-04 r88126) -- "How About a Twenty-Six"
Copyright (C) 2025 The R Foundation for Statistical Computing
Platform: aarch64-apple-darwin20
R is free software and comes with ABSOLUTELY NO WARRANTY.
You are welcome to redistribute it under certain conditions.
Type 'license()' or 'licence()' for distribution details.
R is a collaborative project with many contributors.
Type 'contributors()' for more information and
'citation()' on how to cite R or R packages in publications.
Type 'demo()' for some demos, 'help()' for on-line help, or
'help.start()' for an HTML browser interface to help.
Type 'q()' to quit R.
> library(testthat)
> library(hipathia)
Loading required package: igraph
Attaching package: 'igraph'
The following object is masked from 'package:testthat':
compare
The following objects are masked from 'package:stats':
decompose, spectrum
The following object is masked from 'package:base':
union
Loading required package: AnnotationHub
Loading required package: BiocGenerics
Loading required package: generics
Attaching package: 'generics'
The following objects are masked from 'package:igraph':
components, union
The following objects are masked from 'package:base':
as.difftime, as.factor, as.ordered, intersect, is.element, setdiff,
setequal, union
Attaching package: 'BiocGenerics'
The following objects are masked from 'package:igraph':
normalize, path
The following objects are masked from 'package:stats':
IQR, mad, sd, var, xtabs
The following objects are masked from 'package:base':
Filter, Find, Map, Position, Reduce, anyDuplicated, aperm, append,
as.data.frame, basename, cbind, colnames, dirname, do.call,
duplicated, eval, evalq, get, grep, grepl, is.unsorted, lapply,
mapply, match, mget, order, paste, pmax, pmax.int, pmin, pmin.int,
rank, rbind, rownames, sapply, saveRDS, table, tapply, unique,
unsplit, which.max, which.min
Loading required package: BiocFileCache
Loading required package: dbplyr
Loading required package: MultiAssayExperiment
Loading required package: SummarizedExperiment
Loading required package: MatrixGenerics
Loading required package: matrixStats
Attaching package: 'MatrixGenerics'
The following objects are masked from 'package:matrixStats':
colAlls, colAnyNAs, colAnys, colAvgsPerRowSet, colCollapse,
colCounts, colCummaxs, colCummins, colCumprods, colCumsums,
colDiffs, colIQRDiffs, colIQRs, colLogSumExps, colMadDiffs,
colMads, colMaxs, colMeans2, colMedians, colMins, colOrderStats,
colProds, colQuantiles, colRanges, colRanks, colSdDiffs, colSds,
colSums2, colTabulates, colVarDiffs, colVars, colWeightedMads,
colWeightedMeans, colWeightedMedians, colWeightedSds,
colWeightedVars, rowAlls, rowAnyNAs, rowAnys, rowAvgsPerColSet,
rowCollapse, rowCounts, rowCummaxs, rowCummins, rowCumprods,
rowCumsums, rowDiffs, rowIQRDiffs, rowIQRs, rowLogSumExps,
rowMadDiffs, rowMads, rowMaxs, rowMeans2, rowMedians, rowMins,
rowOrderStats, rowProds, rowQuantiles, rowRanges, rowRanks,
rowSdDiffs, rowSds, rowSums2, rowTabulates, rowVarDiffs, rowVars,
rowWeightedMads, rowWeightedMeans, rowWeightedMedians,
rowWeightedSds, rowWeightedVars
Loading required package: GenomicRanges
Loading required package: stats4
Loading required package: S4Vectors
Attaching package: 'S4Vectors'
The following object is masked from 'package:utils':
findMatches
The following objects are masked from 'package:base':
I, expand.grid, unname
Loading required package: IRanges
Loading required package: GenomeInfoDb
Loading required package: Biobase
Welcome to Bioconductor
Vignettes contain introductory material; view with
'browseVignettes()'. To cite Bioconductor, see
'citation("Biobase")', and for packages 'citation("pkgname")'.
Attaching package: 'Biobase'
The following object is masked from 'package:MatrixGenerics':
rowMedians
The following objects are masked from 'package:matrixStats':
anyMissing, rowMedians
The following object is masked from 'package:AnnotationHub':
cache
>
> test_check("hipathia")
Computing pathway...
hsa03320 - PPAR signaling pathway
hsa04012 - ErbB signaling pathway
Computing pathway...
hsa03320 - PPAR signaling pathway
hsa04012 - ErbB signaling pathway
translated ids = 3184 (1)
untranslated ids = 3 (0.00094)
multihit ids = 0 (0)
[ FAIL 0 | WARN 1 | SKIP 0 | PASS 119 ]
[ FAIL 0 | WARN 1 | SKIP 0 | PASS 119 ]
>
> proc.time()
user system elapsed
94.320 3.540 102.325
hipathia.Rcheck/hipathia-Ex.timings
| name | user | system | elapsed | |
| DAcomp | 0.206 | 0.018 | 0.223 | |
| DAoverview | 0.104 | 0.005 | 0.109 | |
| DAreport | 0.539 | 0.022 | 0.569 | |
| DAsummary | 0.289 | 0.004 | 0.294 | |
| DAtop | 0.150 | 0.002 | 0.152 | |
| create_report | 8.544 | 0.228 | 9.453 | |
| define_colors | 0.000 | 0.001 | 0.000 | |
| do_pca | 0.013 | 0.001 | 0.014 | |
| do_wilcoxon | 0.018 | 0.003 | 0.022 | |
| get_go_names | 1.739 | 0.150 | 2.119 | |
| get_node_names | 6.469 | 0.225 | 6.879 | |
| get_nodes_data | 0.001 | 0.001 | 0.003 | |
| get_path_names | 6.989 | 0.203 | 7.581 | |
| get_paths_data | 0.002 | 0.001 | 0.003 | |
| get_pathways_annotations | 8.517 | 0.335 | 9.432 | |
| get_pathways_list | 6.885 | 0.209 | 7.287 | |
| get_pathways_summary | 7.122 | 0.190 | 7.833 | |
| heatmap_plot | 0.045 | 0.004 | 0.050 | |
| hhead | 0.001 | 0.000 | 0.001 | |
| hipathia | 7.791 | 0.215 | 8.242 | |
| load_pathways | 7.199 | 0.213 | 7.631 | |
| multiple_pca_plot | 0.009 | 0.002 | 0.011 | |
| node_color | 7.119 | 0.185 | 7.730 | |
| node_color_per_de | 7.202 | 0.227 | 7.653 | |
| normalize_data | 7.219 | 0.204 | 7.700 | |
| normalize_paths | 6.961 | 0.218 | 7.499 | |
| paths_to_go_ancestor | 0.059 | 0.005 | 0.064 | |
| pathway_comparison_plot | 7.135 | 0.195 | 7.553 | |
| pca_plot | 0.006 | 0.002 | 0.009 | |
| plotVG | 0.396 | 0.026 | 0.424 | |
| quantify_terms | 10.779 | 0.623 | 12.290 | |
| save_results | 6.861 | 0.218 | 7.277 | |
| top_pathways | 0.004 | 0.001 | 0.004 | |
| translate_data | 6.109 | 0.155 | 6.567 | |
| visualize_report | 7.507 | 0.234 | 8.062 | |