| Back to Multiple platform build/check report for BioC 3.21: simplified long |
|
This page was generated on 2025-10-16 11:38 -0400 (Thu, 16 Oct 2025).
| Hostname | OS | Arch (*) | R version | Installed pkgs |
|---|---|---|---|---|
| nebbiolo1 | Linux (Ubuntu 24.04.3 LTS) | x86_64 | 4.5.1 (2025-06-13) -- "Great Square Root" | 4833 |
| merida1 | macOS 12.7.6 Monterey | x86_64 | 4.5.1 RC (2025-06-05 r88288) -- "Great Square Root" | 4614 |
| kjohnson1 | macOS 13.7.5 Ventura | arm64 | 4.5.1 Patched (2025-06-14 r88325) -- "Great Square Root" | 4555 |
| kunpeng2 | Linux (openEuler 24.03 LTS) | aarch64 | R Under development (unstable) (2025-02-19 r87757) -- "Unsuffered Consequences" | 4586 |
| Click on any hostname to see more info about the system (e.g. compilers) (*) as reported by 'uname -p', except on Windows and Mac OS X | ||||
| Package 750/2341 | Hostname | OS / Arch | INSTALL | BUILD | CHECK | BUILD BIN | ||||||||
| flowMatch 1.44.0 (landing page) Ariful Azad
| nebbiolo1 | Linux (Ubuntu 24.04.3 LTS) / x86_64 | OK | OK | OK | |||||||||
| merida1 | macOS 12.7.6 Monterey / x86_64 | OK | OK | OK | OK | |||||||||
| kjohnson1 | macOS 13.7.5 Ventura / arm64 | OK | OK | OK | OK | |||||||||
| kunpeng2 | Linux (openEuler 24.03 LTS) / aarch64 | OK | OK | OK | ||||||||||
|
To the developers/maintainers of the flowMatch package: - Allow up to 24 hours (and sometimes 48 hours) for your latest push to git@git.bioconductor.org:packages/flowMatch.git to reflect on this report. See Troubleshooting Build Report for more information. - Use the following Renviron settings to reproduce errors and warnings. - If 'R CMD check' started to fail recently on the Linux builder(s) over a missing dependency, add the missing dependency to 'Suggests:' in your DESCRIPTION file. See Renviron.bioc for more information. |
| Package: flowMatch |
| Version: 1.44.0 |
| Command: /home/biocbuild/bbs-3.21-bioc/R/bin/R CMD check --install=check:flowMatch.install-out.txt --library=/home/biocbuild/bbs-3.21-bioc/R/site-library --timings flowMatch_1.44.0.tar.gz |
| StartedAt: 2025-10-15 23:19:01 -0400 (Wed, 15 Oct 2025) |
| EndedAt: 2025-10-15 23:20:46 -0400 (Wed, 15 Oct 2025) |
| EllapsedTime: 105.2 seconds |
| RetCode: 0 |
| Status: OK |
| CheckDir: flowMatch.Rcheck |
| Warnings: 0 |
##############################################################################
##############################################################################
###
### Running command:
###
### /home/biocbuild/bbs-3.21-bioc/R/bin/R CMD check --install=check:flowMatch.install-out.txt --library=/home/biocbuild/bbs-3.21-bioc/R/site-library --timings flowMatch_1.44.0.tar.gz
###
##############################################################################
##############################################################################
* using log directory ‘/home/biocbuild/bbs-3.21-bioc/meat/flowMatch.Rcheck’
* using R version 4.5.1 (2025-06-13)
* using platform: x86_64-pc-linux-gnu
* R was compiled by
gcc (Ubuntu 13.3.0-6ubuntu2~24.04) 13.3.0
GNU Fortran (Ubuntu 13.3.0-6ubuntu2~24.04) 13.3.0
* running under: Ubuntu 24.04.3 LTS
* using session charset: UTF-8
* checking for file ‘flowMatch/DESCRIPTION’ ... OK
* checking extension type ... Package
* this is package ‘flowMatch’ version ‘1.44.0’
* checking package namespace information ... OK
* checking package dependencies ... OK
* checking if this is a source package ... OK
* checking if there is a namespace ... OK
* checking for hidden files and directories ... OK
* checking for portable file names ... OK
* checking for sufficient/correct file permissions ... OK
* checking whether package ‘flowMatch’ can be installed ... OK
* used C++ compiler: ‘g++ (Ubuntu 13.3.0-6ubuntu2~24.04) 13.3.0’
* checking installed package size ... OK
* checking package directory ... OK
* checking ‘build’ directory ... OK
* checking DESCRIPTION meta-information ... OK
* checking top-level files ... OK
* checking for left-over files ... OK
* checking index information ... OK
* checking package subdirectories ... OK
* checking code files for non-ASCII characters ... OK
* checking R files for syntax errors ... OK
* checking whether the package can be loaded ... OK
* checking whether the package can be loaded with stated dependencies ... OK
* checking whether the package can be unloaded cleanly ... OK
* checking whether the namespace can be loaded with stated dependencies ... OK
* checking whether the namespace can be unloaded cleanly ... OK
* checking loading without being on the library search path ... OK
* checking dependencies in R code ... OK
* checking S3 generic/method consistency ... OK
* checking replacement functions ... OK
* checking foreign function calls ... OK
* checking R code for possible problems ... NOTE
ClusteredSample: no visible global function definition for ‘cov’
ellipse: no visible global function definition for ‘qchisq’
ellipse: no visible global function definition for ‘lines’
limitcalc: no visible global function definition for ‘qchisq’
plot.cluster.contours: no visible global function definition for ‘par’
plot.cluster.contours: no visible global function definition for
‘plot.new’
plot.cluster.contours: no visible global function definition for
‘mtext’
template.tree,Template: no visible global function definition for
‘as.dendrogram’
Undefined global functions or variables:
as.dendrogram cov lines mtext par plot.new qchisq
Consider adding
importFrom("graphics", "lines", "mtext", "par", "plot.new")
importFrom("stats", "as.dendrogram", "cov", "qchisq")
to your NAMESPACE file.
* checking Rd files ... NOTE
checkRd: (-1) ClusteredSample-class.Rd:32: Lost braces
32 | \item{\code{labels } {A vector of integers (from \code{1:num.clusters}) indicating the cluster to which each point is allocated. This is usually obtained from a clustering algorithm.}}
| ^
checkRd: (-1) ClusteredSample-class.Rd:33: Lost braces
33 | \item{\code{centers } {A list of length \code{num.clusters} storing the centers of the clusters. The ith entry of the list \code{centers[[i]]} stores the center of the ith cluster. If not specified, the constructor estimates \code{centers} from \code{sample}.}}
| ^
checkRd: (-1) ClusteredSample-class.Rd:34: Lost braces
34 | \item{\code{covs } {A list of length \code{num.clusters} storing the covariance matrices of the clusters. The ith entry of the list \code{cov[[i]]} stores the covariance matrix of the ith cluster. If not specified, the constructor estimates \code{cov} from \code{sample}.}}
| ^
checkRd: (-1) ClusteredSample-class.Rd:35: Lost braces
35 | \item \code{sample } {A matrix, data frame of observations, or object of class \code{flowFrame}. Rows correspond to observations and columns correspond to variables. It must be passed to the constructor if either \code{centers} or \code{cov} is unspecified; then \code{centers} or \code{cov} is estimated from \code{sample}.}
| ^
checkRd: (-1) ClusteredSample-class.Rd:36: Lost braces in \itemize; meant \describe ?
checkRd: (-1) ClusteredSample-class.Rd:95: Lost braces
95 | \item{\code{sample: } {A matrix, data.frame or an object of class \code{flowFrame} representing an FC sample.}}
| ^
checkRd: (-1) ClusteredSample-class.Rd:96: Lost braces
96 | \item{\code{ClusteredSample: } { An object of class \code{ClusteredSample} storing the clustering of the sample.}}
| ^
checkRd: (-1) ClusteredSample-class.Rd:97: Lost braces; missing escapes or markup?
97 | \item{\code{... } {Other usual plotting related parameters.}}
| ^
checkRd: (-1) MetaCluster-class.Rd:87: Lost braces
87 | \item{\code{mc } {An object of class \code{MetaCluster} for which the plot function is invoked.}}
| ^
checkRd: (-1) MetaCluster-class.Rd:88: Lost braces; missing escapes or markup?
88 | \item{\code{alpha } { (1-alpha)*100\% quantile of the distribution of the clusters or meta-cluster is plotted.}}
| ^
checkRd: (-1) MetaCluster-class.Rd:89: Lost braces; missing escapes or markup?
89 | \item{\code{plot.mc } { TRUE/FALSE, when TRUE the functions draws contour of the combined meta-cluster and when FALSE the function draws the contours of the individual clusters.}}
| ^
checkRd: (-1) MetaCluster-class.Rd:90: Lost braces; missing escapes or markup?
90 | \item{\code{... } {Other usual plotting related parameters.}}
| ^
checkRd: (-1) Template-class.Rd:35: Lost braces in \itemize; meant \describe ?
checkRd: (-1) Template-class.Rd:36: Lost braces in \itemize; meant \describe ?
checkRd: (-1) Template-class.Rd:37: Lost braces in \itemize; meant \describe ?
checkRd: (-1) Template-class.Rd:38: Lost braces in \itemize; meant \describe ?
checkRd: (-1) Template-class.Rd:95: Lost braces in \itemize; meant \describe ?
checkRd: (-1) Template-class.Rd:96: Lost braces in \itemize; meant \describe ?
checkRd: (-1) Template-class.Rd:97: Lost braces in \itemize; meant \describe ?
checkRd: (-1) Template-class.Rd:98: Lost braces in \itemize; meant \describe ?
checkRd: (-1) Template-class.Rd:99: Lost braces in \itemize; meant \describe ?
checkRd: (-1) Template-class.Rd:101: Lost braces in \itemize; meant \describe ?
* checking Rd metadata ... OK
* checking Rd cross-references ... OK
* checking for missing documentation entries ... OK
* checking for code/documentation mismatches ... OK
* checking Rd \usage sections ... OK
* checking Rd contents ... OK
* checking for unstated dependencies in examples ... OK
* checking line endings in C/C++/Fortran sources/headers ... OK
* checking line endings in Makefiles ... OK
* checking compilation flags in Makevars ... OK
* checking for GNU extensions in Makefiles ... OK
* checking for portable use of $(BLAS_LIBS) and $(LAPACK_LIBS) ... OK
* checking use of PKG_*FLAGS in Makefiles ... OK
* checking compiled code ... NOTE
Note: information on .o files is not available
* checking files in ‘vignettes’ ... OK
* checking examples ... OK
Examples with CPU (user + system) or elapsed time > 5s
user system elapsed
create.template 7.050 0.035 7.158
Template-class 6.705 0.026 6.732
MetaCluster-class 5.720 0.027 5.747
flowMatch-package 5.641 0.011 5.652
template.tree 5.463 0.011 5.476
* checking for unstated dependencies in vignettes ... OK
* checking package vignettes ... OK
* checking re-building of vignette outputs ... OK
* checking PDF version of manual ... OK
* DONE
Status: 3 NOTEs
See
‘/home/biocbuild/bbs-3.21-bioc/meat/flowMatch.Rcheck/00check.log’
for details.
flowMatch.Rcheck/00install.out
##############################################################################
##############################################################################
###
### Running command:
###
### /home/biocbuild/bbs-3.21-bioc/R/bin/R CMD INSTALL flowMatch
###
##############################################################################
##############################################################################
* installing to library ‘/home/biocbuild/bbs-3.21-bioc/R/site-library’
* installing *source* package ‘flowMatch’ ...
** this is package ‘flowMatch’ version ‘1.44.0’
** using staged installation
** libs
using C++ compiler: ‘g++ (Ubuntu 13.3.0-6ubuntu2~24.04) 13.3.0’
g++ -std=gnu++17 -I"/home/biocbuild/bbs-3.21-bioc/R/include" -DNDEBUG -I'/home/biocbuild/bbs-3.21-bioc/R/site-library/Rcpp/include' -I/usr/local/include -fpic -g -O2 -Wall -Werror=format-security -c BipartiteGraph.cpp -o BipartiteGraph.o
g++ -std=gnu++17 -I"/home/biocbuild/bbs-3.21-bioc/R/include" -DNDEBUG -I'/home/biocbuild/bbs-3.21-bioc/R/site-library/Rcpp/include' -I/usr/local/include -fpic -g -O2 -Wall -Werror=format-security -c MinWghtEdgCoverBipartite.cpp -o MinWghtEdgCoverBipartite.o
MinWghtEdgCoverBipartite.cpp: In function ‘void update_height(mclust&, std::vector<std::vector<templatePair> >, std::vector<std::vector<BipartiteGraph> >, double)’:
MinWghtEdgCoverBipartite.cpp:271:23: warning: comparison of integer expressions of different signedness: ‘int’ and ‘std::vector<double>::size_type’ {aka ‘long unsigned int’} [-Wsign-compare]
271 | for(int i=0; i<tree.height.size(); i++)
| ~^~~~~~~~~~~~~~~~~~~
MinWghtEdgCoverBipartite.cpp: In function ‘void computeDegConsistencyNew(std::vector<std::vector<templatePair> >&, std::vector<std::vector<BipartiteGraph> >&, double, double)’:
MinWghtEdgCoverBipartite.cpp:487:45: warning: variable ‘delta_cx_cy’ set but not used [-Wunused-but-set-variable]
487 | int delta_cx_cy = 0;
| ^~~~~~~~~~~
g++ -std=gnu++17 -I"/home/biocbuild/bbs-3.21-bioc/R/include" -DNDEBUG -I'/home/biocbuild/bbs-3.21-bioc/R/site-library/Rcpp/include' -I/usr/local/include -fpic -g -O2 -Wall -Werror=format-security -c flowMatch.cpp -o flowMatch.o
flowMatch.cpp: In function ‘Rcpp::List computeMEC(Rcpp::NumericMatrix, double)’:
flowMatch.cpp:43:23: warning: comparison of integer expressions of different signedness: ‘int’ and ‘std::vector<std::vector<int> >::size_type’ {aka ‘long unsigned int’} [-Wsign-compare]
43 | for(int i=0; i<mec.sCoverVecVec.size(); i++)
| ~^~~~~~~~~~~~~~~~~~~~~~~~
flowMatch.cpp:45:31: warning: comparison of integer expressions of different signedness: ‘int’ and ‘std::vector<int>::size_type’ {aka ‘long unsigned int’} [-Wsign-compare]
45 | for(int j=0; j<mec.sCoverVecVec[i].size(); j++)
| ~^~~~~~~~~~~~~~~~~~~~~~~~~~~
flowMatch.cpp:53:23: warning: comparison of integer expressions of different signedness: ‘int’ and ‘std::vector<std::vector<int> >::size_type’ {aka ‘long unsigned int’} [-Wsign-compare]
53 | for(int i=0; i<mec.tCoverVecVec.size(); i++)
| ~^~~~~~~~~~~~~~~~~~~~~~~~
flowMatch.cpp:55:31: warning: comparison of integer expressions of different signedness: ‘int’ and ‘std::vector<int>::size_type’ {aka ‘long unsigned int’} [-Wsign-compare]
55 | for(int j=0; j<mec.tCoverVecVec[i].size(); j++)
| ~^~~~~~~~~~~~~~~~~~~~~~~~~~~
g++ -std=gnu++17 -shared -L/home/biocbuild/bbs-3.21-bioc/R/lib -L/usr/local/lib -o flowMatch.so BipartiteGraph.o MinWghtEdgCoverBipartite.o flowMatch.o -L/home/biocbuild/bbs-3.21-bioc/R/lib -lR
installing to /home/biocbuild/bbs-3.21-bioc/R/site-library/00LOCK-flowMatch/00new/flowMatch/libs
** R
** byte-compile and prepare package for lazy loading
** help
*** installing help indices
** building package indices
** installing vignettes
** testing if installed package can be loaded from temporary location
** checking absolute paths in shared objects and dynamic libraries
** testing if installed package can be loaded from final location
** testing if installed package keeps a record of temporary installation path
* DONE (flowMatch)
flowMatch.Rcheck/flowMatch-Ex.timings
| name | user | system | elapsed | |
| Cluster-class | 0.417 | 0.024 | 0.444 | |
| ClusterMatch-class | 3.397 | 0.029 | 3.426 | |
| ClusteredSample-class | 0.877 | 0.103 | 0.980 | |
| MetaCluster-class | 5.720 | 0.027 | 5.747 | |
| Template-class | 6.705 | 0.026 | 6.732 | |
| create.template | 7.050 | 0.035 | 7.158 | |
| dist.cluster | 0.393 | 0.005 | 0.398 | |
| dist.matrix | 0.650 | 0.010 | 0.659 | |
| dist.sample | 0.809 | 0.007 | 0.817 | |
| dist.template | 2.534 | 0.008 | 2.542 | |
| flowMatch-package | 5.641 | 0.011 | 5.652 | |
| mahalanobis.dist | 0.391 | 0.004 | 0.395 | |
| match.clusters | 3.297 | 0.006 | 3.302 | |
| symmetric.KL | 0.392 | 0.004 | 0.397 | |
| template.tree | 5.463 | 0.011 | 5.476 | |