| Back to Multiple platform build/check report for BioC 3.21: simplified long |
|
This page was generated on 2025-10-16 11:39 -0400 (Thu, 16 Oct 2025).
| Hostname | OS | Arch (*) | R version | Installed pkgs |
|---|---|---|---|---|
| nebbiolo1 | Linux (Ubuntu 24.04.3 LTS) | x86_64 | 4.5.1 (2025-06-13) -- "Great Square Root" | 4833 |
| merida1 | macOS 12.7.6 Monterey | x86_64 | 4.5.1 RC (2025-06-05 r88288) -- "Great Square Root" | 4614 |
| kjohnson1 | macOS 13.7.5 Ventura | arm64 | 4.5.1 Patched (2025-06-14 r88325) -- "Great Square Root" | 4555 |
| kunpeng2 | Linux (openEuler 24.03 LTS) | aarch64 | R Under development (unstable) (2025-02-19 r87757) -- "Unsuffered Consequences" | 4586 |
| Click on any hostname to see more info about the system (e.g. compilers) (*) as reported by 'uname -p', except on Windows and Mac OS X | ||||
| Package 750/2341 | Hostname | OS / Arch | INSTALL | BUILD | CHECK | BUILD BIN | ||||||||
| flowMatch 1.44.0 (landing page) Ariful Azad
| nebbiolo1 | Linux (Ubuntu 24.04.3 LTS) / x86_64 | OK | OK | OK | |||||||||
| merida1 | macOS 12.7.6 Monterey / x86_64 | OK | OK | OK | OK | |||||||||
| kjohnson1 | macOS 13.7.5 Ventura / arm64 | OK | OK | OK | OK | |||||||||
| kunpeng2 | Linux (openEuler 24.03 LTS) / aarch64 | OK | OK | OK | ||||||||||
|
To the developers/maintainers of the flowMatch package: - Allow up to 24 hours (and sometimes 48 hours) for your latest push to git@git.bioconductor.org:packages/flowMatch.git to reflect on this report. See Troubleshooting Build Report for more information. - Use the following Renviron settings to reproduce errors and warnings. - If 'R CMD check' started to fail recently on the Linux builder(s) over a missing dependency, add the missing dependency to 'Suggests:' in your DESCRIPTION file. See Renviron.bioc for more information. |
| Package: flowMatch |
| Version: 1.44.0 |
| Command: /Library/Frameworks/R.framework/Resources/bin/R CMD check --install=check:flowMatch.install-out.txt --library=/Library/Frameworks/R.framework/Resources/library --no-vignettes --timings flowMatch_1.44.0.tar.gz |
| StartedAt: 2025-10-14 03:55:17 -0400 (Tue, 14 Oct 2025) |
| EndedAt: 2025-10-14 03:58:27 -0400 (Tue, 14 Oct 2025) |
| EllapsedTime: 190.5 seconds |
| RetCode: 0 |
| Status: OK |
| CheckDir: flowMatch.Rcheck |
| Warnings: 0 |
##############################################################################
##############################################################################
###
### Running command:
###
### /Library/Frameworks/R.framework/Resources/bin/R CMD check --install=check:flowMatch.install-out.txt --library=/Library/Frameworks/R.framework/Resources/library --no-vignettes --timings flowMatch_1.44.0.tar.gz
###
##############################################################################
##############################################################################
* using log directory ‘/Users/biocbuild/bbs-3.21-bioc/meat/flowMatch.Rcheck’
* using R version 4.5.1 RC (2025-06-05 r88288)
* using platform: x86_64-apple-darwin20
* R was compiled by
Apple clang version 14.0.0 (clang-1400.0.29.202)
GNU Fortran (GCC) 14.2.0
* running under: macOS Monterey 12.7.6
* using session charset: UTF-8
* using option ‘--no-vignettes’
* checking for file ‘flowMatch/DESCRIPTION’ ... OK
* checking extension type ... Package
* this is package ‘flowMatch’ version ‘1.44.0’
* checking package namespace information ... OK
* checking package dependencies ... OK
* checking if this is a source package ... OK
* checking if there is a namespace ... OK
* checking for hidden files and directories ... OK
* checking for portable file names ... OK
* checking for sufficient/correct file permissions ... OK
* checking whether package ‘flowMatch’ can be installed ... OK
* used C++ compiler: ‘Apple clang version 14.0.0 (clang-1400.0.29.202)’
* used SDK: ‘MacOSX11.3.sdk’
* checking installed package size ... OK
* checking package directory ... OK
* checking ‘build’ directory ... OK
* checking DESCRIPTION meta-information ... OK
* checking top-level files ... OK
* checking for left-over files ... OK
* checking index information ... OK
* checking package subdirectories ... OK
* checking code files for non-ASCII characters ... OK
* checking R files for syntax errors ... OK
* checking whether the package can be loaded ... OK
* checking whether the package can be loaded with stated dependencies ... OK
* checking whether the package can be unloaded cleanly ... OK
* checking whether the namespace can be loaded with stated dependencies ... OK
* checking whether the namespace can be unloaded cleanly ... OK
* checking dependencies in R code ... OK
* checking S3 generic/method consistency ... OK
* checking replacement functions ... OK
* checking foreign function calls ... OK
* checking R code for possible problems ... NOTE
ClusteredSample: no visible global function definition for ‘cov’
ellipse: no visible global function definition for ‘qchisq’
ellipse: no visible global function definition for ‘lines’
limitcalc: no visible global function definition for ‘qchisq’
plot.cluster.contours: no visible global function definition for ‘par’
plot.cluster.contours: no visible global function definition for
‘plot.new’
plot.cluster.contours: no visible global function definition for
‘mtext’
template.tree,Template: no visible global function definition for
‘as.dendrogram’
Undefined global functions or variables:
as.dendrogram cov lines mtext par plot.new qchisq
Consider adding
importFrom("graphics", "lines", "mtext", "par", "plot.new")
importFrom("stats", "as.dendrogram", "cov", "qchisq")
to your NAMESPACE file.
* checking Rd files ... NOTE
checkRd: (-1) ClusteredSample-class.Rd:32: Lost braces
32 | \item{\code{labels } {A vector of integers (from \code{1:num.clusters}) indicating the cluster to which each point is allocated. This is usually obtained from a clustering algorithm.}}
| ^
checkRd: (-1) ClusteredSample-class.Rd:33: Lost braces
33 | \item{\code{centers } {A list of length \code{num.clusters} storing the centers of the clusters. The ith entry of the list \code{centers[[i]]} stores the center of the ith cluster. If not specified, the constructor estimates \code{centers} from \code{sample}.}}
| ^
checkRd: (-1) ClusteredSample-class.Rd:34: Lost braces
34 | \item{\code{covs } {A list of length \code{num.clusters} storing the covariance matrices of the clusters. The ith entry of the list \code{cov[[i]]} stores the covariance matrix of the ith cluster. If not specified, the constructor estimates \code{cov} from \code{sample}.}}
| ^
checkRd: (-1) ClusteredSample-class.Rd:35: Lost braces
35 | \item \code{sample } {A matrix, data frame of observations, or object of class \code{flowFrame}. Rows correspond to observations and columns correspond to variables. It must be passed to the constructor if either \code{centers} or \code{cov} is unspecified; then \code{centers} or \code{cov} is estimated from \code{sample}.}
| ^
checkRd: (-1) ClusteredSample-class.Rd:36: Lost braces in \itemize; meant \describe ?
checkRd: (-1) ClusteredSample-class.Rd:95: Lost braces
95 | \item{\code{sample: } {A matrix, data.frame or an object of class \code{flowFrame} representing an FC sample.}}
| ^
checkRd: (-1) ClusteredSample-class.Rd:96: Lost braces
96 | \item{\code{ClusteredSample: } { An object of class \code{ClusteredSample} storing the clustering of the sample.}}
| ^
checkRd: (-1) ClusteredSample-class.Rd:97: Lost braces; missing escapes or markup?
97 | \item{\code{... } {Other usual plotting related parameters.}}
| ^
checkRd: (-1) MetaCluster-class.Rd:87: Lost braces
87 | \item{\code{mc } {An object of class \code{MetaCluster} for which the plot function is invoked.}}
| ^
checkRd: (-1) MetaCluster-class.Rd:88: Lost braces; missing escapes or markup?
88 | \item{\code{alpha } { (1-alpha)*100\% quantile of the distribution of the clusters or meta-cluster is plotted.}}
| ^
checkRd: (-1) MetaCluster-class.Rd:89: Lost braces; missing escapes or markup?
89 | \item{\code{plot.mc } { TRUE/FALSE, when TRUE the functions draws contour of the combined meta-cluster and when FALSE the function draws the contours of the individual clusters.}}
| ^
checkRd: (-1) MetaCluster-class.Rd:90: Lost braces; missing escapes or markup?
90 | \item{\code{... } {Other usual plotting related parameters.}}
| ^
checkRd: (-1) Template-class.Rd:35: Lost braces in \itemize; meant \describe ?
checkRd: (-1) Template-class.Rd:36: Lost braces in \itemize; meant \describe ?
checkRd: (-1) Template-class.Rd:37: Lost braces in \itemize; meant \describe ?
checkRd: (-1) Template-class.Rd:38: Lost braces in \itemize; meant \describe ?
checkRd: (-1) Template-class.Rd:95: Lost braces in \itemize; meant \describe ?
checkRd: (-1) Template-class.Rd:96: Lost braces in \itemize; meant \describe ?
checkRd: (-1) Template-class.Rd:97: Lost braces in \itemize; meant \describe ?
checkRd: (-1) Template-class.Rd:98: Lost braces in \itemize; meant \describe ?
checkRd: (-1) Template-class.Rd:99: Lost braces in \itemize; meant \describe ?
checkRd: (-1) Template-class.Rd:101: Lost braces in \itemize; meant \describe ?
* checking Rd metadata ... OK
* checking Rd cross-references ... OK
* checking for missing documentation entries ... OK
* checking for code/documentation mismatches ... OK
* checking Rd \usage sections ... OK
* checking Rd contents ... OK
* checking for unstated dependencies in examples ... OK
* checking line endings in C/C++/Fortran sources/headers ... OK
* checking line endings in Makefiles ... OK
* checking compilation flags in Makevars ... OK
* checking for GNU extensions in Makefiles ... OK
* checking for portable use of $(BLAS_LIBS) and $(LAPACK_LIBS) ... OK
* checking use of PKG_*FLAGS in Makefiles ... OK
* checking compiled code ... NOTE
Note: information on .o files is not available
* checking sizes of PDF files under ‘inst/doc’ ... OK
* checking files in ‘vignettes’ ... OK
* checking examples ... OK
Examples with CPU (user + system) or elapsed time > 5s
user system elapsed
create.template 12.182 0.277 13.078
Template-class 11.749 0.270 13.073
flowMatch-package 9.604 0.191 10.985
MetaCluster-class 9.456 0.207 10.234
template.tree 8.898 0.134 9.472
ClusterMatch-class 5.120 0.123 5.653
match.clusters 5.086 0.072 5.593
* checking for unstated dependencies in vignettes ... OK
* checking package vignettes ... OK
* checking running R code from vignettes ... SKIPPED
* checking re-building of vignette outputs ... SKIPPED
* checking PDF version of manual ... OK
* DONE
Status: 3 NOTEs
See
‘/Users/biocbuild/bbs-3.21-bioc/meat/flowMatch.Rcheck/00check.log’
for details.
flowMatch.Rcheck/00install.out
##############################################################################
##############################################################################
###
### Running command:
###
### /Library/Frameworks/R.framework/Resources/bin/R CMD INSTALL flowMatch
###
##############################################################################
##############################################################################
* installing to library ‘/Library/Frameworks/R.framework/Versions/4.5-x86_64/Resources/library’
* installing *source* package ‘flowMatch’ ...
** this is package ‘flowMatch’ version ‘1.44.0’
** using staged installation
** libs
using C++ compiler: ‘Apple clang version 14.0.0 (clang-1400.0.29.202)’
using SDK: ‘MacOSX11.3.sdk’
clang++ -arch x86_64 -std=gnu++17 -I"/Library/Frameworks/R.framework/Resources/include" -DNDEBUG -I'/Library/Frameworks/R.framework/Versions/4.5-x86_64/Resources/library/Rcpp/include' -I/opt/R/x86_64/include -fPIC -falign-functions=64 -Wall -g -O2 -c BipartiteGraph.cpp -o BipartiteGraph.o
clang++ -arch x86_64 -std=gnu++17 -I"/Library/Frameworks/R.framework/Resources/include" -DNDEBUG -I'/Library/Frameworks/R.framework/Versions/4.5-x86_64/Resources/library/Rcpp/include' -I/opt/R/x86_64/include -fPIC -falign-functions=64 -Wall -g -O2 -c MinWghtEdgCoverBipartite.cpp -o MinWghtEdgCoverBipartite.o
MinWghtEdgCoverBipartite.cpp:487:10: warning: variable 'delta_cx_cy' set but not used [-Wunused-but-set-variable]
int delta_cx_cy = 0;
^
1 warning generated.
clang++ -arch x86_64 -std=gnu++17 -I"/Library/Frameworks/R.framework/Resources/include" -DNDEBUG -I'/Library/Frameworks/R.framework/Versions/4.5-x86_64/Resources/library/Rcpp/include' -I/opt/R/x86_64/include -fPIC -falign-functions=64 -Wall -g -O2 -c flowMatch.cpp -o flowMatch.o
clang++ -arch x86_64 -std=gnu++17 -dynamiclib -Wl,-headerpad_max_install_names -undefined dynamic_lookup -L/Library/Frameworks/R.framework/Resources/lib -L/opt/R/x86_64/lib -o flowMatch.so BipartiteGraph.o MinWghtEdgCoverBipartite.o flowMatch.o -F/Library/Frameworks/R.framework/.. -framework R
installing to /Library/Frameworks/R.framework/Versions/4.5-x86_64/Resources/library/00LOCK-flowMatch/00new/flowMatch/libs
** R
** byte-compile and prepare package for lazy loading
** help
*** installing help indices
** building package indices
** installing vignettes
** testing if installed package can be loaded from temporary location
** checking absolute paths in shared objects and dynamic libraries
** testing if installed package can be loaded from final location
** testing if installed package keeps a record of temporary installation path
* DONE (flowMatch)
flowMatch.Rcheck/flowMatch-Ex.timings
| name | user | system | elapsed | |
| Cluster-class | 0.622 | 0.050 | 0.733 | |
| ClusterMatch-class | 5.120 | 0.123 | 5.653 | |
| ClusteredSample-class | 1.474 | 0.407 | 2.058 | |
| MetaCluster-class | 9.456 | 0.207 | 10.234 | |
| Template-class | 11.749 | 0.270 | 13.073 | |
| create.template | 12.182 | 0.277 | 13.078 | |
| dist.cluster | 0.580 | 0.015 | 0.619 | |
| dist.matrix | 0.967 | 0.021 | 1.048 | |
| dist.sample | 1.142 | 0.025 | 1.212 | |
| dist.template | 3.935 | 0.059 | 4.173 | |
| flowMatch-package | 9.604 | 0.191 | 10.985 | |
| mahalanobis.dist | 0.585 | 0.014 | 0.662 | |
| match.clusters | 5.086 | 0.072 | 5.593 | |
| symmetric.KL | 0.580 | 0.017 | 0.638 | |
| template.tree | 8.898 | 0.134 | 9.472 | |