| Back to Multiple platform build/check report for BioC 3.22: simplified long |
|
This page was generated on 2025-10-24 12:07 -0400 (Fri, 24 Oct 2025).
| Hostname | OS | Arch (*) | R version | Installed pkgs |
|---|---|---|---|---|
| nebbiolo2 | Linux (Ubuntu 24.04.3 LTS) | x86_64 | 4.5.1 Patched (2025-08-23 r88802) -- "Great Square Root" | 4898 |
| lconway | macOS 12.7.6 Monterey | x86_64 | 4.5.1 Patched (2025-09-10 r88807) -- "Great Square Root" | 4688 |
| kjohnson3 | macOS 13.7.7 Ventura | arm64 | 4.5.1 Patched (2025-09-10 r88807) -- "Great Square Root" | 4634 |
| taishan | Linux (openEuler 24.03 LTS) | aarch64 | 4.5.0 (2025-04-11) -- "How About a Twenty-Six" | 4658 |
| Click on any hostname to see more info about the system (e.g. compilers) (*) as reported by 'uname -p', except on Windows and Mac OS X | ||||
| Package 421/2359 | Hostname | OS / Arch | INSTALL | BUILD | CHECK | BUILD BIN | ||||||||
| cogeqc 1.13.0 (landing page) Fabrício Almeida-Silva
| nebbiolo2 | Linux (Ubuntu 24.04.3 LTS) / x86_64 | OK | OK | OK | |||||||||
| lconway | macOS 12.7.6 Monterey / x86_64 | OK | OK | OK | OK | |||||||||
| kjohnson3 | macOS 13.7.7 Ventura / arm64 | OK | OK | OK | OK | |||||||||
| taishan | Linux (openEuler 24.03 LTS) / aarch64 | OK | OK | ERROR | ||||||||||
|
To the developers/maintainers of the cogeqc package: - Allow up to 24 hours (and sometimes 48 hours) for your latest push to git@git.bioconductor.org:packages/cogeqc.git to reflect on this report. See Troubleshooting Build Report for more information. - Use the following Renviron settings to reproduce errors and warnings. - If 'R CMD check' started to fail recently on the Linux builder(s) over a missing dependency, add the missing dependency to 'Suggests:' in your DESCRIPTION file. See Renviron.bioc for more information. - See Martin Grigorov's blog post for how to debug Linux ARM64 related issues on a x86_64 host. |
| Package: cogeqc |
| Version: 1.13.0 |
| Command: /home/biocbuild/R/R/bin/R CMD check --install=check:cogeqc.install-out.txt --library=/home/biocbuild/R/R/site-library --no-vignettes --timings cogeqc_1.13.0.tar.gz |
| StartedAt: 2025-10-21 06:42:31 -0000 (Tue, 21 Oct 2025) |
| EndedAt: 2025-10-21 06:48:05 -0000 (Tue, 21 Oct 2025) |
| EllapsedTime: 334.2 seconds |
| RetCode: 1 |
| Status: ERROR |
| CheckDir: cogeqc.Rcheck |
| Warnings: NA |
##############################################################################
##############################################################################
###
### Running command:
###
### /home/biocbuild/R/R/bin/R CMD check --install=check:cogeqc.install-out.txt --library=/home/biocbuild/R/R/site-library --no-vignettes --timings cogeqc_1.13.0.tar.gz
###
##############################################################################
##############################################################################
* using log directory ‘/home/biocbuild/bbs-3.22-bioc/meat/cogeqc.Rcheck’
* using R version 4.5.0 (2025-04-11)
* using platform: aarch64-unknown-linux-gnu
* R was compiled by
aarch64-unknown-linux-gnu-gcc (GCC) 14.2.0
GNU Fortran (GCC) 14.2.0
* running under: openEuler 24.03 (LTS)
* using session charset: UTF-8
* using option ‘--no-vignettes’
* checking for file ‘cogeqc/DESCRIPTION’ ... OK
* this is package ‘cogeqc’ version ‘1.13.0’
* package encoding: UTF-8
* checking package namespace information ... OK
* checking package dependencies ... OK
* checking if this is a source package ... OK
* checking if there is a namespace ... OK
* checking for hidden files and directories ... OK
* checking for portable file names ... OK
* checking for sufficient/correct file permissions ... OK
* checking whether package ‘cogeqc’ can be installed ... OK
* checking installed package size ... OK
* checking package directory ... OK
* checking ‘build’ directory ... OK
* checking DESCRIPTION meta-information ... OK
* checking top-level files ... OK
* checking for left-over files ... OK
* checking index information ... OK
* checking package subdirectories ... OK
* checking code files for non-ASCII characters ... OK
* checking R files for syntax errors ... OK
* checking whether the package can be loaded ... OK
* checking whether the package can be loaded with stated dependencies ... OK
* checking whether the package can be unloaded cleanly ... OK
* checking whether the namespace can be loaded with stated dependencies ... OK
* checking whether the namespace can be unloaded cleanly ... OK
* checking loading without being on the library search path ... OK
* checking dependencies in R code ... OK
* checking S3 generic/method consistency ... OK
* checking replacement functions ... OK
* checking foreign function calls ... OK
* checking R code for possible problems ... OK
* checking Rd files ... OK
* checking Rd metadata ... OK
* checking Rd cross-references ... OK
* checking for missing documentation entries ... OK
* checking for code/documentation mismatches ... OK
* checking Rd \usage sections ... OK
* checking Rd contents ... OK
* checking for unstated dependencies in examples ... OK
* checking contents of ‘data’ directory ... OK
* checking data for non-ASCII characters ... OK
* checking data for ASCII and uncompressed saves ... OK
* checking files in ‘vignettes’ ... OK
* checking examples ... OK
Examples with CPU (user + system) or elapsed time > 5s
user system elapsed
plot_genome_stats 9.520 0.032 11.738
get_genome_stats 1.215 0.023 9.062
* checking for unstated dependencies in ‘tests’ ... OK
* checking tests ...
Running ‘testthat.R’
ERROR
Running the tests in ‘tests/testthat.R’ failed.
Last 13 lines of output:
Error in `open.connection(con, "rb")`: cannot open the connection to 'https://api.ncbi.nlm.nih.gov/datasets/v2alpha/genome/taxon/spermatophyta/dataset_report?page_size=1000&filters.assembly_level=chromosome'
Backtrace:
▆
1. └─cogeqc::get_genome_stats(taxon = "spermatophyta", filters = list(filters.assembly_level = "chromosome")) at test-genome_assembly.R:40:5
2. └─jsonlite::read_json(base_url, simplifyVector = TRUE)
3. └─jsonlite::parse_json(...)
4. └─jsonlite:::parse_and_simplify(...)
5. └─jsonlite:::parseJSON(txt, bigint_as_char)
6. └─jsonlite:::parse_con(txt, bigint_as_char)
7. ├─base::open(con, "rb")
8. └─base::open.connection(con, "rb")
[ FAIL 1 | WARN 1 | SKIP 0 | PASS 55 ]
Error: Test failures
Execution halted
* checking for unstated dependencies in vignettes ... OK
* checking package vignettes ... OK
* checking running R code from vignettes ... SKIPPED
* checking re-building of vignette outputs ... SKIPPED
* checking PDF version of manual ... OK
* DONE
Status: 1 ERROR
See
‘/home/biocbuild/bbs-3.22-bioc/meat/cogeqc.Rcheck/00check.log’
for details.
cogeqc.Rcheck/00install.out
############################################################################## ############################################################################## ### ### Running command: ### ### /home/biocbuild/R/R/bin/R CMD INSTALL cogeqc ### ############################################################################## ############################################################################## * installing to library ‘/home/biocbuild/R/R-4.5.0/site-library’ * installing *source* package ‘cogeqc’ ... ** this is package ‘cogeqc’ version ‘1.13.0’ ** using staged installation ** R ** data ** inst ** byte-compile and prepare package for lazy loading ** help *** installing help indices *** copying figures ** building package indices ** installing vignettes ** testing if installed package can be loaded from temporary location ** testing if installed package can be loaded from final location ** testing if installed package keeps a record of temporary installation path * DONE (cogeqc)
cogeqc.Rcheck/tests/testthat.Rout.fail
R version 4.5.0 (2025-04-11) -- "How About a Twenty-Six"
Copyright (C) 2025 The R Foundation for Statistical Computing
Platform: aarch64-unknown-linux-gnu
R is free software and comes with ABSOLUTELY NO WARRANTY.
You are welcome to redistribute it under certain conditions.
Type 'license()' or 'licence()' for distribution details.
R is a collaborative project with many contributors.
Type 'contributors()' for more information and
'citation()' on how to cite R or R packages in publications.
Type 'demo()' for some demos, 'help()' for on-line help, or
'help.start()' for an HTML browser interface to help.
Type 'q()' to quit R.
> library(testthat)
> library(cogeqc)
>
> test_check("cogeqc")
More than 1 BUSCO summary file found. Using only the first.
! # Invaild edge matrix for <phylo>. A <tbl_df> is returned.
! # Invaild edge matrix for <phylo>. A <tbl_df> is returned.
[ FAIL 1 | WARN 1 | SKIP 0 | PASS 55 ]
══ Failed tests ════════════════════════════════════════════════════════════════
── Error ('test-genome_assembly.R:40:5'): get_genome_stats() returns a data frame of NCBI genome stats ──
Error in `open.connection(con, "rb")`: cannot open the connection to 'https://api.ncbi.nlm.nih.gov/datasets/v2alpha/genome/taxon/spermatophyta/dataset_report?page_size=1000&filters.assembly_level=chromosome'
Backtrace:
▆
1. └─cogeqc::get_genome_stats(taxon = "spermatophyta", filters = list(filters.assembly_level = "chromosome")) at test-genome_assembly.R:40:5
2. └─jsonlite::read_json(base_url, simplifyVector = TRUE)
3. └─jsonlite::parse_json(...)
4. └─jsonlite:::parse_and_simplify(...)
5. └─jsonlite:::parseJSON(txt, bigint_as_char)
6. └─jsonlite:::parse_con(txt, bigint_as_char)
7. ├─base::open(con, "rb")
8. └─base::open.connection(con, "rb")
[ FAIL 1 | WARN 1 | SKIP 0 | PASS 55 ]
Error: Test failures
Execution halted
cogeqc.Rcheck/cogeqc-Ex.timings
| name | user | system | elapsed | |
| assess_orthogroups | 0.881 | 0.048 | 0.933 | |
| assess_synnet | 2.367 | 0.079 | 2.457 | |
| assess_synnet_list | 3.628 | 0.060 | 3.702 | |
| batch_summary | 0.001 | 0.000 | 0.001 | |
| busco_is_installed | 0.005 | 0.000 | 0.004 | |
| calculate_H | 1.946 | 0.039 | 1.993 | |
| compare_genome_stats | 0.264 | 0.011 | 3.245 | |
| compare_orthogroups | 0.207 | 0.004 | 0.212 | |
| fit_sft | 1.391 | 0.008 | 1.404 | |
| get_genome_stats | 1.215 | 0.023 | 9.062 | |
| interpro_ath | 0.145 | 0.000 | 0.146 | |
| interpro_bol | 0.235 | 0.000 | 0.236 | |
| list_busco_datasets | 0.004 | 0.000 | 0.003 | |
| og | 0.177 | 0.000 | 0.177 | |
| plot_busco | 1.173 | 0.004 | 1.183 | |
| plot_duplications | 0.328 | 0.000 | 0.332 | |
| plot_genes_in_ogs | 0.392 | 0.000 | 0.393 | |
| plot_genome_stats | 9.520 | 0.032 | 11.738 | |
| plot_og_overlap | 0.651 | 0.000 | 0.655 | |
| plot_og_sizes | 2.207 | 0.063 | 2.280 | |
| plot_orthofinder_stats | 1.786 | 0.005 | 1.797 | |
| plot_species_specific_ogs | 0.339 | 0.000 | 0.340 | |
| plot_species_tree | 0.424 | 0.004 | 0.430 | |
| read_busco | 0.002 | 0.000 | 0.002 | |
| read_orthofinder_stats | 0.006 | 0.000 | 0.006 | |
| read_orthogroups | 0.020 | 0.000 | 0.021 | |
| run_busco | 0 | 0 | 0 | |
| synnet | 0.665 | 0.003 | 0.671 | |
| tree | 0.001 | 0.000 | 0.001 | |