| Back to Multiple platform build/check report for BioC 3.21: simplified long |
|
This page was generated on 2025-10-16 11:41 -0400 (Thu, 16 Oct 2025).
| Hostname | OS | Arch (*) | R version | Installed pkgs |
|---|---|---|---|---|
| nebbiolo1 | Linux (Ubuntu 24.04.3 LTS) | x86_64 | 4.5.1 (2025-06-13) -- "Great Square Root" | 4833 |
| merida1 | macOS 12.7.6 Monterey | x86_64 | 4.5.1 RC (2025-06-05 r88288) -- "Great Square Root" | 4614 |
| kjohnson1 | macOS 13.7.5 Ventura | arm64 | 4.5.1 Patched (2025-06-14 r88325) -- "Great Square Root" | 4555 |
| kunpeng2 | Linux (openEuler 24.03 LTS) | aarch64 | R Under development (unstable) (2025-02-19 r87757) -- "Unsuffered Consequences" | 4586 |
| Click on any hostname to see more info about the system (e.g. compilers) (*) as reported by 'uname -p', except on Windows and Mac OS X | ||||
| Package 71/2341 | Hostname | OS / Arch | INSTALL | BUILD | CHECK | BUILD BIN | ||||||||
| annotate 1.86.1 (landing page) Bioconductor Package Maintainer
| nebbiolo1 | Linux (Ubuntu 24.04.3 LTS) / x86_64 | OK | OK | OK | |||||||||
| merida1 | macOS 12.7.6 Monterey / x86_64 | OK | OK | OK | OK | |||||||||
| kjohnson1 | macOS 13.7.5 Ventura / arm64 | OK | OK | OK | OK | |||||||||
| kunpeng2 | Linux (openEuler 24.03 LTS) / aarch64 | OK | OK | OK | ||||||||||
|
To the developers/maintainers of the annotate package: - Allow up to 24 hours (and sometimes 48 hours) for your latest push to git@git.bioconductor.org:packages/annotate.git to reflect on this report. See Troubleshooting Build Report for more information. - Use the following Renviron settings to reproduce errors and warnings. - If 'R CMD check' started to fail recently on the Linux builder(s) over a missing dependency, add the missing dependency to 'Suggests:' in your DESCRIPTION file. See Renviron.bioc for more information. - See Martin Grigorov's blog post for how to debug Linux ARM64 related issues on a x86_64 host. |
| Package: annotate |
| Version: 1.86.1 |
| Command: /home/biocbuild/R/R/bin/R CMD check --install=check:annotate.install-out.txt --library=/home/biocbuild/R/R/site-library --no-vignettes --timings annotate_1.86.1.tar.gz |
| StartedAt: 2025-10-14 06:11:07 -0000 (Tue, 14 Oct 2025) |
| EndedAt: 2025-10-14 06:16:44 -0000 (Tue, 14 Oct 2025) |
| EllapsedTime: 336.6 seconds |
| RetCode: 0 |
| Status: OK |
| CheckDir: annotate.Rcheck |
| Warnings: 0 |
##############################################################################
##############################################################################
###
### Running command:
###
### /home/biocbuild/R/R/bin/R CMD check --install=check:annotate.install-out.txt --library=/home/biocbuild/R/R/site-library --no-vignettes --timings annotate_1.86.1.tar.gz
###
##############################################################################
##############################################################################
* using log directory ‘/home/biocbuild/bbs-3.21-bioc/meat/annotate.Rcheck’
* using R Under development (unstable) (2025-02-19 r87757)
* using platform: aarch64-unknown-linux-gnu
* R was compiled by
aarch64-unknown-linux-gnu-gcc (GCC) 14.2.0
GNU Fortran (GCC) 14.2.0
* running under: openEuler 24.03 (LTS-SP1)
* using session charset: UTF-8
* using option ‘--no-vignettes’
* checking for file ‘annotate/DESCRIPTION’ ... OK
* this is package ‘annotate’ version ‘1.86.1’
* checking package namespace information ... OK
* checking package dependencies ... OK
* checking if this is a source package ... OK
* checking if there is a namespace ... OK
* checking for hidden files and directories ... OK
* checking for portable file names ... OK
* checking for sufficient/correct file permissions ... OK
* checking whether package ‘annotate’ can be installed ... OK
* checking installed package size ... OK
* checking package directory ... OK
* checking ‘build’ directory ... OK
* checking DESCRIPTION meta-information ... OK
* checking top-level files ... OK
* checking for left-over files ... OK
* checking index information ... OK
* checking package subdirectories ... OK
* checking code files for non-ASCII characters ... OK
* checking R files for syntax errors ... OK
* checking whether the package can be loaded ... OK
* checking whether the package can be loaded with stated dependencies ... OK
* checking whether the package can be unloaded cleanly ... OK
* checking whether the namespace can be loaded with stated dependencies ... OK
* checking whether the namespace can be unloaded cleanly ... OK
* checking loading without being on the library search path ... OK
* checking whether startup messages can be suppressed ... OK
* checking dependencies in R code ... NOTE
Unexported object imported by a ':::' call: ‘BiocGenerics:::testPackage’
See the note in ?`:::` about the use of this operator.
* checking S3 generic/method consistency ... OK
* checking replacement functions ... OK
* checking foreign function calls ... OK
* checking R code for possible problems ... OK
* checking Rd files ... OK
* checking Rd metadata ... OK
* checking Rd cross-references ... OK
* checking for missing documentation entries ... OK
* checking for code/documentation mismatches ... OK
* checking Rd \usage sections ... OK
* checking Rd contents ... OK
* checking for unstated dependencies in examples ... OK
* checking contents of ‘data’ directory ... OK
* checking data for non-ASCII characters ... OK
* checking data for ASCII and uncompressed saves ... OK
* checking files in ‘vignettes’ ... OK
* checking examples ... OK
Examples with CPU (user + system) or elapsed time > 5s
user system elapsed
chrCats 14.316 0.457 15.868
pm.abstGrep 1.809 0.144 10.726
pm.titles 1.385 0.101 21.901
accessionToUID 0.437 0.076 24.520
genbank 0.231 0.043 14.723
blastSequences 0.135 0.004 41.642
* checking for unstated dependencies in ‘tests’ ... OK
* checking tests ...
Running ‘annotate_unit_tests.R’
OK
* checking for unstated dependencies in vignettes ... OK
* checking package vignettes ... OK
* checking running R code from vignettes ... SKIPPED
* checking re-building of vignette outputs ... SKIPPED
* checking PDF version of manual ... OK
* DONE
Status: 1 NOTE
See
‘/home/biocbuild/bbs-3.21-bioc/meat/annotate.Rcheck/00check.log’
for details.
annotate.Rcheck/00install.out
############################################################################## ############################################################################## ### ### Running command: ### ### /home/biocbuild/R/R/bin/R CMD INSTALL annotate ### ############################################################################## ############################################################################## * installing to library ‘/home/biocbuild/R/R-devel_2025-02-19/site-library’ * installing *source* package ‘annotate’ ... ** this is package ‘annotate’ version ‘1.86.1’ ** using staged installation ** R ** data ** inst ** byte-compile and prepare package for lazy loading ** help *** installing help indices ** building package indices ** installing vignettes ** testing if installed package can be loaded from temporary location ** testing if installed package can be loaded from final location ** testing if installed package keeps a record of temporary installation path * DONE (annotate)
annotate.Rcheck/tests/annotate_unit_tests.Rout
R Under development (unstable) (2025-02-19 r87757) -- "Unsuffered Consequences"
Copyright (C) 2025 The R Foundation for Statistical Computing
Platform: aarch64-unknown-linux-gnu
R is free software and comes with ABSOLUTELY NO WARRANTY.
You are welcome to redistribute it under certain conditions.
Type 'license()' or 'licence()' for distribution details.
R is a collaborative project with many contributors.
Type 'contributors()' for more information and
'citation()' on how to cite R or R packages in publications.
Type 'demo()' for some demos, 'help()' for on-line help, or
'help.start()' for an HTML browser interface to help.
Type 'q()' to quit R.
> BiocGenerics:::testPackage("annotate")
Attaching package: 'generics'
The following objects are masked from 'package:base':
as.difftime, as.factor, as.ordered, intersect, is.element, setdiff,
setequal, union
Attaching package: 'BiocGenerics'
The following objects are masked from 'package:stats':
IQR, mad, sd, var, xtabs
The following objects are masked from 'package:base':
Filter, Find, Map, Position, Reduce, anyDuplicated, aperm, append,
as.data.frame, basename, cbind, colnames, dirname, do.call,
duplicated, eval, evalq, get, grep, grepl, is.unsorted, lapply,
mapply, match, mget, order, paste, pmax, pmax.int, pmin, pmin.int,
rank, rbind, rownames, sapply, saveRDS, table, tapply, unique,
unsplit, which.max, which.min
Welcome to Bioconductor
Vignettes contain introductory material; view with
'browseVignettes()'. To cite Bioconductor, see
'citation("Biobase")', and for packages 'citation("pkgname")'.
Attaching package: 'S4Vectors'
The following object is masked from 'package:utils':
findMatches
The following objects are masked from 'package:base':
I, expand.grid, unname
Loading required package: org.Hs.eg.db
'select()' returned 1:many mapping between keys and columns
RUNIT TEST PROTOCOL -- Tue Oct 14 06:16:35 2025
***********************************************
Number of test functions: 1
Number of errors: 0
Number of failures: 0
1 Test Suite :
annotate RUnit Tests - 1 test function, 0 errors, 0 failures
Number of test functions: 1
Number of errors: 0
Number of failures: 0
>
> proc.time()
user system elapsed
12.183 0.576 15.508
annotate.Rcheck/annotate-Ex.timings
| name | user | system | elapsed | |
| ACCNUMStats | 1.803 | 0.039 | 1.997 | |
| GO2heatmap | 0.185 | 0.001 | 0.279 | |
| GOmnplot | 0.057 | 0.000 | 0.056 | |
| HTMLPage-class | 0.001 | 0.000 | 0.000 | |
| LL2homology | 0 | 0 | 0 | |
| PMIDAmat | 0.124 | 0.000 | 0.201 | |
| PWAmat | 2.067 | 0.068 | 2.319 | |
| UniGeneQuery | 0.002 | 0.000 | 0.002 | |
| accessionToUID | 0.437 | 0.076 | 24.520 | |
| annPkgName | 0.001 | 0.000 | 0.001 | |
| aqListGOIDs | 0.159 | 0.011 | 0.321 | |
| blastSequences | 0.135 | 0.004 | 41.642 | |
| buildChromLocation | 1.330 | 0.121 | 1.777 | |
| buildPubMedAbst | 0.045 | 0.004 | 1.471 | |
| chrCats | 14.316 | 0.457 | 15.868 | |
| chromLocation-class | 0.803 | 0.037 | 0.891 | |
| compatibleVersions | 0.047 | 0.001 | 0.048 | |
| dropECode | 0.055 | 0.000 | 0.055 | |
| entrezGeneByID | 0.001 | 0.000 | 0.001 | |
| entrezGeneQuery | 0.001 | 0.000 | 0.001 | |
| filterGOByOntology | 0.081 | 0.004 | 0.085 | |
| findNeighbors | 0.025 | 0.004 | 0.079 | |
| genbank | 0.231 | 0.043 | 14.723 | |
| getAnnMap | 0.035 | 0.005 | 0.080 | |
| getEvidence | 0.074 | 0.000 | 0.146 | |
| getGOTerm | 0.243 | 0.016 | 0.499 | |
| getOntology | 0.053 | 0.000 | 0.098 | |
| getPMInfo | 0.447 | 0.028 | 4.709 | |
| getSYMBOL | 0.128 | 0.032 | 0.229 | |
| getSeq4Acc | 0.021 | 0.000 | 1.107 | |
| hasGOannote | 0.061 | 0.004 | 0.129 | |
| hgByChroms | 0.015 | 0.000 | 0.026 | |
| hgCLengths | 0.001 | 0.000 | 0.001 | |
| hgu95Achroloc | 0.061 | 0.000 | 0.084 | |
| hgu95Achrom | 0.052 | 0.000 | 0.052 | |
| hgu95All | 0.057 | 0.000 | 0.056 | |
| hgu95Asym | 0.058 | 0.000 | 0.058 | |
| homoData-class | 0.000 | 0.003 | 0.003 | |
| htmlpage | 0.018 | 0.004 | 0.023 | |
| isValidkey | 0 | 0 | 0 | |
| makeAnchor | 0.001 | 0.000 | 0.001 | |
| organism | 0.816 | 0.048 | 0.879 | |
| p2LL | 0 | 0 | 0 | |
| pm.abstGrep | 1.809 | 0.144 | 10.726 | |
| pm.getabst | 1.217 | 0.041 | 4.742 | |
| pm.titles | 1.385 | 0.101 | 21.901 | |
| pmAbst2HTML | 0.064 | 0.008 | 1.484 | |
| pmid2MIAME | 0 | 0 | 0 | |
| pmidQuery | 0.001 | 0.000 | 0.001 | |
| pubMedAbst-class | 0.038 | 0.008 | 1.304 | |
| pubmed | 0.030 | 0.000 | 1.573 | |
| readGEOAnn | 0 | 0 | 0 | |
| serializeEnv | 0.002 | 0.000 | 0.007 | |
| setRepository | 0 | 0 | 0 | |
| updateSymbolsToValidKeys | 0 | 0 | 0 | |
| usedChromGenes | 0.079 | 0.004 | 0.168 | |