| Back to Multiple platform build/check report for BioC 3.21: simplified long |
|
This page was generated on 2025-10-16 11:39 -0400 (Thu, 16 Oct 2025).
| Hostname | OS | Arch (*) | R version | Installed pkgs |
|---|---|---|---|---|
| nebbiolo1 | Linux (Ubuntu 24.04.3 LTS) | x86_64 | 4.5.1 (2025-06-13) -- "Great Square Root" | 4833 |
| merida1 | macOS 12.7.6 Monterey | x86_64 | 4.5.1 RC (2025-06-05 r88288) -- "Great Square Root" | 4614 |
| kjohnson1 | macOS 13.7.5 Ventura | arm64 | 4.5.1 Patched (2025-06-14 r88325) -- "Great Square Root" | 4555 |
| kunpeng2 | Linux (openEuler 24.03 LTS) | aarch64 | R Under development (unstable) (2025-02-19 r87757) -- "Unsuffered Consequences" | 4586 |
| Click on any hostname to see more info about the system (e.g. compilers) (*) as reported by 'uname -p', except on Windows and Mac OS X | ||||
| Package 71/2341 | Hostname | OS / Arch | INSTALL | BUILD | CHECK | BUILD BIN | ||||||||
| annotate 1.86.1 (landing page) Bioconductor Package Maintainer
| nebbiolo1 | Linux (Ubuntu 24.04.3 LTS) / x86_64 | OK | OK | OK | |||||||||
| merida1 | macOS 12.7.6 Monterey / x86_64 | OK | OK | OK | OK | |||||||||
| kjohnson1 | macOS 13.7.5 Ventura / arm64 | OK | OK | OK | OK | |||||||||
| kunpeng2 | Linux (openEuler 24.03 LTS) / aarch64 | OK | OK | OK | ||||||||||
|
To the developers/maintainers of the annotate package: - Allow up to 24 hours (and sometimes 48 hours) for your latest push to git@git.bioconductor.org:packages/annotate.git to reflect on this report. See Troubleshooting Build Report for more information. - Use the following Renviron settings to reproduce errors and warnings. - If 'R CMD check' started to fail recently on the Linux builder(s) over a missing dependency, add the missing dependency to 'Suggests:' in your DESCRIPTION file. See Renviron.bioc for more information. |
| Package: annotate |
| Version: 1.86.1 |
| Command: /Library/Frameworks/R.framework/Resources/bin/R CMD check --install=check:annotate.install-out.txt --library=/Library/Frameworks/R.framework/Resources/library --no-vignettes --timings annotate_1.86.1.tar.gz |
| StartedAt: 2025-10-14 12:44:05 -0400 (Tue, 14 Oct 2025) |
| EndedAt: 2025-10-14 12:47:35 -0400 (Tue, 14 Oct 2025) |
| EllapsedTime: 210.0 seconds |
| RetCode: 0 |
| Status: OK |
| CheckDir: annotate.Rcheck |
| Warnings: 0 |
##############################################################################
##############################################################################
###
### Running command:
###
### /Library/Frameworks/R.framework/Resources/bin/R CMD check --install=check:annotate.install-out.txt --library=/Library/Frameworks/R.framework/Resources/library --no-vignettes --timings annotate_1.86.1.tar.gz
###
##############################################################################
##############################################################################
* using log directory ‘/Users/biocbuild/bbs-3.21-bioc/meat/annotate.Rcheck’
* using R version 4.5.1 Patched (2025-06-14 r88325)
* using platform: aarch64-apple-darwin20
* R was compiled by
Apple clang version 16.0.0 (clang-1600.0.26.6)
GNU Fortran (GCC) 14.2.0
* running under: macOS Ventura 13.7.5
* using session charset: UTF-8
* using option ‘--no-vignettes’
* checking for file ‘annotate/DESCRIPTION’ ... OK
* this is package ‘annotate’ version ‘1.86.1’
* checking package namespace information ... OK
* checking package dependencies ... OK
* checking if this is a source package ... OK
* checking if there is a namespace ... OK
* checking for hidden files and directories ... OK
* checking for portable file names ... OK
* checking for sufficient/correct file permissions ... OK
* checking whether package ‘annotate’ can be installed ... OK
* checking installed package size ... OK
* checking package directory ... OK
* checking ‘build’ directory ... OK
* checking DESCRIPTION meta-information ... OK
* checking top-level files ... OK
* checking for left-over files ... OK
* checking index information ... OK
* checking package subdirectories ... OK
* checking code files for non-ASCII characters ... OK
* checking R files for syntax errors ... OK
* checking whether the package can be loaded ... OK
* checking whether the package can be loaded with stated dependencies ... OK
* checking whether the package can be unloaded cleanly ... OK
* checking whether the namespace can be loaded with stated dependencies ... OK
* checking whether the namespace can be unloaded cleanly ... OK
* checking whether startup messages can be suppressed ... OK
* checking dependencies in R code ... NOTE
Unexported object imported by a ':::' call: ‘BiocGenerics:::testPackage’
See the note in ?`:::` about the use of this operator.
* checking S3 generic/method consistency ... OK
* checking replacement functions ... OK
* checking foreign function calls ... OK
* checking R code for possible problems ... OK
* checking Rd files ... OK
* checking Rd metadata ... OK
* checking Rd cross-references ... OK
* checking for missing documentation entries ... OK
* checking for code/documentation mismatches ... OK
* checking Rd \usage sections ... OK
* checking Rd contents ... OK
* checking for unstated dependencies in examples ... OK
* checking contents of ‘data’ directory ... OK
* checking data for non-ASCII characters ... OK
* checking data for ASCII and uncompressed saves ... OK
* checking sizes of PDF files under ‘inst/doc’ ... OK
* checking files in ‘vignettes’ ... OK
* checking examples ... OK
Examples with CPU (user + system) or elapsed time > 5s
user system elapsed
chrCats 8.409 0.07 8.609
blastSequences 0.135 0.01 33.042
* checking for unstated dependencies in ‘tests’ ... OK
* checking tests ...
Running ‘annotate_unit_tests.R’
OK
* checking for unstated dependencies in vignettes ... OK
* checking package vignettes ... OK
* checking running R code from vignettes ... SKIPPED
* checking re-building of vignette outputs ... SKIPPED
* checking PDF version of manual ... OK
* DONE
Status: 1 NOTE
See
‘/Users/biocbuild/bbs-3.21-bioc/meat/annotate.Rcheck/00check.log’
for details.
annotate.Rcheck/00install.out
############################################################################## ############################################################################## ### ### Running command: ### ### /Library/Frameworks/R.framework/Resources/bin/R CMD INSTALL annotate ### ############################################################################## ############################################################################## * installing to library ‘/Library/Frameworks/R.framework/Versions/4.5-arm64/Resources/library’ * installing *source* package ‘annotate’ ... ** this is package ‘annotate’ version ‘1.86.1’ ** using staged installation ** R ** data ** inst ** byte-compile and prepare package for lazy loading ** help *** installing help indices ** building package indices ** installing vignettes ** testing if installed package can be loaded from temporary location ** testing if installed package can be loaded from final location ** testing if installed package keeps a record of temporary installation path * DONE (annotate)
annotate.Rcheck/tests/annotate_unit_tests.Rout
R version 4.5.1 Patched (2025-06-14 r88325) -- "Great Square Root"
Copyright (C) 2025 The R Foundation for Statistical Computing
Platform: aarch64-apple-darwin20
R is free software and comes with ABSOLUTELY NO WARRANTY.
You are welcome to redistribute it under certain conditions.
Type 'license()' or 'licence()' for distribution details.
R is a collaborative project with many contributors.
Type 'contributors()' for more information and
'citation()' on how to cite R or R packages in publications.
Type 'demo()' for some demos, 'help()' for on-line help, or
'help.start()' for an HTML browser interface to help.
Type 'q()' to quit R.
> BiocGenerics:::testPackage("annotate")
Attaching package: 'generics'
The following objects are masked from 'package:base':
as.difftime, as.factor, as.ordered, intersect, is.element, setdiff,
setequal, union
Attaching package: 'BiocGenerics'
The following objects are masked from 'package:stats':
IQR, mad, sd, var, xtabs
The following objects are masked from 'package:base':
Filter, Find, Map, Position, Reduce, anyDuplicated, aperm, append,
as.data.frame, basename, cbind, colnames, dirname, do.call,
duplicated, eval, evalq, get, grep, grepl, is.unsorted, lapply,
mapply, match, mget, order, paste, pmax, pmax.int, pmin, pmin.int,
rank, rbind, rownames, sapply, saveRDS, table, tapply, unique,
unsplit, which.max, which.min
Welcome to Bioconductor
Vignettes contain introductory material; view with
'browseVignettes()'. To cite Bioconductor, see
'citation("Biobase")', and for packages 'citation("pkgname")'.
Attaching package: 'S4Vectors'
The following object is masked from 'package:utils':
findMatches
The following objects are masked from 'package:base':
I, expand.grid, unname
Loading required package: org.Hs.eg.db
'select()' returned 1:many mapping between keys and columns
RUNIT TEST PROTOCOL -- Tue Oct 14 12:47:23 2025
***********************************************
Number of test functions: 1
Number of errors: 0
Number of failures: 0
1 Test Suite :
annotate RUnit Tests - 1 test function, 0 errors, 0 failures
Number of test functions: 1
Number of errors: 0
Number of failures: 0
>
> proc.time()
user system elapsed
10.472 0.840 11.431
annotate.Rcheck/annotate-Ex.timings
| name | user | system | elapsed | |
| ACCNUMStats | 1.709 | 0.046 | 1.759 | |
| GO2heatmap | 0.182 | 0.011 | 0.195 | |
| GOmnplot | 0.057 | 0.008 | 0.066 | |
| HTMLPage-class | 0.000 | 0.000 | 0.001 | |
| LL2homology | 0.000 | 0.001 | 0.001 | |
| PMIDAmat | 0.097 | 0.004 | 0.103 | |
| PWAmat | 1.827 | 0.059 | 1.903 | |
| UniGeneQuery | 0.002 | 0.000 | 0.002 | |
| accessionToUID | 0.769 | 0.031 | 4.228 | |
| annPkgName | 0 | 0 | 0 | |
| aqListGOIDs | 0.089 | 0.008 | 0.098 | |
| blastSequences | 0.135 | 0.010 | 33.042 | |
| buildChromLocation | 0.784 | 0.036 | 0.824 | |
| buildPubMedAbst | 0.039 | 0.004 | 0.818 | |
| chrCats | 8.409 | 0.070 | 8.609 | |
| chromLocation-class | 0.766 | 0.068 | 0.844 | |
| compatibleVersions | 0.044 | 0.004 | 0.047 | |
| dropECode | 0.048 | 0.006 | 0.058 | |
| entrezGeneByID | 0.000 | 0.001 | 0.001 | |
| entrezGeneQuery | 0.001 | 0.001 | 0.001 | |
| filterGOByOntology | 0.050 | 0.004 | 0.055 | |
| findNeighbors | 0.022 | 0.004 | 0.028 | |
| genbank | 0.215 | 0.017 | 1.313 | |
| getAnnMap | 0.036 | 0.008 | 0.046 | |
| getEvidence | 0.048 | 0.002 | 0.051 | |
| getGOTerm | 0.158 | 0.008 | 0.169 | |
| getOntology | 0.041 | 0.003 | 0.044 | |
| getPMInfo | 0.303 | 0.006 | 1.093 | |
| getSYMBOL | 0.111 | 0.019 | 0.132 | |
| getSeq4Acc | 0.016 | 0.002 | 0.437 | |
| hasGOannote | 0.023 | 0.001 | 0.024 | |
| hgByChroms | 0.023 | 0.004 | 0.029 | |
| hgCLengths | 0.001 | 0.002 | 0.003 | |
| hgu95Achroloc | 0.128 | 0.011 | 0.139 | |
| hgu95Achrom | 0.072 | 0.010 | 0.083 | |
| hgu95All | 0.086 | 0.012 | 0.103 | |
| hgu95Asym | 0.090 | 0.011 | 0.102 | |
| homoData-class | 0.003 | 0.001 | 0.003 | |
| htmlpage | 0.018 | 0.003 | 0.021 | |
| isValidkey | 0 | 0 | 0 | |
| makeAnchor | 0.000 | 0.000 | 0.001 | |
| organism | 0.884 | 0.073 | 0.973 | |
| p2LL | 0.000 | 0.001 | 0.000 | |
| pm.abstGrep | 0.653 | 0.028 | 1.978 | |
| pm.getabst | 1.205 | 0.033 | 2.762 | |
| pm.titles | 0.693 | 0.027 | 2.244 | |
| pmAbst2HTML | 0.042 | 0.005 | 0.733 | |
| pmid2MIAME | 0 | 0 | 0 | |
| pmidQuery | 0.000 | 0.000 | 0.001 | |
| pubMedAbst-class | 0.035 | 0.004 | 0.947 | |
| pubmed | 0.025 | 0.003 | 0.711 | |
| readGEOAnn | 0 | 0 | 0 | |
| serializeEnv | 0.002 | 0.001 | 0.002 | |
| setRepository | 0.001 | 0.001 | 0.002 | |
| updateSymbolsToValidKeys | 0.000 | 0.001 | 0.000 | |
| usedChromGenes | 0.110 | 0.012 | 0.122 | |