| Back to Multiple platform build/check report for BioC 3.21: simplified long |
|
This page was generated on 2025-04-22 13:17 -0400 (Tue, 22 Apr 2025).
| Hostname | OS | Arch (*) | R version | Installed pkgs |
|---|---|---|---|---|
| nebbiolo1 | Linux (Ubuntu 24.04.1 LTS) | x86_64 | 4.5.0 RC (2025-04-04 r88126) -- "How About a Twenty-Six" | 4831 |
| palomino7 | Windows Server 2022 Datacenter | x64 | 4.5.0 RC (2025-04-04 r88126 ucrt) -- "How About a Twenty-Six" | 4573 |
| lconway | macOS 12.7.1 Monterey | x86_64 | 4.5.0 RC (2025-04-04 r88126) -- "How About a Twenty-Six" | 4599 |
| kjohnson3 | macOS 13.7.1 Ventura | arm64 | 4.5.0 RC (2025-04-04 r88126) -- "How About a Twenty-Six" | 4553 |
| kunpeng2 | Linux (openEuler 24.03 LTS) | aarch64 | R Under development (unstable) (2025-02-19 r87757) -- "Unsuffered Consequences" | 4570 |
| Click on any hostname to see more info about the system (e.g. compilers) (*) as reported by 'uname -p', except on Windows and Mac OS X | ||||
| Package 1924/2341 | Hostname | OS / Arch | INSTALL | BUILD | CHECK | BUILD BIN | ||||||||
| Sconify 1.28.0 (landing page) Tyler J Burns
| nebbiolo1 | Linux (Ubuntu 24.04.1 LTS) / x86_64 | OK | OK | OK | |||||||||
| palomino7 | Windows Server 2022 Datacenter / x64 | OK | OK | OK | OK | |||||||||
| lconway | macOS 12.7.1 Monterey / x86_64 | OK | OK | OK | OK | |||||||||
| kjohnson3 | macOS 13.7.1 Ventura / arm64 | OK | OK | OK | OK | |||||||||
| kunpeng2 | Linux (openEuler 24.03 LTS) / aarch64 | OK | OK | OK | ||||||||||
|
To the developers/maintainers of the Sconify package: - Allow up to 24 hours (and sometimes 48 hours) for your latest push to git@git.bioconductor.org:packages/Sconify.git to reflect on this report. See Troubleshooting Build Report for more information. - Use the following Renviron settings to reproduce errors and warnings. - If 'R CMD check' started to fail recently on the Linux builder(s) over a missing dependency, add the missing dependency to 'Suggests:' in your DESCRIPTION file. See Renviron.bioc for more information. |
| Package: Sconify |
| Version: 1.28.0 |
| Command: /Library/Frameworks/R.framework/Resources/bin/R CMD check --install=check:Sconify.install-out.txt --library=/Library/Frameworks/R.framework/Resources/library --no-vignettes --timings Sconify_1.28.0.tar.gz |
| StartedAt: 2025-04-21 23:24:27 -0400 (Mon, 21 Apr 2025) |
| EndedAt: 2025-04-21 23:26:26 -0400 (Mon, 21 Apr 2025) |
| EllapsedTime: 119.5 seconds |
| RetCode: 0 |
| Status: OK |
| CheckDir: Sconify.Rcheck |
| Warnings: 0 |
##############################################################################
##############################################################################
###
### Running command:
###
### /Library/Frameworks/R.framework/Resources/bin/R CMD check --install=check:Sconify.install-out.txt --library=/Library/Frameworks/R.framework/Resources/library --no-vignettes --timings Sconify_1.28.0.tar.gz
###
##############################################################################
##############################################################################
* using log directory ‘/Users/biocbuild/bbs-3.21-bioc/meat/Sconify.Rcheck’
* using R version 4.5.0 RC (2025-04-04 r88126)
* using platform: x86_64-apple-darwin20
* R was compiled by
Apple clang version 14.0.0 (clang-1400.0.29.202)
GNU Fortran (GCC) 14.2.0
* running under: macOS Monterey 12.7.6
* using session charset: UTF-8
* using option ‘--no-vignettes’
* checking for file ‘Sconify/DESCRIPTION’ ... OK
* checking extension type ... Package
* this is package ‘Sconify’ version ‘1.28.0’
* package encoding: UTF-8
* checking package namespace information ... OK
* checking package dependencies ... OK
* checking if this is a source package ... OK
* checking if there is a namespace ... OK
* checking for hidden files and directories ... OK
* checking for portable file names ... OK
* checking for sufficient/correct file permissions ... OK
* checking whether package ‘Sconify’ can be installed ... OK
* checking installed package size ... OK
* checking package directory ... OK
* checking ‘build’ directory ... OK
* checking DESCRIPTION meta-information ... OK
* checking top-level files ... OK
* checking for left-over files ... OK
* checking index information ... OK
* checking package subdirectories ... OK
* checking code files for non-ASCII characters ... OK
* checking R files for syntax errors ... OK
* checking whether the package can be loaded ... OK
* checking whether the package can be loaded with stated dependencies ... OK
* checking whether the package can be unloaded cleanly ... OK
* checking whether the namespace can be loaded with stated dependencies ... OK
* checking whether the namespace can be unloaded cleanly ... OK
* checking dependencies in R code ... OK
* checking S3 generic/method consistency ... OK
* checking replacement functions ... OK
* checking foreign function calls ... OK
* checking R code for possible problems ... OK
* checking Rd files ... OK
* checking Rd metadata ... OK
* checking Rd cross-references ... OK
* checking for missing documentation entries ... OK
* checking for code/documentation mismatches ... OK
* checking Rd \usage sections ... OK
* checking Rd contents ... OK
* checking for unstated dependencies in examples ... OK
* checking contents of ‘data’ directory ... OK
* checking data for non-ASCII characters ... OK
* checking LazyData ... OK
* checking data for ASCII and uncompressed saves ... OK
* checking files in ‘vignettes’ ... OK
* checking examples ... OK
Examples with CPU (user + system) or elapsed time > 5s
user system elapsed
SconeValues 12.981 0.187 13.255
* checking for unstated dependencies in ‘tests’ ... OK
* checking tests ...
Running ‘testthat.R’
OK
* checking for unstated dependencies in vignettes ... OK
* checking package vignettes ... OK
* checking running R code from vignettes ... SKIPPED
* checking re-building of vignette outputs ... SKIPPED
* checking PDF version of manual ... OK
* DONE
Status: OK
Sconify.Rcheck/00install.out
############################################################################## ############################################################################## ### ### Running command: ### ### /Library/Frameworks/R.framework/Resources/bin/R CMD INSTALL Sconify ### ############################################################################## ############################################################################## * installing to library ‘/Library/Frameworks/R.framework/Versions/4.5-x86_64/Resources/library’ * installing *source* package ‘Sconify’ ... ** this is package ‘Sconify’ version ‘1.28.0’ ** using staged installation ** R ** data *** moving datasets to lazyload DB ** inst ** byte-compile and prepare package for lazy loading Note: wrong number of arguments to '/' Note: wrong number of arguments to 'asinh' ** help *** installing help indices ** building package indices ** installing vignettes ** testing if installed package can be loaded from temporary location ** testing if installed package can be loaded from final location ** testing if installed package keeps a record of temporary installation path * DONE (Sconify)
Sconify.Rcheck/tests/testthat.Rout
R version 4.5.0 RC (2025-04-04 r88126) -- "How About a Twenty-Six"
Copyright (C) 2025 The R Foundation for Statistical Computing
Platform: x86_64-apple-darwin20
R is free software and comes with ABSOLUTELY NO WARRANTY.
You are welcome to redistribute it under certain conditions.
Type 'license()' or 'licence()' for distribution details.
R is a collaborative project with many contributors.
Type 'contributors()' for more information and
'citation()' on how to cite R or R packages in publications.
Type 'demo()' for some demos, 'help()' for on-line help, or
'help.start()' for an HTML browser interface to help.
Type 'q()' to quit R.
> library(testthat)
> library(Sconify)
>
> test_check("Sconify")
Read the 100 x 27 data matrix successfully!
Using no_dims = 2, perplexity = 30.000000, and theta = 0.500000
Computing input similarities...
Building tree...
Done in 0.01 seconds (sparsity = 0.970200)!
Learning embedding...
Iteration 50: error is 53.377130 (50 iterations in 0.01 seconds)
Iteration 100: error is 52.150632 (50 iterations in 0.01 seconds)
Iteration 150: error is 52.949445 (50 iterations in 0.01 seconds)
Iteration 200: error is 51.876586 (50 iterations in 0.01 seconds)
Iteration 250: error is 52.553171 (50 iterations in 0.01 seconds)
Iteration 300: error is 1.092569 (50 iterations in 0.01 seconds)
Iteration 350: error is 0.522518 (50 iterations in 0.01 seconds)
Iteration 400: error is 0.248671 (50 iterations in 0.01 seconds)
Iteration 450: error is 0.174528 (50 iterations in 0.01 seconds)
Iteration 500: error is 0.167954 (50 iterations in 0.01 seconds)
Iteration 550: error is 0.169567 (50 iterations in 0.01 seconds)
Iteration 600: error is 0.169617 (50 iterations in 0.01 seconds)
Iteration 650: error is 0.171106 (50 iterations in 0.01 seconds)
Iteration 700: error is 0.170100 (50 iterations in 0.01 seconds)
Iteration 750: error is 0.169898 (50 iterations in 0.01 seconds)
Iteration 800: error is 0.169499 (50 iterations in 0.01 seconds)
Iteration 850: error is 0.170120 (50 iterations in 0.01 seconds)
Iteration 900: error is 0.170582 (50 iterations in 0.01 seconds)
Iteration 950: error is 0.169508 (50 iterations in 0.01 seconds)
Iteration 1000: error is 0.169062 (50 iterations in 0.01 seconds)
Fitting performed in 0.16 seconds.
Read the 1000 x 27 data matrix successfully!
Using no_dims = 2, perplexity = 30.000000, and theta = 0.500000
Computing input similarities...
Building tree...
Done in 0.13 seconds (sparsity = 0.129120)!
Learning embedding...
Iteration 50: error is 65.795527 (50 iterations in 0.21 seconds)
Iteration 100: error is 60.768126 (50 iterations in 0.15 seconds)
Iteration 150: error is 60.347614 (50 iterations in 0.14 seconds)
Iteration 200: error is 60.227512 (50 iterations in 0.15 seconds)
Iteration 250: error is 60.160018 (50 iterations in 0.16 seconds)
Iteration 300: error is 1.341826 (50 iterations in 0.13 seconds)
Iteration 350: error is 1.227410 (50 iterations in 0.12 seconds)
Iteration 400: error is 1.193699 (50 iterations in 0.12 seconds)
Iteration 450: error is 1.183043 (50 iterations in 0.11 seconds)
Iteration 500: error is 1.175695 (50 iterations in 0.12 seconds)
Iteration 550: error is 1.169400 (50 iterations in 0.12 seconds)
Iteration 600: error is 1.163358 (50 iterations in 0.12 seconds)
Iteration 650: error is 1.160051 (50 iterations in 0.12 seconds)
Iteration 700: error is 1.158922 (50 iterations in 0.11 seconds)
Iteration 750: error is 1.156712 (50 iterations in 0.11 seconds)
Iteration 800: error is 1.154769 (50 iterations in 0.11 seconds)
Iteration 850: error is 1.152425 (50 iterations in 0.11 seconds)
Iteration 900: error is 1.150799 (50 iterations in 0.12 seconds)
Iteration 950: error is 1.150067 (50 iterations in 0.11 seconds)
Iteration 1000: error is 1.148524 (50 iterations in 0.11 seconds)
Fitting performed in 2.55 seconds.
[ FAIL 0 | WARN 4 | SKIP 0 | PASS 72 ]
[ FAIL 0 | WARN 4 | SKIP 0 | PASS 72 ]
>
> proc.time()
user system elapsed
19.931 0.691 20.743
Sconify.Rcheck/Sconify-Ex.timings
| name | user | system | elapsed | |
| FcsToTibble | 0.126 | 0.005 | 0.135 | |
| Fnn | 0.342 | 1.041 | 1.400 | |
| GetKnnDe | 0.064 | 0.006 | 0.070 | |
| GetMarkerNames | 0.036 | 0.003 | 0.038 | |
| ImputeTesting | 3.709 | 0.033 | 3.768 | |
| MakeHist | 0.362 | 0.012 | 0.376 | |
| MakeKnnList | 0.354 | 0.009 | 0.366 | |
| MeaningOfLife | 0.000 | 0.000 | 0.001 | |
| ParseMarkers | 0.267 | 0.027 | 0.313 | |
| PostProcessing | 0.093 | 0.002 | 0.095 | |
| ProcessMultipleFiles | 0.123 | 0.004 | 0.128 | |
| QuantNormalizeElements | 0.221 | 0.002 | 0.225 | |
| SconeValues | 12.981 | 0.187 | 13.255 | |
| SplitFile | 0.083 | 0.003 | 0.086 | |
| StringToNumbers | 0.000 | 0.001 | 0.001 | |
| SubsampleAndTsne | 1.419 | 0.051 | 1.480 | |
| TsneVis | 0.182 | 0.003 | 0.206 | |