| Back to Multiple platform build/check report for BioC 3.21: simplified long |
|
This page was generated on 2025-04-22 13:18 -0400 (Tue, 22 Apr 2025).
| Hostname | OS | Arch (*) | R version | Installed pkgs |
|---|---|---|---|---|
| nebbiolo1 | Linux (Ubuntu 24.04.1 LTS) | x86_64 | 4.5.0 RC (2025-04-04 r88126) -- "How About a Twenty-Six" | 4831 |
| palomino7 | Windows Server 2022 Datacenter | x64 | 4.5.0 RC (2025-04-04 r88126 ucrt) -- "How About a Twenty-Six" | 4573 |
| lconway | macOS 12.7.1 Monterey | x86_64 | 4.5.0 RC (2025-04-04 r88126) -- "How About a Twenty-Six" | 4599 |
| kjohnson3 | macOS 13.7.1 Ventura | arm64 | 4.5.0 RC (2025-04-04 r88126) -- "How About a Twenty-Six" | 4553 |
| kunpeng2 | Linux (openEuler 24.03 LTS) | aarch64 | R Under development (unstable) (2025-02-19 r87757) -- "Unsuffered Consequences" | 4570 |
| Click on any hostname to see more info about the system (e.g. compilers) (*) as reported by 'uname -p', except on Windows and Mac OS X | ||||
| Package 1924/2341 | Hostname | OS / Arch | INSTALL | BUILD | CHECK | BUILD BIN | ||||||||
| Sconify 1.28.0 (landing page) Tyler J Burns
| nebbiolo1 | Linux (Ubuntu 24.04.1 LTS) / x86_64 | OK | OK | OK | |||||||||
| palomino7 | Windows Server 2022 Datacenter / x64 | OK | OK | OK | OK | |||||||||
| lconway | macOS 12.7.1 Monterey / x86_64 | OK | OK | OK | OK | |||||||||
| kjohnson3 | macOS 13.7.1 Ventura / arm64 | OK | OK | OK | OK | |||||||||
| kunpeng2 | Linux (openEuler 24.03 LTS) / aarch64 | OK | OK | OK | ||||||||||
|
To the developers/maintainers of the Sconify package: - Allow up to 24 hours (and sometimes 48 hours) for your latest push to git@git.bioconductor.org:packages/Sconify.git to reflect on this report. See Troubleshooting Build Report for more information. - Use the following Renviron settings to reproduce errors and warnings. - If 'R CMD check' started to fail recently on the Linux builder(s) over a missing dependency, add the missing dependency to 'Suggests:' in your DESCRIPTION file. See Renviron.bioc for more information. |
| Package: Sconify |
| Version: 1.28.0 |
| Command: /Library/Frameworks/R.framework/Resources/bin/R CMD check --install=check:Sconify.install-out.txt --library=/Library/Frameworks/R.framework/Resources/library --no-vignettes --timings Sconify_1.28.0.tar.gz |
| StartedAt: 2025-04-21 21:32:05 -0400 (Mon, 21 Apr 2025) |
| EndedAt: 2025-04-21 21:32:46 -0400 (Mon, 21 Apr 2025) |
| EllapsedTime: 40.5 seconds |
| RetCode: 0 |
| Status: OK |
| CheckDir: Sconify.Rcheck |
| Warnings: 0 |
##############################################################################
##############################################################################
###
### Running command:
###
### /Library/Frameworks/R.framework/Resources/bin/R CMD check --install=check:Sconify.install-out.txt --library=/Library/Frameworks/R.framework/Resources/library --no-vignettes --timings Sconify_1.28.0.tar.gz
###
##############################################################################
##############################################################################
* using log directory ‘/Users/biocbuild/bbs-3.21-bioc/meat/Sconify.Rcheck’
* using R version 4.5.0 RC (2025-04-04 r88126)
* using platform: aarch64-apple-darwin20
* R was compiled by
Apple clang version 14.0.0 (clang-1400.0.29.202)
GNU Fortran (GCC) 14.2.0
* running under: macOS Ventura 13.7.1
* using session charset: UTF-8
* using option ‘--no-vignettes’
* checking for file ‘Sconify/DESCRIPTION’ ... OK
* checking extension type ... Package
* this is package ‘Sconify’ version ‘1.28.0’
* package encoding: UTF-8
* checking package namespace information ... OK
* checking package dependencies ... OK
* checking if this is a source package ... OK
* checking if there is a namespace ... OK
* checking for hidden files and directories ... OK
* checking for portable file names ... OK
* checking for sufficient/correct file permissions ... OK
* checking whether package ‘Sconify’ can be installed ... OK
* checking installed package size ... OK
* checking package directory ... OK
* checking ‘build’ directory ... OK
* checking DESCRIPTION meta-information ... OK
* checking top-level files ... OK
* checking for left-over files ... OK
* checking index information ... OK
* checking package subdirectories ... OK
* checking code files for non-ASCII characters ... OK
* checking R files for syntax errors ... OK
* checking whether the package can be loaded ... OK
* checking whether the package can be loaded with stated dependencies ... OK
* checking whether the package can be unloaded cleanly ... OK
* checking whether the namespace can be loaded with stated dependencies ... OK
* checking whether the namespace can be unloaded cleanly ... OK
* checking dependencies in R code ... OK
* checking S3 generic/method consistency ... OK
* checking replacement functions ... OK
* checking foreign function calls ... OK
* checking R code for possible problems ... OK
* checking Rd files ... OK
* checking Rd metadata ... OK
* checking Rd cross-references ... OK
* checking for missing documentation entries ... OK
* checking for code/documentation mismatches ... OK
* checking Rd \usage sections ... OK
* checking Rd contents ... OK
* checking for unstated dependencies in examples ... OK
* checking contents of ‘data’ directory ... OK
* checking data for non-ASCII characters ... OK
* checking LazyData ... OK
* checking data for ASCII and uncompressed saves ... OK
* checking files in ‘vignettes’ ... OK
* checking examples ... OK
* checking for unstated dependencies in ‘tests’ ... OK
* checking tests ...
Running ‘testthat.R’
OK
* checking for unstated dependencies in vignettes ... OK
* checking package vignettes ... OK
* checking running R code from vignettes ... SKIPPED
* checking re-building of vignette outputs ... SKIPPED
* checking PDF version of manual ... OK
* DONE
Status: OK
Sconify.Rcheck/00install.out
############################################################################## ############################################################################## ### ### Running command: ### ### /Library/Frameworks/R.framework/Resources/bin/R CMD INSTALL Sconify ### ############################################################################## ############################################################################## * installing to library ‘/Library/Frameworks/R.framework/Versions/4.5-arm64/Resources/library’ * installing *source* package ‘Sconify’ ... ** this is package ‘Sconify’ version ‘1.28.0’ ** using staged installation ** R ** data *** moving datasets to lazyload DB ** inst ** byte-compile and prepare package for lazy loading Note: wrong number of arguments to '/' Note: wrong number of arguments to 'asinh' ** help *** installing help indices ** building package indices ** installing vignettes ** testing if installed package can be loaded from temporary location ** testing if installed package can be loaded from final location ** testing if installed package keeps a record of temporary installation path * DONE (Sconify)
Sconify.Rcheck/tests/testthat.Rout
R version 4.5.0 RC (2025-04-04 r88126) -- "How About a Twenty-Six"
Copyright (C) 2025 The R Foundation for Statistical Computing
Platform: aarch64-apple-darwin20
R is free software and comes with ABSOLUTELY NO WARRANTY.
You are welcome to redistribute it under certain conditions.
Type 'license()' or 'licence()' for distribution details.
R is a collaborative project with many contributors.
Type 'contributors()' for more information and
'citation()' on how to cite R or R packages in publications.
Type 'demo()' for some demos, 'help()' for on-line help, or
'help.start()' for an HTML browser interface to help.
Type 'q()' to quit R.
> library(testthat)
> library(Sconify)
>
> test_check("Sconify")
Read the 100 x 27 data matrix successfully!
Using no_dims = 2, perplexity = 30.000000, and theta = 0.500000
Computing input similarities...
Building tree...
Done in 0.00 seconds (sparsity = 0.968000)!
Learning embedding...
Iteration 50: error is 48.773336 (50 iterations in 0.01 seconds)
Iteration 100: error is 48.357032 (50 iterations in 0.01 seconds)
Iteration 150: error is 49.998869 (50 iterations in 0.00 seconds)
Iteration 200: error is 50.997215 (50 iterations in 0.00 seconds)
Iteration 250: error is 49.596838 (50 iterations in 0.00 seconds)
Iteration 300: error is 1.502002 (50 iterations in 0.00 seconds)
Iteration 350: error is 0.926646 (50 iterations in 0.00 seconds)
Iteration 400: error is 0.385998 (50 iterations in 0.00 seconds)
Iteration 450: error is 0.244600 (50 iterations in 0.00 seconds)
Iteration 500: error is 0.218131 (50 iterations in 0.00 seconds)
Iteration 550: error is 0.193925 (50 iterations in 0.00 seconds)
Iteration 600: error is 0.190334 (50 iterations in 0.00 seconds)
Iteration 650: error is 0.185722 (50 iterations in 0.00 seconds)
Iteration 700: error is 0.186961 (50 iterations in 0.00 seconds)
Iteration 750: error is 0.186174 (50 iterations in 0.00 seconds)
Iteration 800: error is 0.186512 (50 iterations in 0.00 seconds)
Iteration 850: error is 0.186521 (50 iterations in 0.00 seconds)
Iteration 900: error is 0.185818 (50 iterations in 0.00 seconds)
Iteration 950: error is 0.186051 (50 iterations in 0.00 seconds)
Iteration 1000: error is 0.186271 (50 iterations in 0.00 seconds)
Fitting performed in 0.08 seconds.
Read the 1000 x 27 data matrix successfully!
Using no_dims = 2, perplexity = 30.000000, and theta = 0.500000
Computing input similarities...
Building tree...
Done in 0.05 seconds (sparsity = 0.129120)!
Learning embedding...
Iteration 50: error is 63.955187 (50 iterations in 0.09 seconds)
Iteration 100: error is 60.660298 (50 iterations in 0.07 seconds)
Iteration 150: error is 60.324811 (50 iterations in 0.07 seconds)
Iteration 200: error is 60.211174 (50 iterations in 0.08 seconds)
Iteration 250: error is 60.148210 (50 iterations in 0.08 seconds)
Iteration 300: error is 1.355556 (50 iterations in 0.07 seconds)
Iteration 350: error is 1.243768 (50 iterations in 0.06 seconds)
Iteration 400: error is 1.216647 (50 iterations in 0.06 seconds)
Iteration 450: error is 1.206351 (50 iterations in 0.06 seconds)
Iteration 500: error is 1.197997 (50 iterations in 0.06 seconds)
Iteration 550: error is 1.190355 (50 iterations in 0.06 seconds)
Iteration 600: error is 1.185170 (50 iterations in 0.06 seconds)
Iteration 650: error is 1.180870 (50 iterations in 0.06 seconds)
Iteration 700: error is 1.177309 (50 iterations in 0.06 seconds)
Iteration 750: error is 1.174731 (50 iterations in 0.06 seconds)
Iteration 800: error is 1.172883 (50 iterations in 0.06 seconds)
Iteration 850: error is 1.170760 (50 iterations in 0.06 seconds)
Iteration 900: error is 1.168719 (50 iterations in 0.06 seconds)
Iteration 950: error is 1.165933 (50 iterations in 0.06 seconds)
Iteration 1000: error is 1.156927 (50 iterations in 0.06 seconds)
Fitting performed in 1.31 seconds.
[ FAIL 0 | WARN 4 | SKIP 0 | PASS 72 ]
[ FAIL 0 | WARN 4 | SKIP 0 | PASS 72 ]
>
> proc.time()
user system elapsed
6.536 0.325 6.885
Sconify.Rcheck/Sconify-Ex.timings
| name | user | system | elapsed | |
| FcsToTibble | 0.037 | 0.002 | 0.040 | |
| Fnn | 0.118 | 0.270 | 0.395 | |
| GetKnnDe | 0.039 | 0.002 | 0.041 | |
| GetMarkerNames | 0.010 | 0.001 | 0.012 | |
| ImputeTesting | 1.004 | 0.008 | 1.011 | |
| MakeHist | 0.103 | 0.003 | 0.106 | |
| MakeKnnList | 0.122 | 0.002 | 0.123 | |
| MeaningOfLife | 0.000 | 0.000 | 0.001 | |
| ParseMarkers | 0.093 | 0.012 | 0.105 | |
| PostProcessing | 0.026 | 0.000 | 0.026 | |
| ProcessMultipleFiles | 0.036 | 0.001 | 0.037 | |
| QuantNormalizeElements | 0.064 | 0.001 | 0.066 | |
| SconeValues | 3.762 | 0.106 | 3.918 | |
| SplitFile | 0.023 | 0.001 | 0.024 | |
| StringToNumbers | 0 | 0 | 0 | |
| SubsampleAndTsne | 0.630 | 0.047 | 0.685 | |
| TsneVis | 0.049 | 0.001 | 0.051 | |