| Back to Multiple platform build/check report for BioC 3.21: simplified long |
|
This page was generated on 2025-10-16 11:38 -0400 (Thu, 16 Oct 2025).
| Hostname | OS | Arch (*) | R version | Installed pkgs |
|---|---|---|---|---|
| nebbiolo1 | Linux (Ubuntu 24.04.3 LTS) | x86_64 | 4.5.1 (2025-06-13) -- "Great Square Root" | 4833 |
| merida1 | macOS 12.7.6 Monterey | x86_64 | 4.5.1 RC (2025-06-05 r88288) -- "Great Square Root" | 4614 |
| kjohnson1 | macOS 13.7.5 Ventura | arm64 | 4.5.1 Patched (2025-06-14 r88325) -- "Great Square Root" | 4555 |
| kunpeng2 | Linux (openEuler 24.03 LTS) | aarch64 | R Under development (unstable) (2025-02-19 r87757) -- "Unsuffered Consequences" | 4586 |
| Click on any hostname to see more info about the system (e.g. compilers) (*) as reported by 'uname -p', except on Windows and Mac OS X | ||||
| Package 2086/2341 | Hostname | OS / Arch | INSTALL | BUILD | CHECK | BUILD BIN | ||||||||
| SPLINTER 1.34.0 (landing page) Diana Low
| nebbiolo1 | Linux (Ubuntu 24.04.3 LTS) / x86_64 | OK | OK | OK | |||||||||
| merida1 | macOS 12.7.6 Monterey / x86_64 | OK | OK | OK | OK | |||||||||
| kjohnson1 | macOS 13.7.5 Ventura / arm64 | OK | ERROR | skipped | skipped | |||||||||
| kunpeng2 | Linux (openEuler 24.03 LTS) / aarch64 | OK | ERROR | skipped | ||||||||||
|
To the developers/maintainers of the SPLINTER package: - Allow up to 24 hours (and sometimes 48 hours) for your latest push to git@git.bioconductor.org:packages/SPLINTER.git to reflect on this report. See Troubleshooting Build Report for more information. - Use the following Renviron settings to reproduce errors and warnings. - If 'R CMD check' started to fail recently on the Linux builder(s) over a missing dependency, add the missing dependency to 'Suggests:' in your DESCRIPTION file. See Renviron.bioc for more information. |
| Package: SPLINTER |
| Version: 1.34.0 |
| Command: /home/biocbuild/bbs-3.21-bioc/R/bin/R CMD check --install=check:SPLINTER.install-out.txt --library=/home/biocbuild/bbs-3.21-bioc/R/site-library --timings SPLINTER_1.34.0.tar.gz |
| StartedAt: 2025-10-16 04:00:51 -0400 (Thu, 16 Oct 2025) |
| EndedAt: 2025-10-16 04:07:23 -0400 (Thu, 16 Oct 2025) |
| EllapsedTime: 392.4 seconds |
| RetCode: 0 |
| Status: OK |
| CheckDir: SPLINTER.Rcheck |
| Warnings: 0 |
##############################################################################
##############################################################################
###
### Running command:
###
### /home/biocbuild/bbs-3.21-bioc/R/bin/R CMD check --install=check:SPLINTER.install-out.txt --library=/home/biocbuild/bbs-3.21-bioc/R/site-library --timings SPLINTER_1.34.0.tar.gz
###
##############################################################################
##############################################################################
* using log directory ‘/home/biocbuild/bbs-3.21-bioc/meat/SPLINTER.Rcheck’
* using R version 4.5.1 (2025-06-13)
* using platform: x86_64-pc-linux-gnu
* R was compiled by
gcc (Ubuntu 13.3.0-6ubuntu2~24.04) 13.3.0
GNU Fortran (Ubuntu 13.3.0-6ubuntu2~24.04) 13.3.0
* running under: Ubuntu 24.04.3 LTS
* using session charset: UTF-8
* checking for file ‘SPLINTER/DESCRIPTION’ ... OK
* checking extension type ... Package
* this is package ‘SPLINTER’ version ‘1.34.0’
* package encoding: UTF-8
* checking package namespace information ... OK
* checking package dependencies ... OK
* checking if this is a source package ... OK
* checking if there is a namespace ... OK
* checking for hidden files and directories ... OK
* checking for portable file names ... OK
* checking for sufficient/correct file permissions ... OK
* checking whether package ‘SPLINTER’ can be installed ... OK
* checking installed package size ... OK
* checking package directory ... OK
* checking ‘build’ directory ... OK
* checking DESCRIPTION meta-information ... OK
* checking top-level files ... OK
* checking for left-over files ... OK
* checking index information ... OK
* checking package subdirectories ... OK
* checking code files for non-ASCII characters ... OK
* checking R files for syntax errors ... OK
* checking whether the package can be loaded ... OK
* checking whether the package can be loaded with stated dependencies ... OK
* checking whether the package can be unloaded cleanly ... OK
* checking whether the namespace can be loaded with stated dependencies ... OK
* checking whether the namespace can be unloaded cleanly ... OK
* checking loading without being on the library search path ... OK
* checking dependencies in R code ... OK
* checking S3 generic/method consistency ... OK
* checking replacement functions ... OK
* checking foreign function calls ... OK
* checking R code for possible problems ... OK
* checking Rd files ... OK
* checking Rd metadata ... OK
* checking Rd cross-references ... OK
* checking for missing documentation entries ... OK
* checking for code/documentation mismatches ... OK
* checking Rd \usage sections ... OK
* checking Rd contents ... OK
* checking for unstated dependencies in examples ... OK
* checking contents of ‘data’ directory ... OK
* checking data for non-ASCII characters ... OK
* checking LazyData ... OK
* checking data for ASCII and uncompressed saves ... OK
* checking files in ‘vignettes’ ... OK
* checking examples ... OK
Examples with CPU (user + system) or elapsed time > 5s
user system elapsed
eventPlot 11.583 0.239 11.833
* checking for unstated dependencies in vignettes ... OK
* checking package vignettes ... OK
* checking re-building of vignette outputs ... OK
* checking PDF version of manual ... OK
* DONE
Status: OK
SPLINTER.Rcheck/00install.out
############################################################################## ############################################################################## ### ### Running command: ### ### /home/biocbuild/bbs-3.21-bioc/R/bin/R CMD INSTALL SPLINTER ### ############################################################################## ############################################################################## * installing to library ‘/home/biocbuild/bbs-3.21-bioc/R/site-library’ * installing *source* package ‘SPLINTER’ ... ** this is package ‘SPLINTER’ version ‘1.34.0’ ** using staged installation ** R ** data *** moving datasets to lazyload DB ** inst ** byte-compile and prepare package for lazy loading ** help *** installing help indices ** building package indices ** installing vignettes ** testing if installed package can be loaded from temporary location ** testing if installed package can be loaded from final location ** testing if installed package keeps a record of temporary installation path * DONE (SPLINTER)
SPLINTER.Rcheck/SPLINTER-Ex.timings
| name | user | system | elapsed | |
| acceptor.m | 0.002 | 0.001 | 0.002 | |
| addEnsemblAnnotation | 0.005 | 0.000 | 0.006 | |
| callPrimer3 | 0.001 | 0.001 | 0.001 | |
| checkPrimer | 0.064 | 0.011 | 0.076 | |
| compatible_cds | 0.000 | 0.000 | 0.001 | |
| compatible_tx | 0.001 | 0.000 | 0.001 | |
| donor.m | 0.000 | 0.000 | 0.001 | |
| eventOutcomeCompare | 1.261 | 0.067 | 1.329 | |
| eventOutcomeTranslate | 0.356 | 0.047 | 0.404 | |
| eventPlot | 11.583 | 0.239 | 11.833 | |
| extendROI | 0.595 | 0.004 | 0.600 | |
| extractSpliceEvents | 0.003 | 0.000 | 0.004 | |
| extractSpliceSites | 0.075 | 0.002 | 0.078 | |
| findCompatibleEvents | 0.291 | 0.001 | 0.292 | |
| findCompatibleExon | 0.195 | 0.000 | 0.195 | |
| findTX | 0.012 | 0.000 | 0.013 | |
| getPCRsizes | 2.281 | 0.170 | 2.451 | |
| getRegionDNA | 0.251 | 0.006 | 0.257 | |
| insertRegion | 0.179 | 0.003 | 0.181 | |
| makeROI | 0.245 | 0.001 | 0.247 | |
| makeUniqueIDs | 0.004 | 0.000 | 0.003 | |
| pcr_result1 | 0.000 | 0.001 | 0.001 | |
| plot_seqlogo | 0.036 | 0.005 | 0.041 | |
| primers | 0.000 | 0.000 | 0.001 | |
| psiPlot | 0.317 | 0.004 | 0.321 | |
| region_minus_exon | 0.000 | 0.001 | 0.001 | |
| roi | 0.000 | 0.000 | 0.001 | |
| shapiroAcceptor | 0.439 | 0.019 | 0.458 | |
| shapiroDonor | 0.381 | 0.007 | 0.388 | |
| splice_data | 0.001 | 0.000 | 0.001 | |
| splice_fasta | 0.000 | 0.000 | 0.001 | |
| splitPCRhit | 0.001 | 0.000 | 0.002 | |
| thecds | 0.001 | 0.000 | 0.001 | |
| theexons | 0.001 | 0.001 | 0.000 | |
| valid_cds | 0.000 | 0.000 | 0.001 | |
| valid_tx | 0.000 | 0.000 | 0.001 | |