| Back to Multiple platform build/check report for BioC 3.21: simplified long |
|
This page was generated on 2025-10-16 11:39 -0400 (Thu, 16 Oct 2025).
| Hostname | OS | Arch (*) | R version | Installed pkgs |
|---|---|---|---|---|
| nebbiolo1 | Linux (Ubuntu 24.04.3 LTS) | x86_64 | 4.5.1 (2025-06-13) -- "Great Square Root" | 4833 |
| merida1 | macOS 12.7.6 Monterey | x86_64 | 4.5.1 RC (2025-06-05 r88288) -- "Great Square Root" | 4614 |
| kjohnson1 | macOS 13.7.5 Ventura | arm64 | 4.5.1 Patched (2025-06-14 r88325) -- "Great Square Root" | 4555 |
| kunpeng2 | Linux (openEuler 24.03 LTS) | aarch64 | R Under development (unstable) (2025-02-19 r87757) -- "Unsuffered Consequences" | 4586 |
| Click on any hostname to see more info about the system (e.g. compilers) (*) as reported by 'uname -p', except on Windows and Mac OS X | ||||
| Package 2086/2341 | Hostname | OS / Arch | INSTALL | BUILD | CHECK | BUILD BIN | ||||||||
| SPLINTER 1.34.0 (landing page) Diana Low
| nebbiolo1 | Linux (Ubuntu 24.04.3 LTS) / x86_64 | OK | OK | OK | |||||||||
| merida1 | macOS 12.7.6 Monterey / x86_64 | OK | OK | OK | OK | |||||||||
| kjohnson1 | macOS 13.7.5 Ventura / arm64 | OK | ERROR | skipped | skipped | |||||||||
| kunpeng2 | Linux (openEuler 24.03 LTS) / aarch64 | OK | ERROR | skipped | ||||||||||
|
To the developers/maintainers of the SPLINTER package: - Allow up to 24 hours (and sometimes 48 hours) for your latest push to git@git.bioconductor.org:packages/SPLINTER.git to reflect on this report. See Troubleshooting Build Report for more information. - Use the following Renviron settings to reproduce errors and warnings. - If 'R CMD check' started to fail recently on the Linux builder(s) over a missing dependency, add the missing dependency to 'Suggests:' in your DESCRIPTION file. See Renviron.bioc for more information. |
| Package: SPLINTER |
| Version: 1.34.0 |
| Command: /Library/Frameworks/R.framework/Resources/bin/R CMD check --install=check:SPLINTER.install-out.txt --library=/Library/Frameworks/R.framework/Resources/library --no-vignettes --timings SPLINTER_1.34.0.tar.gz |
| StartedAt: 2025-10-14 11:02:08 -0400 (Tue, 14 Oct 2025) |
| EndedAt: 2025-10-14 11:13:30 -0400 (Tue, 14 Oct 2025) |
| EllapsedTime: 681.9 seconds |
| RetCode: 0 |
| Status: OK |
| CheckDir: SPLINTER.Rcheck |
| Warnings: 0 |
##############################################################################
##############################################################################
###
### Running command:
###
### /Library/Frameworks/R.framework/Resources/bin/R CMD check --install=check:SPLINTER.install-out.txt --library=/Library/Frameworks/R.framework/Resources/library --no-vignettes --timings SPLINTER_1.34.0.tar.gz
###
##############################################################################
##############################################################################
* using log directory ‘/Users/biocbuild/bbs-3.21-bioc/meat/SPLINTER.Rcheck’
* using R version 4.5.1 RC (2025-06-05 r88288)
* using platform: x86_64-apple-darwin20
* R was compiled by
Apple clang version 14.0.0 (clang-1400.0.29.202)
GNU Fortran (GCC) 14.2.0
* running under: macOS Monterey 12.7.6
* using session charset: UTF-8
* using option ‘--no-vignettes’
* checking for file ‘SPLINTER/DESCRIPTION’ ... OK
* checking extension type ... Package
* this is package ‘SPLINTER’ version ‘1.34.0’
* package encoding: UTF-8
* checking package namespace information ... OK
* checking package dependencies ... OK
* checking if this is a source package ... OK
* checking if there is a namespace ... OK
* checking for hidden files and directories ... OK
* checking for portable file names ... OK
* checking for sufficient/correct file permissions ... OK
* checking whether package ‘SPLINTER’ can be installed ... OK
* checking installed package size ... OK
* checking package directory ... OK
* checking ‘build’ directory ... OK
* checking DESCRIPTION meta-information ... OK
* checking top-level files ... OK
* checking for left-over files ... OK
* checking index information ... OK
* checking package subdirectories ... OK
* checking code files for non-ASCII characters ... OK
* checking R files for syntax errors ... OK
* checking whether the package can be loaded ... OK
* checking whether the package can be loaded with stated dependencies ... OK
* checking whether the package can be unloaded cleanly ... OK
* checking whether the namespace can be loaded with stated dependencies ... OK
* checking whether the namespace can be unloaded cleanly ... OK
* checking dependencies in R code ... OK
* checking S3 generic/method consistency ... OK
* checking replacement functions ... OK
* checking foreign function calls ... OK
* checking R code for possible problems ... OK
* checking Rd files ... OK
* checking Rd metadata ... OK
* checking Rd cross-references ... OK
* checking for missing documentation entries ... OK
* checking for code/documentation mismatches ... OK
* checking Rd \usage sections ... OK
* checking Rd contents ... OK
* checking for unstated dependencies in examples ... OK
* checking contents of ‘data’ directory ... OK
* checking data for non-ASCII characters ... OK
* checking LazyData ... OK
* checking data for ASCII and uncompressed saves ... OK
* checking sizes of PDF files under ‘inst/doc’ ... OK
* checking files in ‘vignettes’ ... OK
* checking examples ... OK
Examples with CPU (user + system) or elapsed time > 5s
user system elapsed
eventPlot 20.156 0.309 20.511
* checking for unstated dependencies in vignettes ... OK
* checking package vignettes ... OK
* checking running R code from vignettes ... SKIPPED
* checking re-building of vignette outputs ... SKIPPED
* checking PDF version of manual ... OK
* DONE
Status: OK
SPLINTER.Rcheck/00install.out
############################################################################## ############################################################################## ### ### Running command: ### ### /Library/Frameworks/R.framework/Resources/bin/R CMD INSTALL SPLINTER ### ############################################################################## ############################################################################## * installing to library ‘/Library/Frameworks/R.framework/Versions/4.5-x86_64/Resources/library’ * installing *source* package ‘SPLINTER’ ... ** this is package ‘SPLINTER’ version ‘1.34.0’ ** using staged installation ** R ** data *** moving datasets to lazyload DB ** inst ** byte-compile and prepare package for lazy loading ** help *** installing help indices ** building package indices ** installing vignettes ** testing if installed package can be loaded from temporary location ** testing if installed package can be loaded from final location ** testing if installed package keeps a record of temporary installation path * DONE (SPLINTER)
SPLINTER.Rcheck/SPLINTER-Ex.timings
| name | user | system | elapsed | |
| acceptor.m | 0.003 | 0.002 | 0.005 | |
| addEnsemblAnnotation | 0.010 | 0.002 | 0.012 | |
| callPrimer3 | 0.000 | 0.001 | 0.001 | |
| checkPrimer | 0.156 | 0.019 | 0.176 | |
| compatible_cds | 0.002 | 0.001 | 0.003 | |
| compatible_tx | 0.001 | 0.002 | 0.003 | |
| donor.m | 0.001 | 0.001 | 0.003 | |
| eventOutcomeCompare | 2.806 | 0.157 | 2.969 | |
| eventOutcomeTranslate | 0.813 | 0.092 | 0.907 | |
| eventPlot | 20.156 | 0.309 | 20.511 | |
| extendROI | 1.351 | 0.037 | 1.390 | |
| extractSpliceEvents | 0.006 | 0.001 | 0.007 | |
| extractSpliceSites | 0.196 | 0.002 | 0.199 | |
| findCompatibleEvents | 0.741 | 0.002 | 0.744 | |
| findCompatibleExon | 0.460 | 0.002 | 0.463 | |
| findTX | 0.029 | 0.000 | 0.030 | |
| getPCRsizes | 3.976 | 0.239 | 4.228 | |
| getRegionDNA | 0.598 | 0.028 | 0.664 | |
| insertRegion | 0.406 | 0.005 | 0.455 | |
| makeROI | 0.617 | 0.001 | 0.619 | |
| makeUniqueIDs | 0.006 | 0.001 | 0.007 | |
| pcr_result1 | 0.002 | 0.003 | 0.004 | |
| plot_seqlogo | 0.076 | 0.005 | 0.081 | |
| primers | 0.001 | 0.002 | 0.004 | |
| psiPlot | 0.783 | 0.008 | 0.793 | |
| region_minus_exon | 0.002 | 0.003 | 0.004 | |
| roi | 0.002 | 0.003 | 0.005 | |
| shapiroAcceptor | 0.993 | 0.050 | 1.046 | |
| shapiroDonor | 0.880 | 0.031 | 0.913 | |
| splice_data | 0.002 | 0.002 | 0.003 | |
| splice_fasta | 0.001 | 0.002 | 0.004 | |
| splitPCRhit | 0.004 | 0.001 | 0.005 | |
| thecds | 0.001 | 0.002 | 0.003 | |
| theexons | 0.002 | 0.002 | 0.003 | |
| valid_cds | 0.001 | 0.002 | 0.004 | |
| valid_tx | 0.002 | 0.002 | 0.004 | |