| Back to Multiple platform build/check report for BioC 3.22: simplified long |
|
This page was generated on 2025-11-07 12:01 -0500 (Fri, 07 Nov 2025).
| Hostname | OS | Arch (*) | R version | Installed pkgs |
|---|---|---|---|---|
| nebbiolo2 | Linux (Ubuntu 24.04.3 LTS) | x86_64 | 4.5.1 Patched (2025-08-23 r88802) -- "Great Square Root" | 4902 |
| kjohnson3 | macOS 13.7.7 Ventura | arm64 | 4.5.1 Patched (2025-09-10 r88807) -- "Great Square Root" | 4638 |
| Click on any hostname to see more info about the system (e.g. compilers) (*) as reported by 'uname -p', except on Windows and Mac OS X | ||||
| Package 2058/2361 | Hostname | OS / Arch | INSTALL | BUILD | CHECK | BUILD BIN | ||||||||
| SNPhood 1.40.0 (landing page) Christian Arnold
| nebbiolo2 | Linux (Ubuntu 24.04.3 LTS) / x86_64 | OK | OK | OK | |||||||||
| kjohnson3 | macOS 13.7.7 Ventura / arm64 | OK | OK | OK | OK | |||||||||
|
To the developers/maintainers of the SNPhood package: - Allow up to 24 hours (and sometimes 48 hours) for your latest push to git@git.bioconductor.org:packages/SNPhood.git to reflect on this report. See Troubleshooting Build Report for more information. - Use the following Renviron settings to reproduce errors and warnings. - If 'R CMD check' started to fail recently on the Linux builder(s) over a missing dependency, add the missing dependency to 'Suggests:' in your DESCRIPTION file. See Renviron.bioc for more information. |
| Package: SNPhood |
| Version: 1.40.0 |
| Command: /Library/Frameworks/R.framework/Resources/bin/R CMD check --install=check:SNPhood.install-out.txt --library=/Library/Frameworks/R.framework/Resources/library --no-vignettes --timings SNPhood_1.40.0.tar.gz |
| StartedAt: 2025-11-06 22:12:24 -0500 (Thu, 06 Nov 2025) |
| EndedAt: 2025-11-06 22:16:29 -0500 (Thu, 06 Nov 2025) |
| EllapsedTime: 244.9 seconds |
| RetCode: 0 |
| Status: OK |
| CheckDir: SNPhood.Rcheck |
| Warnings: 0 |
##############################################################################
##############################################################################
###
### Running command:
###
### /Library/Frameworks/R.framework/Resources/bin/R CMD check --install=check:SNPhood.install-out.txt --library=/Library/Frameworks/R.framework/Resources/library --no-vignettes --timings SNPhood_1.40.0.tar.gz
###
##############################################################################
##############################################################################
* using log directory ‘/Users/biocbuild/bbs-3.22-bioc/meat/SNPhood.Rcheck’
* using R version 4.5.1 Patched (2025-09-10 r88807)
* using platform: aarch64-apple-darwin20
* R was compiled by
Apple clang version 16.0.0 (clang-1600.0.26.6)
GNU Fortran (GCC) 14.2.0
* running under: macOS Ventura 13.7.7
* using session charset: UTF-8
* using option ‘--no-vignettes’
* checking for file ‘SNPhood/DESCRIPTION’ ... OK
* this is package ‘SNPhood’ version ‘1.40.0’
* checking package namespace information ... OK
* checking package dependencies ... OK
* checking if this is a source package ... OK
* checking if there is a namespace ... OK
* checking for hidden files and directories ... OK
* checking for portable file names ... OK
* checking for sufficient/correct file permissions ... OK
* checking whether package ‘SNPhood’ can be installed ... OK
* checking installed package size ... OK
* checking package directory ... OK
* checking ‘build’ directory ... OK
* checking DESCRIPTION meta-information ... NOTE
BugReports field is not a suitable URL but contains an email address:
use the Contact field instead
* checking top-level files ... OK
* checking for left-over files ... OK
* checking index information ... OK
* checking package subdirectories ... OK
* checking code files for non-ASCII characters ... OK
* checking R files for syntax errors ... OK
* checking whether the package can be loaded ... OK
* checking whether the package can be loaded with stated dependencies ... OK
* checking whether the package can be unloaded cleanly ... OK
* checking whether the namespace can be loaded with stated dependencies ... OK
* checking whether the namespace can be unloaded cleanly ... OK
* checking whether startup messages can be suppressed ... OK
* checking dependencies in R code ... OK
* checking S3 generic/method consistency ... OK
* checking replacement functions ... OK
* checking foreign function calls ... OK
* checking R code for possible problems ... NOTE
.calcBinomTestVector: no visible binding for global variable ‘pp’
Undefined global functions or variables:
pp
* checking Rd files ... OK
* checking Rd metadata ... OK
* checking Rd cross-references ... NOTE
Found the following Rd file(s) with Rd \link{} targets missing package
anchors:
analyzeSNPhood.Rd: BamFile-class, BamFileList-class
collectFiles.Rd: BamFile-class, BamFileList-class
Please provide package anchors for all Rd \link{} targets not in the
package itself and the base packages.
* checking for missing documentation entries ... OK
* checking for code/documentation mismatches ... OK
* checking Rd \usage sections ... OK
* checking Rd contents ... OK
* checking for unstated dependencies in examples ... OK
* checking contents of ‘data’ directory ... OK
* checking data for non-ASCII characters ... OK
* checking LazyData ... OK
* checking data for ASCII and uncompressed saves ... OK
* checking files in ‘vignettes’ ... OK
* checking examples ... OK
Examples with CPU (user + system) or elapsed time > 5s
user system elapsed
analyzeSNPhood 40.504 0.880 41.906
plotAllelicBiasResults 11.633 0.191 11.953
plotAndSummarizeAllelicBiasTest 11.297 0.165 11.595
testForAllelicBiases 10.816 0.184 11.128
plotFDRResults 10.832 0.156 11.184
* checking for unstated dependencies in vignettes ... OK
* checking package vignettes ... OK
* checking running R code from vignettes ... SKIPPED
* checking re-building of vignette outputs ... SKIPPED
* checking PDF version of manual ... OK
* DONE
Status: 3 NOTEs
See
‘/Users/biocbuild/bbs-3.22-bioc/meat/SNPhood.Rcheck/00check.log’
for details.
SNPhood.Rcheck/00install.out
############################################################################## ############################################################################## ### ### Running command: ### ### /Library/Frameworks/R.framework/Resources/bin/R CMD INSTALL SNPhood ### ############################################################################## ############################################################################## * installing to library ‘/Library/Frameworks/R.framework/Versions/4.5-arm64/Resources/library’ * installing *source* package ‘SNPhood’ ... ** this is package ‘SNPhood’ version ‘1.40.0’ ** using staged installation ** R ** data *** moving datasets to lazyload DB ** byte-compile and prepare package for lazy loading ** help *** installing help indices ** building package indices ** installing vignettes ** testing if installed package can be loaded from temporary location ** testing if installed package can be loaded from final location ** testing if installed package keeps a record of temporary installation path * DONE (SNPhood)
SNPhood.Rcheck/SNPhood-Ex.timings
| name | user | system | elapsed | |
| analyzeSNPhood | 40.504 | 0.880 | 41.906 | |
| annotation-methods | 0.074 | 0.024 | 0.098 | |
| annotationBins | 0.047 | 0.015 | 0.062 | |
| annotationBins2 | 4.619 | 0.016 | 4.654 | |
| annotationDatasets | 0.045 | 0.011 | 0.056 | |
| annotationReadGroups | 0.049 | 0.011 | 0.060 | |
| annotationRegions | 0.051 | 0.010 | 0.060 | |
| associateGenotypes | 1.820 | 0.054 | 1.934 | |
| bins-methods | 0.048 | 0.013 | 0.065 | |
| changeObjectIntegrityChecking | 0.058 | 0.013 | 0.070 | |
| collectFiles | 0.01 | 0.00 | 0.01 | |
| convertToAllelicFractions | 0.076 | 0.022 | 0.099 | |
| counts-method | 0.076 | 0.015 | 0.092 | |
| datasets-methods | 0.052 | 0.009 | 0.062 | |
| deleteDatasets | 0.486 | 0.013 | 0.499 | |
| deleteReadGroups | 0.057 | 0.007 | 0.065 | |
| deleteRegions | 0.483 | 0.007 | 0.490 | |
| enrichment-methods | 0.053 | 0.005 | 0.058 | |
| getDefaultParameterList | 0 | 0 | 0 | |
| mergeReadGroups | 0.065 | 0.006 | 0.071 | |
| parameters-methods | 0.050 | 0.006 | 0.056 | |
| plotAllelicBiasResults | 11.633 | 0.191 | 11.953 | |
| plotAllelicBiasResultsOverview | 0.364 | 0.008 | 0.371 | |
| plotAndCalculateCorrelationDatasets | 0.576 | 0.010 | 0.586 | |
| plotAndCalculateWeakAndStrongGenotype | 0.245 | 0.029 | 0.274 | |
| plotAndClusterMatrix | 0.198 | 0.025 | 0.225 | |
| plotAndSummarizeAllelicBiasTest | 11.297 | 0.165 | 11.595 | |
| plotBinCounts | 0.523 | 0.019 | 0.554 | |
| plotClusterAverage | 0.240 | 0.012 | 0.251 | |
| plotFDRResults | 10.832 | 0.156 | 11.184 | |
| plotGenotypesPerCluster | 0.173 | 0.021 | 0.194 | |
| plotGenotypesPerSNP | 0.14 | 0.01 | 0.15 | |
| plotRegionCounts | 0.610 | 0.016 | 0.646 | |
| readGroups-methods | 0.051 | 0.020 | 0.073 | |
| regions-methods | 0.085 | 0.039 | 0.126 | |
| renameBins | 0.051 | 0.011 | 0.064 | |
| renameDatasets | 0.054 | 0.015 | 0.073 | |
| renameReadGroups | 0.051 | 0.012 | 0.065 | |
| renameRegions | 1.115 | 0.042 | 1.159 | |
| results | 0.715 | 2.390 | 3.155 | |
| testForAllelicBiases | 10.816 | 0.184 | 11.128 | |