Back to Multiple platform build/check report for BioC 3.22:   simplified   long
ABCDEFGHIJKLMNOPQR[S]TUVWXYZ

This page was generated on 2025-11-07 12:00 -0500 (Fri, 07 Nov 2025).

HostnameOSArch (*)R versionInstalled pkgs
nebbiolo2Linux (Ubuntu 24.04.3 LTS)x86_644.5.1 Patched (2025-08-23 r88802) -- "Great Square Root" 4902
kjohnson3macOS 13.7.7 Venturaarm644.5.1 Patched (2025-09-10 r88807) -- "Great Square Root" 4638
Click on any hostname to see more info about the system (e.g. compilers)      (*) as reported by 'uname -p', except on Windows and Mac OS X

Package 2058/2361HostnameOS / ArchINSTALLBUILDCHECKBUILD BIN
SNPhood 1.40.0  (landing page)
Christian Arnold
Snapshot Date: 2025-11-06 13:45 -0500 (Thu, 06 Nov 2025)
git_url: https://git.bioconductor.org/packages/SNPhood
git_branch: RELEASE_3_22
git_last_commit: 60c689c
git_last_commit_date: 2025-10-29 10:28:24 -0500 (Wed, 29 Oct 2025)
nebbiolo2Linux (Ubuntu 24.04.3 LTS) / x86_64  OK    OK    OK  UNNEEDED, same version is already published
kjohnson3macOS 13.7.7 Ventura / arm64  OK    OK    OK    OK  UNNEEDED, same version is already published


CHECK results for SNPhood on nebbiolo2

To the developers/maintainers of the SNPhood package:
- Allow up to 24 hours (and sometimes 48 hours) for your latest push to git@git.bioconductor.org:packages/SNPhood.git to reflect on this report. See Troubleshooting Build Report for more information.
- Use the following Renviron settings to reproduce errors and warnings.
- If 'R CMD check' started to fail recently on the Linux builder(s) over a missing dependency, add the missing dependency to 'Suggests:' in your DESCRIPTION file. See Renviron.bioc for more information.

raw results


Summary

Package: SNPhood
Version: 1.40.0
Command: /home/biocbuild/bbs-3.22-bioc/R/bin/R CMD check --install=check:SNPhood.install-out.txt --library=/home/biocbuild/bbs-3.22-bioc/R/site-library --timings SNPhood_1.40.0.tar.gz
StartedAt: 2025-11-07 04:14:34 -0500 (Fri, 07 Nov 2025)
EndedAt: 2025-11-07 04:28:11 -0500 (Fri, 07 Nov 2025)
EllapsedTime: 817.7 seconds
RetCode: 0
Status:   OK  
CheckDir: SNPhood.Rcheck
Warnings: 0

Command output

##############################################################################
##############################################################################
###
### Running command:
###
###   /home/biocbuild/bbs-3.22-bioc/R/bin/R CMD check --install=check:SNPhood.install-out.txt --library=/home/biocbuild/bbs-3.22-bioc/R/site-library --timings SNPhood_1.40.0.tar.gz
###
##############################################################################
##############################################################################


* using log directory ‘/home/biocbuild/bbs-3.22-bioc/meat/SNPhood.Rcheck’
* using R version 4.5.1 Patched (2025-08-23 r88802)
* using platform: x86_64-pc-linux-gnu
* R was compiled by
    gcc (Ubuntu 13.3.0-6ubuntu2~24.04) 13.3.0
    GNU Fortran (Ubuntu 13.3.0-6ubuntu2~24.04) 13.3.0
* running under: Ubuntu 24.04.3 LTS
* using session charset: UTF-8
* checking for file ‘SNPhood/DESCRIPTION’ ... OK
* this is package ‘SNPhood’ version ‘1.40.0’
* checking package namespace information ... OK
* checking package dependencies ... OK
* checking if this is a source package ... OK
* checking if there is a namespace ... OK
* checking for hidden files and directories ... OK
* checking for portable file names ... OK
* checking for sufficient/correct file permissions ... OK
* checking whether package ‘SNPhood’ can be installed ... OK
* checking installed package size ... OK
* checking package directory ... OK
* checking ‘build’ directory ... OK
* checking DESCRIPTION meta-information ... NOTE
BugReports field is not a suitable URL but contains an email address:
   use the Contact field instead
* checking top-level files ... OK
* checking for left-over files ... OK
* checking index information ... OK
* checking package subdirectories ... OK
* checking code files for non-ASCII characters ... OK
* checking R files for syntax errors ... OK
* checking whether the package can be loaded ... OK
* checking whether the package can be loaded with stated dependencies ... OK
* checking whether the package can be unloaded cleanly ... OK
* checking whether the namespace can be loaded with stated dependencies ... OK
* checking whether the namespace can be unloaded cleanly ... OK
* checking loading without being on the library search path ... OK
* checking whether startup messages can be suppressed ... OK
* checking dependencies in R code ... OK
* checking S3 generic/method consistency ... OK
* checking replacement functions ... OK
* checking foreign function calls ... OK
* checking R code for possible problems ... NOTE
.calcBinomTestVector: no visible binding for global variable ‘pp’
Undefined global functions or variables:
  pp
* checking Rd files ... OK
* checking Rd metadata ... OK
* checking Rd cross-references ... NOTE
Found the following Rd file(s) with Rd \link{} targets missing package
anchors:
  analyzeSNPhood.Rd: BamFile-class, BamFileList-class
  collectFiles.Rd: BamFile-class, BamFileList-class
Please provide package anchors for all Rd \link{} targets not in the
package itself and the base packages.
* checking for missing documentation entries ... OK
* checking for code/documentation mismatches ... OK
* checking Rd \usage sections ... OK
* checking Rd contents ... OK
* checking for unstated dependencies in examples ... OK
* checking contents of ‘data’ directory ... OK
* checking data for non-ASCII characters ... OK
* checking LazyData ... OK
* checking data for ASCII and uncompressed saves ... OK
* checking files in ‘vignettes’ ... OK
* checking examples ... OK
Examples with CPU (user + system) or elapsed time > 5s
                                   user system elapsed
analyzeSNPhood                  110.947  4.621 115.711
plotAllelicBiasResults           33.016  1.931  32.539
plotAndSummarizeAllelicBiasTest  30.452  0.867  28.799
plotFDRResults                   30.113  0.506  28.558
testForAllelicBiases             29.095  0.119  26.397
annotationBins2                  10.446  0.002  10.449
associateGenotypes                5.782  0.000   5.783
* checking for unstated dependencies in vignettes ... OK
* checking package vignettes ... OK
* checking re-building of vignette outputs ... OK
* checking PDF version of manual ... OK
* DONE

Status: 3 NOTEs
See
  ‘/home/biocbuild/bbs-3.22-bioc/meat/SNPhood.Rcheck/00check.log’
for details.


Installation output

SNPhood.Rcheck/00install.out

##############################################################################
##############################################################################
###
### Running command:
###
###   /home/biocbuild/bbs-3.22-bioc/R/bin/R CMD INSTALL SNPhood
###
##############################################################################
##############################################################################


* installing to library ‘/home/biocbuild/bbs-3.22-bioc/R/site-library’
* installing *source* package ‘SNPhood’ ...
** this is package ‘SNPhood’ version ‘1.40.0’
** using staged installation
** R
** data
*** moving datasets to lazyload DB
** byte-compile and prepare package for lazy loading
** help
*** installing help indices
** building package indices
** installing vignettes
** testing if installed package can be loaded from temporary location
** testing if installed package can be loaded from final location
** testing if installed package keeps a record of temporary installation path
* DONE (SNPhood)

Tests output


Example timings

SNPhood.Rcheck/SNPhood-Ex.timings

nameusersystemelapsed
analyzeSNPhood110.947 4.621115.711
annotation-methods0.2000.0250.225
annotationBins0.1270.0150.142
annotationBins210.446 0.00210.449
annotationDatasets0.1090.0070.116
annotationReadGroups0.1250.0000.124
annotationRegions0.1220.0000.121
associateGenotypes5.7820.0005.783
bins-methods0.1170.0330.149
changeObjectIntegrityChecking0.1430.0210.164
collectFiles0.0270.0010.028
convertToAllelicFractions0.1980.0000.198
counts-method0.210.010.22
datasets-methods0.1270.0010.128
deleteDatasets1.1550.0221.177
deleteReadGroups0.1380.0090.147
deleteRegions1.1320.0261.158
enrichment-methods0.1360.0160.152
getDefaultParameterList000
mergeReadGroups0.1800.0330.213
parameters-methods0.1270.0280.154
plotAllelicBiasResults33.016 1.93132.539
plotAllelicBiasResultsOverview1.2110.1381.348
plotAndCalculateCorrelationDatasets1.6430.4582.101
plotAndCalculateWeakAndStrongGenotype0.6360.0370.673
plotAndClusterMatrix0.6020.0160.618
plotAndSummarizeAllelicBiasTest30.452 0.86728.799
plotBinCounts1.6910.0681.759
plotClusterAverage0.8000.0750.875
plotFDRResults30.113 0.50628.558
plotGenotypesPerCluster0.5410.0450.586
plotGenotypesPerSNP0.3990.0190.418
plotRegionCounts2.1120.0472.159
readGroups-methods0.1140.0000.113
regions-methods0.1370.0050.141
renameBins0.1370.0060.143
renameDatasets1.3110.0471.358
renameReadGroups0.1240.0030.128
renameRegions2.2310.0172.247
results1.3940.8952.289
testForAllelicBiases29.095 0.11926.397