| Back to Multiple platform build/check report for BioC 3.22: simplified long |
|
This page was generated on 2025-08-15 12:07 -0400 (Fri, 15 Aug 2025).
| Hostname | OS | Arch (*) | R version | Installed pkgs |
|---|---|---|---|---|
| nebbiolo2 | Linux (Ubuntu 24.04.3 LTS) | x86_64 | 4.5.1 (2025-06-13) -- "Great Square Root" | 4818 |
| palomino8 | Windows Server 2022 Datacenter | x64 | 4.5.1 (2025-06-13 ucrt) -- "Great Square Root" | 4554 |
| lconway | macOS 12.7.1 Monterey | x86_64 | 4.5.1 (2025-06-13) -- "Great Square Root" | 4595 |
| kjohnson3 | macOS 13.7.7 Ventura | arm64 | 4.5.1 Patched (2025-06-14 r88325) -- "Great Square Root" | 4537 |
| taishan | Linux (openEuler 24.03 LTS) | aarch64 | 4.5.0 (2025-04-11) -- "How About a Twenty-Six" | 4535 |
| Click on any hostname to see more info about the system (e.g. compilers) (*) as reported by 'uname -p', except on Windows and Mac OS X | ||||
| Package 1619/2317 | Hostname | OS / Arch | INSTALL | BUILD | CHECK | BUILD BIN | ||||||||
| PRONE 1.3.1 (landing page) Lis Arend
| nebbiolo2 | Linux (Ubuntu 24.04.3 LTS) / x86_64 | OK | OK | OK | |||||||||
| palomino8 | Windows Server 2022 Datacenter / x64 | OK | OK | OK | OK | |||||||||
| lconway | macOS 12.7.1 Monterey / x86_64 | OK | OK | OK | OK | |||||||||
| kjohnson3 | macOS 13.7.7 Ventura / arm64 | OK | OK | OK | OK | |||||||||
| taishan | Linux (openEuler 24.03 LTS) / aarch64 | OK | OK | OK | ||||||||||
|
To the developers/maintainers of the PRONE package: - Allow up to 24 hours (and sometimes 48 hours) for your latest push to git@git.bioconductor.org:packages/PRONE.git to reflect on this report. See Troubleshooting Build Report for more information. - Use the following Renviron settings to reproduce errors and warnings. - If 'R CMD check' started to fail recently on the Linux builder(s) over a missing dependency, add the missing dependency to 'Suggests:' in your DESCRIPTION file. See Renviron.bioc for more information. |
| Package: PRONE |
| Version: 1.3.1 |
| Command: F:\biocbuild\bbs-3.22-bioc\R\bin\R.exe CMD check --no-multiarch --install=check:PRONE.install-out.txt --library=F:\biocbuild\bbs-3.22-bioc\R\library --no-vignettes --timings PRONE_1.3.1.tar.gz |
| StartedAt: 2025-08-15 06:37:17 -0400 (Fri, 15 Aug 2025) |
| EndedAt: 2025-08-15 06:43:29 -0400 (Fri, 15 Aug 2025) |
| EllapsedTime: 372.9 seconds |
| RetCode: 0 |
| Status: OK |
| CheckDir: PRONE.Rcheck |
| Warnings: 0 |
##############################################################################
##############################################################################
###
### Running command:
###
### F:\biocbuild\bbs-3.22-bioc\R\bin\R.exe CMD check --no-multiarch --install=check:PRONE.install-out.txt --library=F:\biocbuild\bbs-3.22-bioc\R\library --no-vignettes --timings PRONE_1.3.1.tar.gz
###
##############################################################################
##############################################################################
* using log directory 'F:/biocbuild/bbs-3.22-bioc/meat/PRONE.Rcheck'
* using R version 4.5.1 (2025-06-13 ucrt)
* using platform: x86_64-w64-mingw32
* R was compiled by
gcc.exe (GCC) 14.2.0
GNU Fortran (GCC) 14.2.0
* running under: Windows Server 2022 x64 (build 20348)
* using session charset: UTF-8
* using option '--no-vignettes'
* checking for file 'PRONE/DESCRIPTION' ... OK
* checking extension type ... Package
* this is package 'PRONE' version '1.3.1'
* package encoding: UTF-8
* checking package namespace information ... OK
* checking package dependencies ... INFO
Imports includes 34 non-default packages.
Importing from so many packages makes the package vulnerable to any of
them becoming unavailable. Move as many as possible to Suggests and
use conditionally.
* checking if this is a source package ... OK
* checking if there is a namespace ... OK
* checking for hidden files and directories ... OK
* checking for portable file names ... OK
* checking whether package 'PRONE' can be installed ... OK
* checking installed package size ... OK
* checking package directory ... OK
* checking 'build' directory ... OK
* checking DESCRIPTION meta-information ... OK
* checking top-level files ... OK
* checking for left-over files ... OK
* checking index information ... OK
* checking package subdirectories ... OK
* checking code files for non-ASCII characters ... OK
* checking R files for syntax errors ... OK
* checking whether the package can be loaded ... OK
* checking whether the package can be loaded with stated dependencies ... OK
* checking whether the package can be unloaded cleanly ... OK
* checking whether the namespace can be loaded with stated dependencies ... OK
* checking whether the namespace can be unloaded cleanly ... OK
* checking dependencies in R code ... NOTE
Unexported objects imported by ':::' calls:
'NormalyzerDE:::calculateAvgMadMem'
'NormalyzerDE:::calculateAvgReplicateVariation'
'NormalyzerDE:::calculatePercentageAvgDiffInMat'
'NormalyzerDE:::calculateReplicateCV'
'NormalyzerDE:::calculateSummarizedCorrelationVector'
See the note in ?`:::` about the use of this operator.
* checking S3 generic/method consistency ... OK
* checking replacement functions ... OK
* checking foreign function calls ... OK
* checking R code for possible problems ... OK
* checking Rd files ... OK
* checking Rd metadata ... OK
* checking Rd cross-references ... OK
* checking for missing documentation entries ... OK
* checking for code/documentation mismatches ... OK
* checking Rd \usage sections ... OK
* checking Rd contents ... OK
* checking for unstated dependencies in examples ... OK
* checking contents of 'data' directory ... OK
* checking data for non-ASCII characters ... OK
* checking data for ASCII and uncompressed saves ... OK
* checking files in 'vignettes' ... OK
* checking examples ... OK
Examples with CPU (user + system) or elapsed time > 5s
user system elapsed
normalize_se_combination 5.56 0.03 5.59
plot_heatmap 5.35 0.03 5.42
plot_boxplots 5.02 0.07 5.10
* checking for unstated dependencies in vignettes ... OK
* checking package vignettes ... OK
* checking running R code from vignettes ... SKIPPED
* checking re-building of vignette outputs ... SKIPPED
* checking PDF version of manual ... OK
* DONE
Status: 1 NOTE
See
'F:/biocbuild/bbs-3.22-bioc/meat/PRONE.Rcheck/00check.log'
for details.
PRONE.Rcheck/00install.out
############################################################################## ############################################################################## ### ### Running command: ### ### F:\biocbuild\bbs-3.22-bioc\R\bin\R.exe CMD INSTALL PRONE ### ############################################################################## ############################################################################## * installing to library 'F:/biocbuild/bbs-3.22-bioc/R/library' * installing *source* package 'PRONE' ... ** this is package 'PRONE' version '1.3.1' ** using staged installation ** R ** data ** inst ** byte-compile and prepare package for lazy loading ** help *** installing help indices *** copying figures ** building package indices ** installing vignettes ** testing if installed package can be loaded from temporary location ** testing if installed package can be loaded from final location ** testing if installed package keeps a record of temporary installation path * DONE (PRONE)
PRONE.Rcheck/PRONE-Ex.timings
| name | user | system | elapsed | |
| apply_thresholds | 0.00 | 0.03 | 0.03 | |
| detect_outliers_POMA | 2.03 | 0.11 | 2.15 | |
| eigenMSNorm | 0.77 | 0.10 | 0.86 | |
| export_data | 0.02 | 0.01 | 0.03 | |
| extract_consensus_DE_candidates | 0.12 | 0.00 | 0.12 | |
| filter_out_NA_proteins_by_threshold | 0.29 | 0.02 | 0.30 | |
| filter_out_complete_NA_proteins | 0.04 | 0.03 | 0.08 | |
| filter_out_proteins_by_ID | 0.17 | 0.03 | 0.20 | |
| filter_out_proteins_by_value | 0.18 | 0.00 | 0.17 | |
| get_NA_overview | 0.01 | 0.03 | 0.05 | |
| get_normalization_methods | 0 | 0 | 0 | |
| get_overview_DE | 0.03 | 0.01 | 0.05 | |
| get_proteins_by_value | 0.2 | 0.0 | 0.2 | |
| get_spiked_stats_DE | 0.08 | 0.00 | 0.08 | |
| globalIntNorm | 0.14 | 0.00 | 0.14 | |
| globalMeanNorm | 0.16 | 0.05 | 0.20 | |
| globalMedianNorm | 0.18 | 0.00 | 0.19 | |
| impute_se | 0.86 | 0.05 | 0.90 | |
| irsNorm | 0.08 | 0.00 | 0.08 | |
| limmaNorm | 0.08 | 0.01 | 0.09 | |
| load_data | 0.07 | 0.02 | 0.11 | |
| load_spike_data | 0.08 | 0.00 | 0.08 | |
| loessCycNorm | 0.14 | 0.04 | 0.19 | |
| loessFNorm | 0.10 | 0.02 | 0.11 | |
| meanNorm | 0.03 | 0.03 | 0.06 | |
| medianAbsDevNorm | 0.12 | 0.02 | 0.14 | |
| medianNorm | 0.08 | 0.01 | 0.09 | |
| normalize_se | 4.77 | 0.10 | 4.86 | |
| normalize_se_combination | 5.56 | 0.03 | 5.59 | |
| normalize_se_single | 3.26 | 0.11 | 3.39 | |
| normicsNorm | 2.96 | 0.05 | 3.00 | |
| plot_NA_density | 0.39 | 0.05 | 0.44 | |
| plot_NA_frequency | 0.25 | 0.01 | 0.27 | |
| plot_NA_heatmap | 2.01 | 0.88 | 1.79 | |
| plot_PCA | 1.24 | 0.00 | 1.22 | |
| plot_ROC_AUC_spiked | 1.03 | 0.04 | 1.10 | |
| plot_TP_FP_spiked_bar | 0.30 | 0.03 | 0.32 | |
| plot_TP_FP_spiked_box | 0.42 | 0.02 | 0.44 | |
| plot_TP_FP_spiked_scatter | 0.34 | 0.02 | 0.36 | |
| plot_boxplots | 5.02 | 0.07 | 5.10 | |
| plot_condition_overview | 0.20 | 0.02 | 0.21 | |
| plot_densities | 3.02 | 0.06 | 3.08 | |
| plot_fold_changes_spiked | 0.61 | 0.02 | 0.63 | |
| plot_heatmap | 5.35 | 0.03 | 5.42 | |
| plot_heatmap_DE | 1.60 | 0.05 | 1.67 | |
| plot_histogram_spiked | 0.45 | 0.01 | 0.47 | |
| plot_identified_spiked_proteins | 0.41 | 0.00 | 0.41 | |
| plot_intersection_enrichment | 0.76 | 0.06 | 2.46 | |
| plot_intragroup_PCV | 0.49 | 0.02 | 0.50 | |
| plot_intragroup_PEV | 0.50 | 0.03 | 0.54 | |
| plot_intragroup_PMAD | 0.5 | 0.0 | 0.5 | |
| plot_intragroup_correlation | 0.36 | 0.02 | 0.37 | |
| plot_jaccard_heatmap | 0.23 | 0.01 | 0.25 | |
| plot_logFC_thresholds_spiked | 0.64 | 0.02 | 0.66 | |
| plot_markers_boxplots | 0.83 | 0.03 | 0.86 | |
| plot_nr_prot_samples | 0.30 | 0.01 | 0.31 | |
| plot_overview_DE_bar | 0.47 | 0.04 | 0.50 | |
| plot_overview_DE_tile | 0.23 | 0.01 | 0.25 | |
| plot_profiles_spiked | 0.95 | 0.02 | 0.97 | |
| plot_pvalues_spiked | 0.61 | 0.06 | 0.67 | |
| plot_stats_spiked_heatmap | 0.30 | 0.06 | 0.36 | |
| plot_tot_int_samples | 0.23 | 0.03 | 0.26 | |
| plot_upset | 0.71 | 0.07 | 0.77 | |
| plot_upset_DE | 0.90 | 0.07 | 1.02 | |
| plot_volcano_DE | 3.96 | 0.07 | 4.01 | |
| quantileNorm | 0.01 | 0.03 | 0.05 | |
| readPRONE_example | 0.00 | 0.01 | 0.01 | |
| remove_POMA_outliers | 0.50 | 0.02 | 0.52 | |
| remove_assays_from_SE | 0.06 | 0.01 | 0.08 | |
| remove_reference_samples | 0.05 | 0.02 | 0.06 | |
| remove_samples_manually | 0.05 | 0.00 | 0.05 | |
| rlrMACycNorm | 0.75 | 0.05 | 0.79 | |
| rlrMANorm | 0.08 | 0.03 | 0.11 | |
| rlrNorm | 0.09 | 0.03 | 0.13 | |
| robnormNorm | 0.13 | 0.02 | 0.14 | |
| run_DE | 2.85 | 0.01 | 2.89 | |
| specify_comparisons | 0.04 | 0.00 | 0.03 | |
| subset_SE_by_norm | 0.11 | 0.02 | 0.13 | |
| tmmNorm | 0.20 | 0.03 | 0.23 | |
| vsnNorm | 0.09 | 0.01 | 0.11 | |