| Back to Multiple platform build/check report for BioC 3.22: simplified long |
|
This page was generated on 2025-11-01 12:03 -0400 (Sat, 01 Nov 2025).
| Hostname | OS | Arch (*) | R version | Installed pkgs |
|---|---|---|---|---|
| nebbiolo2 | Linux (Ubuntu 24.04.3 LTS) | x86_64 | 4.5.1 Patched (2025-08-23 r88802) -- "Great Square Root" | 4901 |
| lconway | macOS 12.7.6 Monterey | x86_64 | 4.5.1 Patched (2025-09-10 r88807) -- "Great Square Root" | 4691 |
| kjohnson3 | macOS 13.7.7 Ventura | arm64 | 4.5.1 Patched (2025-09-10 r88807) -- "Great Square Root" | 4637 |
| Click on any hostname to see more info about the system (e.g. compilers) (*) as reported by 'uname -p', except on Windows and Mac OS X | ||||
| Package 1653/2361 | Hostname | OS / Arch | INSTALL | BUILD | CHECK | BUILD BIN | ||||||||
| PRONE 1.4.0 (landing page) Lis Arend
| nebbiolo2 | Linux (Ubuntu 24.04.3 LTS) / x86_64 | OK | OK | OK | |||||||||
| lconway | macOS 12.7.6 Monterey / x86_64 | OK | OK | OK | OK | |||||||||
| kjohnson3 | macOS 13.7.7 Ventura / arm64 | OK | OK | OK | OK | |||||||||
|
To the developers/maintainers of the PRONE package: - Allow up to 24 hours (and sometimes 48 hours) for your latest push to git@git.bioconductor.org:packages/PRONE.git to reflect on this report. See Troubleshooting Build Report for more information. - Use the following Renviron settings to reproduce errors and warnings. - If 'R CMD check' started to fail recently on the Linux builder(s) over a missing dependency, add the missing dependency to 'Suggests:' in your DESCRIPTION file. See Renviron.bioc for more information. |
| Package: PRONE |
| Version: 1.4.0 |
| Command: /home/biocbuild/bbs-3.22-bioc/R/bin/R CMD check --install=check:PRONE.install-out.txt --library=/home/biocbuild/bbs-3.22-bioc/R/site-library --timings PRONE_1.4.0.tar.gz |
| StartedAt: 2025-11-01 03:02:03 -0400 (Sat, 01 Nov 2025) |
| EndedAt: 2025-11-01 03:10:02 -0400 (Sat, 01 Nov 2025) |
| EllapsedTime: 478.4 seconds |
| RetCode: 0 |
| Status: OK |
| CheckDir: PRONE.Rcheck |
| Warnings: 0 |
##############################################################################
##############################################################################
###
### Running command:
###
### /home/biocbuild/bbs-3.22-bioc/R/bin/R CMD check --install=check:PRONE.install-out.txt --library=/home/biocbuild/bbs-3.22-bioc/R/site-library --timings PRONE_1.4.0.tar.gz
###
##############################################################################
##############################################################################
* using log directory ‘/home/biocbuild/bbs-3.22-bioc/meat/PRONE.Rcheck’
* using R version 4.5.1 Patched (2025-08-23 r88802)
* using platform: x86_64-pc-linux-gnu
* R was compiled by
gcc (Ubuntu 13.3.0-6ubuntu2~24.04) 13.3.0
GNU Fortran (Ubuntu 13.3.0-6ubuntu2~24.04) 13.3.0
* running under: Ubuntu 24.04.3 LTS
* using session charset: UTF-8
* checking for file ‘PRONE/DESCRIPTION’ ... OK
* checking extension type ... Package
* this is package ‘PRONE’ version ‘1.4.0’
* package encoding: UTF-8
* checking package namespace information ... OK
* checking package dependencies ... INFO
Imports includes 34 non-default packages.
Importing from so many packages makes the package vulnerable to any of
them becoming unavailable. Move as many as possible to Suggests and
use conditionally.
* checking if this is a source package ... OK
* checking if there is a namespace ... OK
* checking for hidden files and directories ... OK
* checking for portable file names ... OK
* checking for sufficient/correct file permissions ... OK
* checking whether package ‘PRONE’ can be installed ... OK
* checking installed package size ... OK
* checking package directory ... OK
* checking ‘build’ directory ... OK
* checking DESCRIPTION meta-information ... OK
* checking top-level files ... OK
* checking for left-over files ... OK
* checking index information ... OK
* checking package subdirectories ... OK
* checking code files for non-ASCII characters ... OK
* checking R files for syntax errors ... OK
* checking whether the package can be loaded ... OK
* checking whether the package can be loaded with stated dependencies ... OK
* checking whether the package can be unloaded cleanly ... OK
* checking whether the namespace can be loaded with stated dependencies ... OK
* checking whether the namespace can be unloaded cleanly ... OK
* checking loading without being on the library search path ... OK
* checking dependencies in R code ... NOTE
Unexported objects imported by ':::' calls:
‘NormalyzerDE:::calculateAvgMadMem’
‘NormalyzerDE:::calculateAvgReplicateVariation’
‘NormalyzerDE:::calculatePercentageAvgDiffInMat’
‘NormalyzerDE:::calculateReplicateCV’
‘NormalyzerDE:::calculateSummarizedCorrelationVector’
See the note in ?`:::` about the use of this operator.
* checking S3 generic/method consistency ... OK
* checking replacement functions ... OK
* checking foreign function calls ... OK
* checking R code for possible problems ... NOTE
plot_upset_DE: no visible global function definition for
‘packageVersion’
Undefined global functions or variables:
packageVersion
Consider adding
importFrom("utils", "packageVersion")
to your NAMESPACE file.
* checking Rd files ... OK
* checking Rd metadata ... OK
* checking Rd cross-references ... OK
* checking for missing documentation entries ... OK
* checking for code/documentation mismatches ... OK
* checking Rd \usage sections ... OK
* checking Rd contents ... OK
* checking for unstated dependencies in examples ... OK
* checking contents of ‘data’ directory ... OK
* checking data for non-ASCII characters ... OK
* checking data for ASCII and uncompressed saves ... OK
* checking files in ‘vignettes’ ... OK
* checking examples ... OK
Examples with CPU (user + system) or elapsed time > 5s
user system elapsed
plot_boxplots 5.662 0.212 5.824
* checking for unstated dependencies in vignettes ... OK
* checking package vignettes ... OK
* checking re-building of vignette outputs ... OK
* checking PDF version of manual ... OK
* DONE
Status: 2 NOTEs
See
‘/home/biocbuild/bbs-3.22-bioc/meat/PRONE.Rcheck/00check.log’
for details.
PRONE.Rcheck/00install.out
############################################################################## ############################################################################## ### ### Running command: ### ### /home/biocbuild/bbs-3.22-bioc/R/bin/R CMD INSTALL PRONE ### ############################################################################## ############################################################################## * installing to library ‘/home/biocbuild/bbs-3.22-bioc/R/site-library’ * installing *source* package ‘PRONE’ ... ** this is package ‘PRONE’ version ‘1.4.0’ ** using staged installation ** R ** data ** inst ** byte-compile and prepare package for lazy loading ** help *** installing help indices *** copying figures ** building package indices ** installing vignettes ** testing if installed package can be loaded from temporary location ** testing if installed package can be loaded from final location ** testing if installed package keeps a record of temporary installation path * DONE (PRONE)
PRONE.Rcheck/PRONE-Ex.timings
| name | user | system | elapsed | |
| apply_thresholds | 0.031 | 0.000 | 0.032 | |
| detect_outliers_POMA | 1.783 | 0.086 | 1.870 | |
| eigenMSNorm | 0.592 | 0.065 | 0.658 | |
| export_data | 0.027 | 0.000 | 0.028 | |
| extract_consensus_DE_candidates | 0.077 | 0.000 | 0.078 | |
| filter_out_NA_proteins_by_threshold | 0.202 | 0.003 | 0.199 | |
| filter_out_complete_NA_proteins | 0.052 | 0.000 | 0.052 | |
| filter_out_proteins_by_ID | 0.154 | 0.000 | 0.154 | |
| filter_out_proteins_by_value | 0.155 | 0.000 | 0.156 | |
| get_NA_overview | 0.036 | 0.000 | 0.037 | |
| get_normalization_methods | 0 | 0 | 0 | |
| get_overview_DE | 0.040 | 0.002 | 0.042 | |
| get_proteins_by_value | 0.144 | 0.002 | 0.146 | |
| get_spiked_stats_DE | 0.104 | 0.004 | 0.107 | |
| globalIntNorm | 0.126 | 0.000 | 0.127 | |
| globalMeanNorm | 0.128 | 0.014 | 0.142 | |
| globalMedianNorm | 0.129 | 0.008 | 0.137 | |
| impute_se | 0.743 | 0.011 | 0.707 | |
| irsNorm | 0.057 | 0.001 | 0.057 | |
| limmaNorm | 0.071 | 0.001 | 0.071 | |
| load_data | 0.049 | 0.001 | 0.051 | |
| load_spike_data | 0.039 | 0.001 | 0.041 | |
| loessCycNorm | 0.122 | 0.003 | 0.125 | |
| loessFNorm | 0.086 | 0.001 | 0.087 | |
| meanNorm | 0.044 | 0.000 | 0.044 | |
| medianAbsDevNorm | 0.097 | 0.001 | 0.098 | |
| medianNorm | 0.061 | 0.000 | 0.061 | |
| normalize_se | 3.417 | 0.094 | 3.511 | |
| normalize_se_combination | 4.087 | 0.174 | 4.261 | |
| normalize_se_single | 3.159 | 0.096 | 3.254 | |
| normicsNorm | 3.070 | 0.033 | 3.102 | |
| plot_NA_density | 0.407 | 0.011 | 0.410 | |
| plot_NA_frequency | 0.236 | 0.004 | 0.233 | |
| plot_NA_heatmap | 1.318 | 0.025 | 1.344 | |
| plot_PCA | 1.389 | 0.024 | 1.415 | |
| plot_ROC_AUC_spiked | 1.225 | 0.002 | 1.219 | |
| plot_TP_FP_spiked_bar | 0.353 | 0.004 | 0.357 | |
| plot_TP_FP_spiked_box | 0.435 | 0.005 | 0.441 | |
| plot_TP_FP_spiked_scatter | 0.423 | 0.004 | 0.427 | |
| plot_boxplots | 5.662 | 0.212 | 5.824 | |
| plot_condition_overview | 0.262 | 0.002 | 0.264 | |
| plot_densities | 2.716 | 0.061 | 2.727 | |
| plot_fold_changes_spiked | 0.557 | 0.003 | 0.552 | |
| plot_heatmap | 3.699 | 0.005 | 3.704 | |
| plot_heatmap_DE | 1.190 | 0.006 | 1.197 | |
| plot_histogram_spiked | 0.405 | 0.002 | 0.400 | |
| plot_identified_spiked_proteins | 0.464 | 0.001 | 0.464 | |
| plot_intersection_enrichment | 0.795 | 0.009 | 1.969 | |
| plot_intragroup_PCV | 0.557 | 0.002 | 0.559 | |
| plot_intragroup_PEV | 0.418 | 0.002 | 0.419 | |
| plot_intragroup_PMAD | 0.433 | 0.001 | 0.434 | |
| plot_intragroup_correlation | 0.421 | 0.002 | 0.424 | |
| plot_jaccard_heatmap | 0.297 | 0.002 | 0.287 | |
| plot_logFC_thresholds_spiked | 0.681 | 0.002 | 0.684 | |
| plot_markers_boxplots | 0.815 | 0.004 | 0.812 | |
| plot_nr_prot_samples | 0.261 | 0.001 | 0.262 | |
| plot_overview_DE_bar | 0.399 | 0.018 | 0.418 | |
| plot_overview_DE_tile | 0.243 | 0.011 | 0.255 | |
| plot_profiles_spiked | 0.819 | 0.042 | 0.848 | |
| plot_pvalues_spiked | 0.500 | 0.037 | 0.538 | |
| plot_stats_spiked_heatmap | 0.415 | 0.027 | 0.442 | |
| plot_tot_int_samples | 0.261 | 0.030 | 0.292 | |
| plot_upset | 0.827 | 0.052 | 0.879 | |
| plot_upset_DE | 0.031 | 0.000 | 0.032 | |
| plot_volcano_DE | 4.070 | 0.177 | 4.248 | |
| quantileNorm | 0.046 | 0.003 | 0.049 | |
| readPRONE_example | 0.001 | 0.000 | 0.001 | |
| remove_POMA_outliers | 0.650 | 0.015 | 0.665 | |
| remove_assays_from_SE | 0.049 | 0.001 | 0.049 | |
| remove_reference_samples | 0.048 | 0.003 | 0.050 | |
| remove_samples_manually | 0.041 | 0.002 | 0.042 | |
| rlrMACycNorm | 0.598 | 0.043 | 0.641 | |
| rlrMANorm | 0.101 | 0.008 | 0.109 | |
| rlrNorm | 0.108 | 0.019 | 0.128 | |
| robnormNorm | 0.076 | 0.003 | 0.079 | |
| run_DE | 2.299 | 0.078 | 2.344 | |
| specify_comparisons | 0.033 | 0.001 | 0.031 | |
| subset_SE_by_norm | 0.100 | 0.009 | 0.108 | |
| tmmNorm | 0.122 | 0.004 | 0.127 | |
| vsnNorm | 0.069 | 0.001 | 0.071 | |