Back to Multiple platform build/check report for BioC 3.22:   simplified   long
ABCDEFGHIJKLMN[O]PQRSTUVWXYZ

This page was generated on 2025-11-20 12:05 -0500 (Thu, 20 Nov 2025).

HostnameOSArch (*)R versionInstalled pkgs
nebbiolo2Linux (Ubuntu 24.04.3 LTS)x86_644.5.2 (2025-10-31) -- "[Not] Part in a Rumble" 4615
merida1macOS 12.7.6 Montereyx86_644.5.2 Patched (2025-11-05 r88990) -- "[Not] Part in a Rumble" 4610
kjohnson1macOS 13.7.5 Venturaarm644.5.2 Patched (2025-11-04 r88984) -- "[Not] Part in a Rumble" 4598
taishanLinux (openEuler 24.03 LTS)aarch644.5.0 (2025-04-11) -- "How About a Twenty-Six" 4668
Click on any hostname to see more info about the system (e.g. compilers)      (*) as reported by 'uname -p', except on Windows and Mac OS X

Package 1505/2361HostnameOS / ArchINSTALLBUILDCHECKBUILD BIN
OmnipathR 3.18.2  (landing page)
Denes Turei
Snapshot Date: 2025-11-17 13:45 -0500 (Mon, 17 Nov 2025)
git_url: https://git.bioconductor.org/packages/OmnipathR
git_branch: RELEASE_3_22
git_last_commit: 7ab5630
git_last_commit_date: 2025-11-17 12:48:40 -0500 (Mon, 17 Nov 2025)
nebbiolo2Linux (Ubuntu 24.04.3 LTS) / x86_64  OK    OK    ERROR  
merida1macOS 12.7.6 Monterey / x86_64  OK    OK    OK    OK  YES
kjohnson1macOS 13.7.5 Ventura / arm64  OK    OK    OK    OK  YES
taishanLinux (openEuler 24.03 LTS) / aarch64  OK    OK    ERROR  


CHECK results for OmnipathR on merida1

To the developers/maintainers of the OmnipathR package:
- Allow up to 24 hours (and sometimes 48 hours) for your latest push to git@git.bioconductor.org:packages/OmnipathR.git to reflect on this report. See Troubleshooting Build Report for more information.
- Use the following Renviron settings to reproduce errors and warnings.
- If 'R CMD check' started to fail recently on the Linux builder(s) over a missing dependency, add the missing dependency to 'Suggests:' in your DESCRIPTION file. See Renviron.bioc for more information.

raw results


Summary

Package: OmnipathR
Version: 3.18.2
Command: /Library/Frameworks/R.framework/Resources/bin/R CMD check --install=check:OmnipathR.install-out.txt --library=/Library/Frameworks/R.framework/Resources/library --no-vignettes --timings OmnipathR_3.18.2.tar.gz
StartedAt: 2025-11-18 11:30:39 -0500 (Tue, 18 Nov 2025)
EndedAt: 2025-11-18 11:59:59 -0500 (Tue, 18 Nov 2025)
EllapsedTime: 1760.0 seconds
RetCode: 0
Status:   OK  
CheckDir: OmnipathR.Rcheck
Warnings: 0

Command output

##############################################################################
##############################################################################
###
### Running command:
###
###   /Library/Frameworks/R.framework/Resources/bin/R CMD check --install=check:OmnipathR.install-out.txt --library=/Library/Frameworks/R.framework/Resources/library --no-vignettes --timings OmnipathR_3.18.2.tar.gz
###
##############################################################################
##############################################################################


* using log directory ‘/Users/biocbuild/bbs-3.22-bioc/meat/OmnipathR.Rcheck’
* using R version 4.5.2 Patched (2025-11-05 r88990)
* using platform: x86_64-apple-darwin20
* R was compiled by
    Apple clang version 14.0.0 (clang-1400.0.29.202)
    GNU Fortran (GCC) 14.2.0
* running under: macOS Monterey 12.7.6
* using session charset: UTF-8
* using option ‘--no-vignettes’
* checking for file ‘OmnipathR/DESCRIPTION’ ... OK
* checking extension type ... Package
* this is package ‘OmnipathR’ version ‘3.18.2’
* package encoding: UTF-8
* checking package namespace information ... OK
* checking package dependencies ... INFO
Imports includes 35 non-default packages.
Importing from so many packages makes the package vulnerable to any of
them becoming unavailable.  Move as many as possible to Suggests and
use conditionally.
* checking if this is a source package ... OK
* checking if there is a namespace ... OK
* checking for hidden files and directories ... OK
* checking for portable file names ... OK
* checking for sufficient/correct file permissions ... OK
* checking whether package ‘OmnipathR’ can be installed ... OK
* checking installed package size ... OK
* checking package directory ... OK
* checking DESCRIPTION meta-information ... OK
* checking top-level files ... OK
* checking for left-over files ... OK
* checking index information ... OK
* checking package subdirectories ... OK
* checking code files for non-ASCII characters ... OK
* checking R files for syntax errors ... OK
* checking whether the package can be loaded ... OK
* checking whether the package can be loaded with stated dependencies ... OK
* checking whether the package can be unloaded cleanly ... OK
* checking whether the namespace can be loaded with stated dependencies ... OK
* checking whether the namespace can be unloaded cleanly ... OK
* checking whether startup messages can be suppressed ... NOTE
[2025-11-18 11:31:39] [TRACE]   [OmnipathR] Reading JSON from `/Users/biocbuild/Library/Caches/OmnipathR/cache.json` (encoding: UTF-8).
[2025-11-18 11:31:39] [TRACE]   [OmnipathR] JSON validation successful: TRUE
[2025-11-18 11:31:39] [INFO]    [OmnipathR] Initialized cache: `/Users/biocbuild/Library/Caches/OmnipathR`.
[2025-11-18 11:31:39] [INFO]    [OmnipathR] Package `OmnipathR` packaged: NA
[2025-11-18 11:31:39] [INFO]    [OmnipathR] Package `OmnipathR` date/publication: 2025-11-17
[2025-11-18 11:31:39] [INFO]    [OmnipathR] Package `OmnipathR` built: R 4.5.2; ; 2025-11-17 22:02:15 UTC; unix
[2025-11-18 11:31:39] [INFO]    [OmnipathR] Package `OmnipathR` version: 3.18.2
[2025-11-18 11:31:39] [INFO]    [OmnipathR] Package `OmnipathR` repository: Bioconductor 3.22
[2025-11-18 11:31:40] [INFO]    [OmnipathR] Session info: [version=R version 4.5.2 Patched (2025-11-05 r88990); os=macOS Monterey 12.7.6; system=x86_64, darwin20; ui=X11; language=(EN); collate=C; ctype=en_US.UTF-8; tz=America/New_York; date=2025-11-18; pandoc=2.7.3 @ /usr/local/bin/ (via rmarkdown); quarto=1.4.553 @ /usr/local/bin/quarto]
[2025-11-18 11:31:40] [INFO]    [OmnipathR] External libraries: [cairo=1.17.6; cairoFT=; pango=1.50.14; png=1.6.44; jpeg=9.5; tiff=LIBTIFF, Version 4.5.0; tcl=8.6.13; curl=8.7.1; zlib=1.2.11; bzlib=1.0.8, 13-Jul-2019; xz=5.6.3; deflate=1.23; PCRE=10.44 2024-06-07; ICU=70.1; TRE=TRE 0.8.0 R_fixes (BSD); iconv=Apple or GNU libiconv 1.11 /Library/Frameworks/R.framework/Versions/4.5-x86_64/Resources/lib/libR.dylib; readline=5.2; BLAS=/Library/Frameworks/R.framework/Versions/4.5-x86_64/Resources/lib/libRblas.0.dylib; lapack=/Library/Frameworks/R.framework/Versions/4.5-x86_64/Resources/lib/libRlapack.dylib; lapack_version=3.12.1]
[2025-11-18 11:31:41] [INFO]    [OmnipathR] Loaded packages: backports 1.5.0(2024-05-23); bit 4.6.0(2025-03-06); bit64 4.6.0-1(2025-01-16); blob 1.2.4(2023-03-17); cachem 1.1.0(2024-05-16); cellranger 1.1.0(2016-07-27); checkmate 2.3.3(2025-08-18); chromote 0.5.1(2025-04-24); cli 3.6.5(2025-04-23); crayon 1.5.3(2024-06-20); curl 7.0.0(2025-08-19); DBI 1.2.3(2024-06-02); digest 0.6.38(2025-11-12); dplyr 1.1.4(2023-11-17); evaluate 1.0.5(2025-08-27); fastmap 1.2.0(2024-05-15); fs 1.6.6(2025-04-12); generics 0.1.4(2025-05-09); glue 1.8.0(2024-09-30); hms 1.1.4(2025-10-17); htmltools 0.5.8.1(2024-04-04); httr 1.4.7(2023-08-15); httr2 1.2.1(2025-07-22); igraph 2.2.1(2025-10-27); jsonlite 2.0.0(2025-03-27); knitr 1.50(2025-03-16); later 1.4.4(2025-08-27); lifecycle 1.0.4(2023-11-07); logger 0.4.1(2025-09-11); lubridate 1.9.4(2024-12-08); magrittr 2.0.4(2025-09-12); memoise 2.0.1(2021-11-26); OmnipathR 3.18.2(2025-11-17); otel 0.2.0(2025-08-29); pillar 1.11.1(2025-09-17); pkgconfig 2.0.3(2019-09-22); prettyunits 1.2.0(2023-09-24); processx 3.8.6(2025-02-21); progress 1.2.3(2023-12-06); promises 1.5.0(2025-11-01); ps 1.9.1(2025-04-12); purrr 1.2.0(2025-11-04); R.methodsS3 1.8.2(2022-06-13); R.oo 1.27.1(2025-05-02); R.utils 2.13.0(2025-02-24); R6 2.6.1(2025-02-15); rappdirs 0.3.3(2021-01-31); Rcpp 1.1.0(2025-07-02); readr 2.1.6(2025-11-14); readxl 1.4.5(2025-03-07); rlang 1.1.6(2025-04-11); rmarkdown 2.30(2025-09-28); RSQLite 2.4.4(2025-11-10); rvest 1.0.5(2025-08-29); sessioninfo 1.2.3(2025-02-05); stringi 1.8.7(2025-03-27); stringr 1.6.0(2025-11-04); tibble 3.3.0(2025-06-08); tidyr 1.3.1(2024-01-24); tidyselect 1.2.1(2024-03-11); timechange 0.3.0(2024-01-18); tzdb 0.5.0(2025-03-15); vctrs 0.6.5(2023-12-01); websocket 1.4.4(2025-04-10); withr 3.0.2(2024-10-28); xfun 0.54(2025-10-30); XML 3.99-0.20(2025-11-08); xml2 1.5.0(2025-11-17); yaml 2.3.10(2024-07-26); zip 2.3.3(2025-05-13)
[2025-11-18 11:31:41] [INFO]    [OmnipathR] CURL: version: 8.14.1; headers: 8.14.1; ssl_version: LibreSSL/3.3.6 (SecureTransport); libz_version: 1.2.11; libssh_version: NA; libidn_version: NA; host: x86_64-apple-darwin22.6.0; protocols: dict, file, ftp, ftps, gopher, gophers, http, https, imap, imaps, ldap, ldaps, mqtt, pop3, pop3s, rtsp, smb, smbs, smtp, smtps, telnet, tftp, ws, wss; ipv6: TRUE; http2: TRUE; idn: FALSE; url_parser: TRUE
[2025-11-18 11:31:41] [TRACE]   [OmnipathR] Running on a build server, wiping cache.
[2025-11-18 11:31:41] [TRACE]   [OmnipathR] Cache is at `/Users/biocbuild/Library/Caches/OmnipathR`.
[2025-11-18 11:31:41] [TRACE]   [OmnipathR] Contains 1 files.
[2025-11-18 11:31:41] [TRACE]   [OmnipathR] Cache is locked: FALSE.
[2025-11-18 11:31:41] [TRACE]   [OmnipathR] Reading JSON from `/Users/biocbuild/Library/Caches/OmnipathR/cache.json` (encoding: UTF-8).
[2025-11-18 11:31:41] [TRACE]   [OmnipathR] JSON validation successful: TRUE
[2025-11-18 11:31:41] [SUCCESS] [OmnipathR] Removing all cache contents from `/Users/biocbuild/Library/Caches/OmnipathR`.
[2025-11-18 11:31:41] [TRACE]   [OmnipathR] Pandoc version: `2.7.3`.
[2025-11-18 11:31:41] [TRACE]   [OmnipathR] Reading JSON from `/Library/Frameworks/R.framework/Versions/4.5-x86_64/Resources/library/OmnipathR/db/db_def.json` (encoding: UTF-8).
[2025-11-18 11:31:41] [TRACE]   [OmnipathR] JSON validation successful: TRUE
[2025-11-18 11:31:41] [TRACE]   [OmnipathR] Reading JSON from `/Library/Frameworks/R.framework/Versions/4.5-x86_64/Resources/library/OmnipathR/internal/magic_bytes.json` (encoding: UTF-8).
[2025-11-18 11:31:41] [TRACE]   [OmnipathR] JSON validation successful: TRUE
[2025-11-18 11:31:41] [TRACE]   [OmnipathR] Reading JSON from `/Library/Frameworks/R.framework/Versions/4.5-x86_64/Resources/library/OmnipathR/internal/urls.json` (encoding: UTF-8).
[2025-11-18 11:31:41] [TRACE]   [OmnipathR] JSON validation successful: TRUE
[2025-11-18 11:31:41] [TRACE]   [OmnipathR] Reading JSON from `/Library/Frameworks/R.framework/Versions/4.5-x86_64/Resources/library/OmnipathR/internal/id_types.json` (encoding: UTF-8).
[2025-11-18 11:31:41] [TRACE]   [OmnipathR] JSON validation successful: TRUE
[2025-11-18 11:31:41] [TRACE]   [OmnipathR] Cache locked: FALSE

It looks like this package (or a package it requires) has a startup
message which cannot be suppressed: see ?packageStartupMessage.
* checking dependencies in R code ... OK
* checking S3 generic/method consistency ... OK
* checking replacement functions ... OK
* checking foreign function calls ... OK
* checking R code for possible problems ... NOTE
[2025-11-18 11:32:23] [TRACE]   [OmnipathR] Reading JSON from `/Users/biocbuild/Library/Caches/OmnipathR/cache.json` (encoding: UTF-8).
[2025-11-18 11:32:23] [TRACE]   [OmnipathR] JSON validation successful: TRUE
[2025-11-18 11:32:23] [INFO]    [OmnipathR] Initialized cache: `/Users/biocbuild/Library/Caches/OmnipathR`.
[2025-11-18 11:32:23] [INFO]    [OmnipathR] Package `OmnipathR` packaged: NA
[2025-11-18 11:32:23] [INFO]    [OmnipathR] Package `OmnipathR` date/publication: 2025-11-17
[2025-11-18 11:32:23] [INFO]    [OmnipathR] Package `OmnipathR` built: R 4.5.2; ; 2025-11-17 22:02:15 UTC; unix
[2025-11-18 11:32:23] [INFO]    [OmnipathR] Package `OmnipathR` version: 3.18.2
[2025-11-18 11:32:23] [INFO]    [OmnipathR] Package `OmnipathR` repository: Bioconductor 3.22
[2025-11-18 11:32:24] [INFO]    [OmnipathR] Session info: [version=R version 4.5.2 Patched (2025-11-05 r88990); os=macOS Monterey 12.7.6; system=x86_64, darwin20; ui=X11; language=(EN); collate=C; ctype=en_US.UTF-8; tz=America/New_York; date=2025-11-18; pandoc=2.7.3 @ /usr/local/bin/ (via rmarkdown); quarto=1.4.553 @ /usr/local/bin/quarto]
[2025-11-18 11:32:24] [INFO]    [OmnipathR] External libraries: [cairo=1.17.6; cairoFT=; pango=1.50.14; png=1.6.44; jpeg=9.5; tiff=LIBTIFF, Version 4.5.0; tcl=8.6.13; curl=8.7.1; zlib=1.2.11; bzlib=1.0.8, 13-Jul-2019; xz=5.6.3; deflate=1.23; PCRE=10.44 2024-06-07; ICU=70.1; TRE=TRE 0.8.0 R_fixes (BSD); iconv=Apple or GNU libiconv 1.11 /Library/Frameworks/R.framework/Versions/4.5-x86_64/Resources/lib/libR.dylib; readline=5.2; BLAS=/Library/Frameworks/R.framework/Versions/4.5-x86_64/Resources/lib/libRblas.0.dylib; lapack=/Library/Frameworks/R.framework/Versions/4.5-x86_64/Resources/lib/libRlapack.dylib; lapack_version=3.12.1]
[2025-11-18 11:32:24] [INFO]    [OmnipathR] Loaded packages: backports 1.5.0(2024-05-23); bit 4.6.0(2025-03-06); bit64 4.6.0-1(2025-01-16); blob 1.2.4(2023-03-17); cachem 1.1.0(2024-05-16); cellranger 1.1.0(2016-07-27); checkmate 2.3.3(2025-08-18); chromote 0.5.1(2025-04-24); cli 3.6.5(2025-04-23); crayon 1.5.3(2024-06-20); curl 7.0.0(2025-08-19); DBI 1.2.3(2024-06-02); digest 0.6.38(2025-11-12); dplyr 1.1.4(2023-11-17); evaluate 1.0.5(2025-08-27); fastmap 1.2.0(2024-05-15); fs 1.6.6(2025-04-12); generics 0.1.4(2025-05-09); glue 1.8.0(2024-09-30); hms 1.1.4(2025-10-17); htmltools 0.5.8.1(2024-04-04); httr 1.4.7(2023-08-15); httr2 1.2.1(2025-07-22); igraph 2.2.1(2025-10-27); jsonlite 2.0.0(2025-03-27); knitr 1.50(2025-03-16); later 1.4.4(2025-08-27); lifecycle 1.0.4(2023-11-07); logger 0.4.1(2025-09-11); lubridate 1.9.4(2024-12-08); magrittr 2.0.4(2025-09-12); memoise 2.0.1(2021-11-26); OmnipathR 3.18.2(2025-11-17); otel 0.2.0(2025-08-29); pillar 1.11.1(2025-09-17); pkgconfig 2.0.3(2019-09-22); prettyunits 1.2.0(2023-09-24); processx 3.8.6(2025-02-21); progress 1.2.3(2023-12-06); promises 1.5.0(2025-11-01); ps 1.9.1(2025-04-12); purrr 1.2.0(2025-11-04); R.methodsS3 1.8.2(2022-06-13); R.oo 1.27.1(2025-05-02); R.utils 2.13.0(2025-02-24); R6 2.6.1(2025-02-15); rappdirs 0.3.3(2021-01-31); Rcpp 1.1.0(2025-07-02); readr 2.1.6(2025-11-14); readxl 1.4.5(2025-03-07); rlang 1.1.6(2025-04-11); rmarkdown 2.30(2025-09-28); RSQLite 2.4.4(2025-11-10); rvest 1.0.5(2025-08-29); sessioninfo 1.2.3(2025-02-05); stringi 1.8.7(2025-03-27); stringr 1.6.0(2025-11-04); tibble 3.3.0(2025-06-08); tidyr 1.3.1(2024-01-24); tidyselect 1.2.1(2024-03-11); timechange 0.3.0(2024-01-18); tzdb 0.5.0(2025-03-15); vctrs 0.6.5(2023-12-01); websocket 1.4.4(2025-04-10); withr 3.0.2(2024-10-28); xfun 0.54(2025-10-30); XML 3.99-0.20(2025-11-08); xml2 1.5.0(2025-11-17); yaml 2.3.10(2024-07-26); zip 2.3.3(2025-05-13)
[2025-11-18 11:32:24] [INFO]    [OmnipathR] CURL: version: 8.14.1; headers: 8.14.1; ssl_version: LibreSSL/3.3.6 (SecureTransport); libz_version: 1.2.11; libssh_version: NA; libidn_version: NA; host: x86_64-apple-darwin22.6.0; protocols: dict, file, ftp, ftps, gopher, gophers, http, https, imap, imaps, ldap, ldaps, mqtt, pop3, pop3s, rtsp, smb, smbs, smtp, smtps, telnet, tftp, ws, wss; ipv6: TRUE; http2: TRUE; idn: FALSE; url_parser: TRUE
[2025-11-18 11:32:24] [TRACE]   [OmnipathR] Running on a build server, wiping cache.
[2025-11-18 11:32:24] [TRACE]   [OmnipathR] Cache is at `/Users/biocbuild/Library/Caches/OmnipathR`.
[2025-11-18 11:32:24] [TRACE]   [OmnipathR] Contains 1 files.
[2025-11-18 11:32:24] [TRACE]   [OmnipathR] Cache is locked: FALSE.
[2025-11-18 11:32:25] [TRACE]   [OmnipathR] Reading JSON from `/Users/biocbuild/Library/Caches/OmnipathR/cache.json` (encoding: UTF-8).
[2025-11-18 11:32:25] [TRACE]   [OmnipathR] JSON validation successful: TRUE
[2025-11-18 11:32:25] [SUCCESS] [OmnipathR] Removing all cache contents from `/Users/biocbuild/Library/Caches/OmnipathR`.
[2025-11-18 11:32:25] [TRACE]   [OmnipathR] Pandoc version: `2.7.3`.
[2025-11-18 11:32:25] [TRACE]   [OmnipathR] Reading JSON from `/Library/Frameworks/R.framework/Versions/4.5-x86_64/Resources/library/OmnipathR/db/db_def.json` (encoding: UTF-8).
[2025-11-18 11:32:25] [TRACE]   [OmnipathR] JSON validation successful: TRUE
[2025-11-18 11:32:25] [TRACE]   [OmnipathR] Reading JSON from `/Library/Frameworks/R.framework/Versions/4.5-x86_64/Resources/library/OmnipathR/internal/magic_bytes.json` (encoding: UTF-8).
[2025-11-18 11:32:25] [TRACE]   [OmnipathR] JSON validation successful: TRUE
[2025-11-18 11:32:25] [TRACE]   [OmnipathR] Reading JSON from `/Library/Frameworks/R.framework/Versions/4.5-x86_64/Resources/library/OmnipathR/internal/urls.json` (encoding: UTF-8).
[2025-11-18 11:32:25] [TRACE]   [OmnipathR] JSON validation successful: TRUE
[2025-11-18 11:32:25] [TRACE]   [OmnipathR] Reading JSON from `/Library/Frameworks/R.framework/Versions/4.5-x86_64/Resources/library/OmnipathR/internal/id_types.json` (encoding: UTF-8).
[2025-11-18 11:32:25] [TRACE]   [OmnipathR] JSON validation successful: TRUE
[2025-11-18 11:32:25] [TRACE]   [OmnipathR] Cache locked: FALSE
cosmos_ksn: no visible binding for global variable ‘enzyme_genesymbol’
Undefined global functions or variables:
  enzyme_genesymbol
* checking Rd files ... OK
* checking Rd metadata ... OK
* checking Rd cross-references ... OK
* checking for missing documentation entries ... OK
* checking for code/documentation mismatches ... OK
* checking Rd \usage sections ... OK
* checking Rd contents ... OK
* checking for unstated dependencies in examples ... OK
* checking R/sysdata.rda ... OK
* checking files in ‘vignettes’ ... OK
* checking examples ... OK
Examples with CPU (user + system) or elapsed time > 5s
                                       user system elapsed
annotation_categories                97.233  0.419 100.801
filter_extra_attrs                   72.815 18.763 144.771
curated_ligrec_stats                 74.753  7.663 141.721
omnipath-interactions                68.016  5.116  87.848
all_uniprots                         50.699  5.143  73.439
uniprot_organisms                    42.708  4.492  48.493
extra_attrs_to_cols                  39.890  6.469  55.813
extra_attr_values                    35.524  6.074  48.342
nichenet_gr_network_omnipath         38.373  2.869  42.320
with_extra_attrs                     33.549  5.932  40.143
nichenet_signaling_network_omnipath  27.506  1.902  30.827
extra_attrs                          21.576  4.911  32.310
giant_component                      24.251  2.012  27.063
has_extra_attrs                      20.506  5.118  34.065
filter_by_resource                   22.344  1.242  25.573
go_annot_download                    20.920  2.606  21.384
omnipath_for_cosmos                  20.844  1.432  38.768
pivot_annotations                    17.429  1.884  20.863
translate_ids_multi                  16.579  0.988  32.945
find_all_paths                       15.301  0.792  16.837
print_interactions                   15.036  0.972  18.127
curated_ligand_receptor_interactions 12.911  1.965  21.924
signed_ptms                          12.886  0.518  15.002
filter_intercell                     11.168  1.093  19.073
pubmed_open                          10.537  0.494  11.912
omnipath_query                       10.054  0.457  10.856
static_table                          9.631  0.803  10.970
resources_in                          9.927  0.395  11.368
print_path_vs                         5.468  0.499   8.085
hpo_download                          4.644  0.731  13.325
enzsub_graph                          4.973  0.346   6.860
ensembl_id_mapping_table              3.607  0.414  20.864
database_summary                      3.251  0.336   5.167
intercell_consensus_filter            2.601  0.269   5.056
kegg_conv                             2.429  0.300   9.446
kinasephos                            1.846  0.246  19.510
translate_ids                         1.830  0.222  11.793
uniprot_full_id_mapping_table         1.780  0.260  13.174
kegg_link                             1.275  0.144   5.303
tfcensus_download                     0.863  0.110   7.203
* checking for unstated dependencies in ‘tests’ ... OK
* checking tests ...
  Running ‘testthat.R’
 OK
* checking for unstated dependencies in vignettes ... OK
* checking package vignettes ... OK
* checking running R code from vignettes ... SKIPPED
* checking re-building of vignette outputs ... SKIPPED
* checking PDF version of manual ... OK
* DONE

Status: 2 NOTEs
See
  ‘/Users/biocbuild/bbs-3.22-bioc/meat/OmnipathR.Rcheck/00check.log’
for details.


Installation output

OmnipathR.Rcheck/00install.out

##############################################################################
##############################################################################
###
### Running command:
###
###   /Library/Frameworks/R.framework/Resources/bin/R CMD INSTALL OmnipathR
###
##############################################################################
##############################################################################


* installing to library ‘/Library/Frameworks/R.framework/Versions/4.5-x86_64/Resources/library’
* installing *source* package ‘OmnipathR’ ...
** this is package ‘OmnipathR’ version ‘3.18.2’
** using staged installation
** R
** inst
** byte-compile and prepare package for lazy loading
** help
*** installing help indices
*** copying figures
** building package indices
** installing vignettes
** testing if installed package can be loaded from temporary location
[2025-11-17 17:02:42] [INFO]    [OmnipathR] Setting up new cache directory `/Users/biocbuild/Library/Caches/OmnipathR`.
[2025-11-17 17:02:42] [TRACE]   [OmnipathR] Reading JSON from `/Users/biocbuild/Library/Caches/OmnipathR/cache.json` (encoding: UTF-8).
[2025-11-17 17:02:42] [TRACE]   [OmnipathR] JSON validation successful: TRUE
[2025-11-17 17:02:42] [INFO]    [OmnipathR] Initialized cache: `/Users/biocbuild/Library/Caches/OmnipathR`.
[2025-11-17 17:02:42] [INFO]    [OmnipathR] Package `OmnipathR` packaged: NA
[2025-11-17 17:02:42] [INFO]    [OmnipathR] Package `OmnipathR` date/publication: 2025-11-17
[2025-11-17 17:02:42] [INFO]    [OmnipathR] Package `OmnipathR` built: R 4.5.2; ; 2025-11-17 22:02:15 UTC; unix
[2025-11-17 17:02:42] [INFO]    [OmnipathR] Package `OmnipathR` version: 3.18.2
[2025-11-17 17:02:42] [INFO]    [OmnipathR] Package `OmnipathR` repository: Bioconductor 3.22
[2025-11-17 17:02:45] [INFO]    [OmnipathR] Session info: [version=R version 4.5.2 Patched (2025-11-05 r88990); os=macOS Monterey 12.7.6; system=x86_64, darwin20; ui=X11; language=(EN); collate=C; ctype=en_US.UTF-8; tz=America/New_York; date=2025-11-17; pandoc=2.7.3 @ /usr/local/bin/ (via rmarkdown); quarto=1.4.553 @ /usr/local/bin/quarto]
[2025-11-17 17:02:46] [INFO]    [OmnipathR] External libraries: [cairo=1.17.6; cairoFT=; pango=1.50.14; png=1.6.44; jpeg=9.5; tiff=LIBTIFF, Version 4.5.0; tcl=8.6.13; curl=8.7.1; zlib=1.2.11; bzlib=1.0.8, 13-Jul-2019; xz=5.6.3; deflate=1.23; PCRE=10.44 2024-06-07; ICU=70.1; TRE=TRE 0.8.0 R_fixes (BSD); iconv=Apple or GNU libiconv 1.11 /Library/Frameworks/R.framework/Versions/4.5-x86_64/Resources/lib/libR.dylib; readline=5.2; BLAS=/Library/Frameworks/R.framework/Versions/4.5-x86_64/Resources/lib/libRblas.0.dylib; lapack=/Library/Frameworks/R.framework/Versions/4.5-x86_64/Resources/lib/libRlapack.dylib; lapack_version=3.12.1]
[2025-11-17 17:02:46] [INFO]    [OmnipathR] Loaded packages: backports 1.5.0(2024-05-23); bit 4.6.0(2025-03-06); bit64 4.6.0-1(2025-01-16); blob 1.2.4(2023-03-17); cachem 1.1.0(2024-05-16); cellranger 1.1.0(2016-07-27); checkmate 2.3.3(2025-08-18); chromote 0.5.1(2025-04-24); cli 3.6.5(2025-04-23); crayon 1.5.3(2024-06-20); curl 7.0.0(2025-08-19); DBI 1.2.3(2024-06-02); digest 0.6.38(2025-11-12); dplyr 1.1.4(2023-11-17); evaluate 1.0.5(2025-08-27); fastmap 1.2.0(2024-05-15); fs 1.6.6(2025-04-12); generics 0.1.4(2025-05-09); glue 1.8.0(2024-09-30); hms 1.1.4(2025-10-17); htmltools 0.5.8.1(2024-04-04); httr 1.4.7(2023-08-15); httr2 1.2.1(2025-07-22); igraph 2.2.1(2025-10-27); jsonlite 2.0.0(2025-03-27); knitr 1.50(2025-03-16); later 1.4.4(2025-08-27); lifecycle 1.0.4(2023-11-07); logger 0.4.1(2025-09-11); lubridate 1.9.4(2024-12-08); magrittr 2.0.4(2025-09-12); memoise 2.0.1(2021-11-26); OmnipathR 3.18.2(2025-11-17); otel 0.2.0(2025-08-29); pillar 1.11.1(2025-09-17); pkgconfig 2.0.3(2019-09-22); prettyunits 1.2.0(2023-09-24); processx 3.8.6(2025-02-21); progress 1.2.3(2023-12-06); promises 1.5.0(2025-11-01); ps 1.9.1(2025-04-12); purrr 1.2.0(2025-11-04); R.methodsS3 1.8.2(2022-06-13); R.oo 1.27.1(2025-05-02); R.utils 2.13.0(2025-02-24); R6 2.6.1(2025-02-15); rappdirs 0.3.3(2021-01-31); Rcpp 1.1.0(2025-07-02); readr 2.1.6(2025-11-14); readxl 1.4.5(2025-03-07); rlang 1.1.6(2025-04-11); rmarkdown 2.30(2025-09-28); RSQLite 2.4.4(2025-11-10); rvest 1.0.5(2025-08-29); sessioninfo 1.2.3(2025-02-05); stringi 1.8.7(2025-03-27); stringr 1.6.0(2025-11-04); tibble 3.3.0(2025-06-08); tidyr 1.3.1(2024-01-24); tidyselect 1.2.1(2024-03-11); timechange 0.3.0(2024-01-18); tzdb 0.5.0(2025-03-15); vctrs 0.6.5(2023-12-01); websocket 1.4.4(2025-04-10); withr 3.0.2(2024-10-28); xfun 0.54(2025-10-30); XML 3.99-0.20(2025-11-08); xml2 1.5.0(2025-11-17); yaml 2.3.10(2024-07-26); zip 2.3.3(2025-05-13)
[2025-11-17 17:02:46] [INFO]    [OmnipathR] CURL: version: 8.14.1; headers: 8.14.1; ssl_version: LibreSSL/3.3.6 (SecureTransport); libz_version: 1.2.11; libssh_version: NA; libidn_version: NA; host: x86_64-apple-darwin22.6.0; protocols: dict, file, ftp, ftps, gopher, gophers, http, https, imap, imaps, ldap, ldaps, mqtt, pop3, pop3s, rtsp, smb, smbs, smtp, smtps, telnet, tftp, ws, wss; ipv6: TRUE; http2: TRUE; idn: FALSE; url_parser: TRUE
[2025-11-17 17:02:46] [TRACE]   [OmnipathR] Running on a build server, wiping cache.
[2025-11-17 17:02:46] [TRACE]   [OmnipathR] Cache is at `/Users/biocbuild/Library/Caches/OmnipathR`.
[2025-11-17 17:02:46] [TRACE]   [OmnipathR] Contains 1 files.
[2025-11-17 17:02:46] [TRACE]   [OmnipathR] Cache is locked: FALSE.
[2025-11-17 17:02:46] [TRACE]   [OmnipathR] Reading JSON from `/Users/biocbuild/Library/Caches/OmnipathR/cache.json` (encoding: UTF-8).
[2025-11-17 17:02:46] [TRACE]   [OmnipathR] JSON validation successful: TRUE
[2025-11-17 17:02:46] [SUCCESS] [OmnipathR] Removing all cache contents from `/Users/biocbuild/Library/Caches/OmnipathR`.
[2025-11-17 17:02:46] [TRACE]   [OmnipathR] Pandoc version: `2.7.3`.
[2025-11-17 17:02:46] [TRACE]   [OmnipathR] Reading JSON from `/Library/Frameworks/R.framework/Versions/4.5-x86_64/Resources/library/00LOCK-OmnipathR/00new/OmnipathR/db/db_def.json` (encoding: UTF-8).
[2025-11-17 17:02:46] [TRACE]   [OmnipathR] JSON validation successful: TRUE
[2025-11-17 17:02:46] [TRACE]   [OmnipathR] Reading JSON from `/Library/Frameworks/R.framework/Versions/4.5-x86_64/Resources/library/00LOCK-OmnipathR/00new/OmnipathR/internal/magic_bytes.json` (encoding: UTF-8).
[2025-11-17 17:02:46] [TRACE]   [OmnipathR] JSON validation successful: TRUE
[2025-11-17 17:02:46] [TRACE]   [OmnipathR] Reading JSON from `/Library/Frameworks/R.framework/Versions/4.5-x86_64/Resources/library/00LOCK-OmnipathR/00new/OmnipathR/internal/urls.json` (encoding: UTF-8).
[2025-11-17 17:02:46] [TRACE]   [OmnipathR] JSON validation successful: TRUE
[2025-11-17 17:02:46] [TRACE]   [OmnipathR] Reading JSON from `/Library/Frameworks/R.framework/Versions/4.5-x86_64/Resources/library/00LOCK-OmnipathR/00new/OmnipathR/internal/id_types.json` (encoding: UTF-8).
[2025-11-17 17:02:46] [TRACE]   [OmnipathR] JSON validation successful: TRUE
[2025-11-17 17:02:46] [TRACE]   [OmnipathR] Cache locked: FALSE
** testing if installed package can be loaded from final location
[2025-11-17 17:02:50] [TRACE]   [OmnipathR] Reading JSON from `/Users/biocbuild/Library/Caches/OmnipathR/cache.json` (encoding: UTF-8).
[2025-11-17 17:02:50] [TRACE]   [OmnipathR] JSON validation successful: TRUE
[2025-11-17 17:02:50] [INFO]    [OmnipathR] Initialized cache: `/Users/biocbuild/Library/Caches/OmnipathR`.
[2025-11-17 17:02:50] [INFO]    [OmnipathR] Package `OmnipathR` packaged: NA
[2025-11-17 17:02:50] [INFO]    [OmnipathR] Package `OmnipathR` date/publication: 2025-11-17
[2025-11-17 17:02:50] [INFO]    [OmnipathR] Package `OmnipathR` built: R 4.5.2; ; 2025-11-17 22:02:15 UTC; unix
[2025-11-17 17:02:50] [INFO]    [OmnipathR] Package `OmnipathR` version: 3.18.2
[2025-11-17 17:02:50] [INFO]    [OmnipathR] Package `OmnipathR` repository: Bioconductor 3.22
[2025-11-17 17:02:51] [INFO]    [OmnipathR] Session info: [version=R version 4.5.2 Patched (2025-11-05 r88990); os=macOS Monterey 12.7.6; system=x86_64, darwin20; ui=X11; language=(EN); collate=C; ctype=en_US.UTF-8; tz=America/New_York; date=2025-11-17; pandoc=2.7.3 @ /usr/local/bin/ (via rmarkdown); quarto=1.4.553 @ /usr/local/bin/quarto]
[2025-11-17 17:02:51] [INFO]    [OmnipathR] External libraries: [cairo=1.17.6; cairoFT=; pango=1.50.14; png=1.6.44; jpeg=9.5; tiff=LIBTIFF, Version 4.5.0; tcl=8.6.13; curl=8.7.1; zlib=1.2.11; bzlib=1.0.8, 13-Jul-2019; xz=5.6.3; deflate=1.23; PCRE=10.44 2024-06-07; ICU=70.1; TRE=TRE 0.8.0 R_fixes (BSD); iconv=Apple or GNU libiconv 1.11 /Library/Frameworks/R.framework/Versions/4.5-x86_64/Resources/lib/libR.dylib; readline=5.2; BLAS=/Library/Frameworks/R.framework/Versions/4.5-x86_64/Resources/lib/libRblas.0.dylib; lapack=/Library/Frameworks/R.framework/Versions/4.5-x86_64/Resources/lib/libRlapack.dylib; lapack_version=3.12.1]
[2025-11-17 17:02:51] [INFO]    [OmnipathR] Loaded packages: backports 1.5.0(2024-05-23); bit 4.6.0(2025-03-06); bit64 4.6.0-1(2025-01-16); blob 1.2.4(2023-03-17); cachem 1.1.0(2024-05-16); cellranger 1.1.0(2016-07-27); checkmate 2.3.3(2025-08-18); chromote 0.5.1(2025-04-24); cli 3.6.5(2025-04-23); crayon 1.5.3(2024-06-20); curl 7.0.0(2025-08-19); DBI 1.2.3(2024-06-02); digest 0.6.38(2025-11-12); dplyr 1.1.4(2023-11-17); evaluate 1.0.5(2025-08-27); fastmap 1.2.0(2024-05-15); fs 1.6.6(2025-04-12); generics 0.1.4(2025-05-09); glue 1.8.0(2024-09-30); hms 1.1.4(2025-10-17); htmltools 0.5.8.1(2024-04-04); httr 1.4.7(2023-08-15); httr2 1.2.1(2025-07-22); igraph 2.2.1(2025-10-27); jsonlite 2.0.0(2025-03-27); knitr 1.50(2025-03-16); later 1.4.4(2025-08-27); lifecycle 1.0.4(2023-11-07); logger 0.4.1(2025-09-11); lubridate 1.9.4(2024-12-08); magrittr 2.0.4(2025-09-12); memoise 2.0.1(2021-11-26); OmnipathR 3.18.2(2025-11-17); otel 0.2.0(2025-08-29); pillar 1.11.1(2025-09-17); pkgconfig 2.0.3(2019-09-22); prettyunits 1.2.0(2023-09-24); processx 3.8.6(2025-02-21); progress 1.2.3(2023-12-06); promises 1.5.0(2025-11-01); ps 1.9.1(2025-04-12); purrr 1.2.0(2025-11-04); R.methodsS3 1.8.2(2022-06-13); R.oo 1.27.1(2025-05-02); R.utils 2.13.0(2025-02-24); R6 2.6.1(2025-02-15); rappdirs 0.3.3(2021-01-31); Rcpp 1.1.0(2025-07-02); readr 2.1.6(2025-11-14); readxl 1.4.5(2025-03-07); rlang 1.1.6(2025-04-11); rmarkdown 2.30(2025-09-28); RSQLite 2.4.4(2025-11-10); rvest 1.0.5(2025-08-29); sessioninfo 1.2.3(2025-02-05); stringi 1.8.7(2025-03-27); stringr 1.6.0(2025-11-04); tibble 3.3.0(2025-06-08); tidyr 1.3.1(2024-01-24); tidyselect 1.2.1(2024-03-11); timechange 0.3.0(2024-01-18); tzdb 0.5.0(2025-03-15); vctrs 0.6.5(2023-12-01); websocket 1.4.4(2025-04-10); withr 3.0.2(2024-10-28); xfun 0.54(2025-10-30); XML 3.99-0.20(2025-11-08); xml2 1.5.0(2025-11-17); yaml 2.3.10(2024-07-26); zip 2.3.3(2025-05-13)
[2025-11-17 17:02:51] [INFO]    [OmnipathR] CURL: version: 8.14.1; headers: 8.14.1; ssl_version: LibreSSL/3.3.6 (SecureTransport); libz_version: 1.2.11; libssh_version: NA; libidn_version: NA; host: x86_64-apple-darwin22.6.0; protocols: dict, file, ftp, ftps, gopher, gophers, http, https, imap, imaps, ldap, ldaps, mqtt, pop3, pop3s, rtsp, smb, smbs, smtp, smtps, telnet, tftp, ws, wss; ipv6: TRUE; http2: TRUE; idn: FALSE; url_parser: TRUE
[2025-11-17 17:02:51] [TRACE]   [OmnipathR] Running on a build server, wiping cache.
[2025-11-17 17:02:51] [TRACE]   [OmnipathR] Cache is at `/Users/biocbuild/Library/Caches/OmnipathR`.
[2025-11-17 17:02:51] [TRACE]   [OmnipathR] Contains 1 files.
[2025-11-17 17:02:51] [TRACE]   [OmnipathR] Cache is locked: FALSE.
[2025-11-17 17:02:51] [TRACE]   [OmnipathR] Reading JSON from `/Users/biocbuild/Library/Caches/OmnipathR/cache.json` (encoding: UTF-8).
[2025-11-17 17:02:51] [TRACE]   [OmnipathR] JSON validation successful: TRUE
[2025-11-17 17:02:51] [SUCCESS] [OmnipathR] Removing all cache contents from `/Users/biocbuild/Library/Caches/OmnipathR`.
[2025-11-17 17:02:51] [TRACE]   [OmnipathR] Pandoc version: `2.7.3`.
[2025-11-17 17:02:51] [TRACE]   [OmnipathR] Reading JSON from `/Library/Frameworks/R.framework/Versions/4.5-x86_64/Resources/library/OmnipathR/db/db_def.json` (encoding: UTF-8).
[2025-11-17 17:02:51] [TRACE]   [OmnipathR] JSON validation successful: TRUE
[2025-11-17 17:02:51] [TRACE]   [OmnipathR] Reading JSON from `/Library/Frameworks/R.framework/Versions/4.5-x86_64/Resources/library/OmnipathR/internal/magic_bytes.json` (encoding: UTF-8).
[2025-11-17 17:02:51] [TRACE]   [OmnipathR] JSON validation successful: TRUE
[2025-11-17 17:02:51] [TRACE]   [OmnipathR] Reading JSON from `/Library/Frameworks/R.framework/Versions/4.5-x86_64/Resources/library/OmnipathR/internal/urls.json` (encoding: UTF-8).
[2025-11-17 17:02:51] [TRACE]   [OmnipathR] JSON validation successful: TRUE
[2025-11-17 17:02:52] [TRACE]   [OmnipathR] Reading JSON from `/Library/Frameworks/R.framework/Versions/4.5-x86_64/Resources/library/OmnipathR/internal/id_types.json` (encoding: UTF-8).
[2025-11-17 17:02:52] [TRACE]   [OmnipathR] JSON validation successful: TRUE
[2025-11-17 17:02:52] [TRACE]   [OmnipathR] Cache locked: FALSE
** testing if installed package keeps a record of temporary installation path
* DONE (OmnipathR)

Tests output

OmnipathR.Rcheck/tests/testthat.Rout


R version 4.5.2 Patched (2025-11-05 r88990) -- "[Not] Part in a Rumble"
Copyright (C) 2025 The R Foundation for Statistical Computing
Platform: x86_64-apple-darwin20

R is free software and comes with ABSOLUTELY NO WARRANTY.
You are welcome to redistribute it under certain conditions.
Type 'license()' or 'licence()' for distribution details.

R is a collaborative project with many contributors.
Type 'contributors()' for more information and
'citation()' on how to cite R or R packages in publications.

Type 'demo()' for some demos, 'help()' for on-line help, or
'help.start()' for an HTML browser interface to help.
Type 'q()' to quit R.

> #!/usr/bin/env Rscript
> 
> #
> #  This file is part of the `OmnipathR` R package
> #
> #  Copyright
> #  2018-2024
> #  Saez Lab, Uniklinik RWTH Aachen, Heidelberg University
> #
> #  File author(s): Alberto Valdeolivas
> #                  Dénes Türei (turei.denes@gmail.com)
> #                  Attila Gábor
> #
> #  Distributed under the MIT (Expat) License.
> #  See accompanying file `LICENSE` or find a copy at
> #      https://directory.fsf.org/wiki/License:Expat
> #
> #  Website: https://r.omnipathdb.org/
> #  Git repo: https://github.com/saezlab/OmnipathR
> #
> 
> 
> library(testthat)
> library(OmnipathR)
[2025-11-18 11:57:32] [TRACE]   [OmnipathR] Reading JSON from `/Users/biocbuild/Library/Caches/OmnipathR/cache.json` (encoding: UTF-8).
[2025-11-18 11:57:32] [TRACE]   [OmnipathR] JSON validation successful: TRUE
[2025-11-18 11:57:32] [INFO]    [OmnipathR] Initialized cache: `/Users/biocbuild/Library/Caches/OmnipathR`.
[2025-11-18 11:57:32] [INFO]    [OmnipathR] Package `OmnipathR` packaged: NA
[2025-11-18 11:57:32] [INFO]    [OmnipathR] Package `OmnipathR` date/publication: 2025-11-17
[2025-11-18 11:57:32] [INFO]    [OmnipathR] Package `OmnipathR` built: R 4.5.2; ; 2025-11-17 22:02:15 UTC; unix
[2025-11-18 11:57:32] [INFO]    [OmnipathR] Package `OmnipathR` version: 3.18.2
[2025-11-18 11:57:32] [INFO]    [OmnipathR] Package `OmnipathR` repository: Bioconductor 3.22
[2025-11-18 11:57:33] [INFO]    [OmnipathR] Session info: [version=R version 4.5.2 Patched (2025-11-05 r88990); os=macOS Monterey 12.7.6; system=x86_64, darwin20; ui=X11; language=C; collate=C; ctype=en_US.UTF-8; tz=America/New_York; date=2025-11-18; pandoc=2.7.3 @ /usr/local/bin/ (via rmarkdown); quarto=1.4.553 @ /usr/local/bin/quarto]
[2025-11-18 11:57:34] [INFO]    [OmnipathR] External libraries: [cairo=1.17.6; cairoFT=; pango=1.50.14; png=1.6.44; jpeg=9.5; tiff=LIBTIFF, Version 4.5.0; tcl=8.6.13; curl=8.7.1; zlib=1.2.11; bzlib=1.0.8, 13-Jul-2019; xz=5.6.3; deflate=1.23; PCRE=10.44 2024-06-07; ICU=70.1; TRE=TRE 0.8.0 R_fixes (BSD); iconv=Apple or GNU libiconv 1.11 /Library/Frameworks/R.framework/Versions/4.5-x86_64/Resources/lib/libR.dylib; readline=5.2; BLAS=/Library/Frameworks/R.framework/Versions/4.5-x86_64/Resources/lib/libRblas.0.dylib; lapack=/Library/Frameworks/R.framework/Versions/4.5-x86_64/Resources/lib/libRlapack.dylib; lapack_version=3.12.1]
[2025-11-18 11:57:34] [INFO]    [OmnipathR] Loaded packages: backports 1.5.0(2024-05-23); bit 4.6.0(2025-03-06); bit64 4.6.0-1(2025-01-16); blob 1.2.4(2023-03-17); brio 1.1.5(2024-04-24); cachem 1.1.0(2024-05-16); cellranger 1.1.0(2016-07-27); checkmate 2.3.3(2025-08-18); chromote 0.5.1(2025-04-24); cli 3.6.5(2025-04-23); crayon 1.5.3(2024-06-20); curl 7.0.0(2025-08-19); DBI 1.2.3(2024-06-02); digest 0.6.38(2025-11-12); dplyr 1.1.4(2023-11-17); evaluate 1.0.5(2025-08-27); fastmap 1.2.0(2024-05-15); fs 1.6.6(2025-04-12); generics 0.1.4(2025-05-09); glue 1.8.0(2024-09-30); hms 1.1.4(2025-10-17); htmltools 0.5.8.1(2024-04-04); httr 1.4.7(2023-08-15); httr2 1.2.1(2025-07-22); igraph 2.2.1(2025-10-27); jsonlite 2.0.0(2025-03-27); knitr 1.50(2025-03-16); later 1.4.4(2025-08-27); lifecycle 1.0.4(2023-11-07); logger 0.4.1(2025-09-11); lubridate 1.9.4(2024-12-08); magrittr 2.0.4(2025-09-12); memoise 2.0.1(2021-11-26); OmnipathR 3.18.2(2025-11-17); otel 0.2.0(2025-08-29); pillar 1.11.1(2025-09-17); pkgconfig 2.0.3(2019-09-22); prettyunits 1.2.0(2023-09-24); processx 3.8.6(2025-02-21); progress 1.2.3(2023-12-06); promises 1.5.0(2025-11-01); ps 1.9.1(2025-04-12); purrr 1.2.0(2025-11-04); R.methodsS3 1.8.2(2022-06-13); R.oo 1.27.1(2025-05-02); R.utils 2.13.0(2025-02-24); R6 2.6.1(2025-02-15); rappdirs 0.3.3(2021-01-31); Rcpp 1.1.0(2025-07-02); readr 2.1.6(2025-11-14); readxl 1.4.5(2025-03-07); rlang 1.1.6(2025-04-11); rmarkdown 2.30(2025-09-28); RSQLite 2.4.4(2025-11-10); rvest 1.0.5(2025-08-29); sessioninfo 1.2.3(2025-02-05); stringi 1.8.7(2025-03-27); stringr 1.6.0(2025-11-04); testthat 3.3.0(2025-11-13); tibble 3.3.0(2025-06-08); tidyr 1.3.1(2024-01-24); tidyselect 1.2.1(2024-03-11); timechange 0.3.0(2024-01-18); tzdb 0.5.0(2025-03-15); vctrs 0.6.5(2023-12-01); websocket 1.4.4(2025-04-10); withr 3.0.2(2024-10-28); xfun 0.54(2025-10-30); XML 3.99-0.20(2025-11-08); xml2 1.5.0(2025-11-17); yaml 2.3.10(2024-07-26); zip 2.3.3(2025-05-13)
[2025-11-18 11:57:34] [INFO]    [OmnipathR] CURL: version: 8.14.1; headers: 8.14.1; ssl_version: LibreSSL/3.3.6 (SecureTransport); libz_version: 1.2.11; libssh_version: NA; libidn_version: NA; host: x86_64-apple-darwin22.6.0; protocols: dict, file, ftp, ftps, gopher, gophers, http, https, imap, imaps, ldap, ldaps, mqtt, pop3, pop3s, rtsp, smb, smbs, smtp, smtps, telnet, tftp, ws, wss; ipv6: TRUE; http2: TRUE; idn: FALSE; url_parser: TRUE
[2025-11-18 11:57:34] [TRACE]   [OmnipathR] Running on a build server, wiping cache.
[2025-11-18 11:57:34] [TRACE]   [OmnipathR] Cache is at `/Users/biocbuild/Library/Caches/OmnipathR`.
[2025-11-18 11:57:34] [TRACE]   [OmnipathR] Contains 22 files.
[2025-11-18 11:57:34] [TRACE]   [OmnipathR] Cache is locked: FALSE.
[2025-11-18 11:57:34] [TRACE]   [OmnipathR] Reading JSON from `/Users/biocbuild/Library/Caches/OmnipathR/cache.json` (encoding: UTF-8).
[2025-11-18 11:57:34] [TRACE]   [OmnipathR] JSON validation successful: TRUE
[2025-11-18 11:57:34] [SUCCESS] [OmnipathR] Removing all cache contents from `/Users/biocbuild/Library/Caches/OmnipathR`.
[2025-11-18 11:57:34] [TRACE]   [OmnipathR] Pandoc version: `2.7.3`.
[2025-11-18 11:57:34] [TRACE]   [OmnipathR] Reading JSON from `/Library/Frameworks/R.framework/Versions/4.5-x86_64/Resources/library/OmnipathR/db/db_def.json` (encoding: UTF-8).
[2025-11-18 11:57:34] [TRACE]   [OmnipathR] JSON validation successful: TRUE
[2025-11-18 11:57:34] [TRACE]   [OmnipathR] Reading JSON from `/Library/Frameworks/R.framework/Versions/4.5-x86_64/Resources/library/OmnipathR/internal/magic_bytes.json` (encoding: UTF-8).
[2025-11-18 11:57:34] [TRACE]   [OmnipathR] JSON validation successful: TRUE
[2025-11-18 11:57:34] [TRACE]   [OmnipathR] Reading JSON from `/Library/Frameworks/R.framework/Versions/4.5-x86_64/Resources/library/OmnipathR/internal/urls.json` (encoding: UTF-8).
[2025-11-18 11:57:34] [TRACE]   [OmnipathR] JSON validation successful: TRUE
[2025-11-18 11:57:34] [TRACE]   [OmnipathR] Reading JSON from `/Library/Frameworks/R.framework/Versions/4.5-x86_64/Resources/library/OmnipathR/internal/id_types.json` (encoding: UTF-8).
[2025-11-18 11:57:34] [TRACE]   [OmnipathR] JSON validation successful: TRUE
[2025-11-18 11:57:34] [TRACE]   [OmnipathR] Cache locked: FALSE
> 
> test_check('OmnipathR')
[ FAIL 0 | WARN 12 | SKIP 0 | PASS 38 ]

[ FAIL 0 | WARN 12 | SKIP 0 | PASS 38 ]
> 
> proc.time()
   user  system elapsed 
 88.842  10.515 121.165 

Example timings

OmnipathR.Rcheck/OmnipathR-Ex.timings

nameusersystemelapsed
OmnipathR0.0010.0010.002
all_uniprot_acs0.0380.0050.043
all_uniprots50.699 5.14373.439
ancestors0.0200.0030.022
annotated_network2.2670.2204.606
annotation_categories 97.233 0.419100.801
annotation_resources0.1340.0210.798
annotations0.9560.0851.838
biomart_query2.0880.2723.432
bioplex10.0190.0030.022
bioplex20.0190.0030.022
bioplex30.0180.0030.021
bioplex_all0.0190.0030.022
bioplex_hct116_10.0190.0030.022
bma_motif_es1.0430.1152.117
bma_motif_vs0.4120.0441.115
chalmers_gem0.0180.0030.021
chalmers_gem_id_mapping_table0.0190.0030.021
chalmers_gem_id_type0.0040.0010.005
chalmers_gem_metabolites0.0200.0030.022
chalmers_gem_network0.0190.0020.022
chalmers_gem_raw0.0190.0030.022
chalmers_gem_reactions0.0190.0020.022
common_name0.2020.0120.214
complex_genes1.1890.1112.590
complex_resources0.1320.0160.749
complexes0.3410.0320.853
consensuspathdb_download0.0000.0010.001
consensuspathdb_raw_table0.0200.0040.024
cosmos_pkn0.0000.0010.001
curated_ligand_receptor_interactions12.911 1.96521.924
curated_ligrec_stats 74.753 7.663141.721
database_summary3.2510.3365.167
descendants0.0180.0020.022
ensembl_dataset0.0810.0020.084
ensembl_id_mapping_table 3.607 0.41420.864
ensembl_id_type0.0040.0010.006
ensembl_name0.7350.0290.806
ensembl_organisms0.3000.0460.548
ensembl_organisms_raw0.2950.0460.486
ensembl_orthology0.0000.0020.002
enzsub_graph4.9730.3466.860
enzsub_resources0.1310.0150.744
enzyme_substrate2.8730.1273.793
evex_download0.0220.0050.046
evidences0.0000.0010.001
extra_attr_values35.524 6.07448.342
extra_attrs21.576 4.91132.310
extra_attrs_to_cols39.890 6.46955.813
filter_by_resource22.344 1.24225.573
filter_extra_attrs 72.815 18.763144.771
filter_intercell11.168 1.09319.073
filter_intercell_network0.0390.0060.046
find_all_paths15.301 0.79216.837
from_evidences0.0010.0010.001
get_db0.0010.0010.001
get_ontology_db0.0190.0040.030
giant_component24.251 2.01227.063
go_annot_download20.920 2.60621.384
go_annot_slim0.0010.0010.001
go_ontology_download0.0180.0030.022
guide2pharma_download0.0180.0030.021
harmonizome_download0.0180.0030.021
has_extra_attrs20.506 5.11834.065
hmdb_id_mapping_table0.0200.0030.023
hmdb_id_type0.0050.0010.006
hmdb_metabolite_fields0.0010.0020.002
hmdb_protein_fields0.0010.0010.001
hmdb_table0.0230.0040.072
homologene_download0.1180.0050.218
homologene_raw0.1240.0080.251
homologene_uniprot_orthology0.0240.0040.028
hpo_download 4.644 0.73113.325
htridb_download0.0200.0040.084
id_translation_resources0.0000.0000.001
id_types0.0880.0160.148
inbiomap_download0.0000.0010.000
inbiomap_raw0.0000.0010.001
interaction_datasets1.1560.1292.509
interaction_graph0.9090.0682.115
interaction_resources0.1330.0200.800
interaction_types0.1360.0120.179
intercell1.4130.1713.201
intercell_categories1.1900.1492.446
intercell_consensus_filter2.6010.2695.056
intercell_generic_categories0.1490.0140.191
intercell_network0.0220.0050.026
intercell_resources0.1300.0130.664
intercell_summary0.1590.0540.320
is_ontology_id0.0000.0000.001
is_swissprot0.1120.0090.200
is_trembl0.1140.0100.238
is_uniprot0.1040.0130.215
kegg_api_templates0.0040.0070.010
kegg_conv2.4290.3009.446
kegg_databases0.0010.0010.001
kegg_ddi1.1140.1273.152
kegg_find1.1150.1153.347
kegg_info0.0190.0020.022
kegg_link1.2750.1445.303
kegg_list1.1390.1272.801
kegg_open0.0190.0020.022
kegg_operations0.0010.0010.001
kegg_organism_codes0.0670.1880.445
kegg_organisms0.0480.0120.060
kegg_pathway_annotations0.0000.0000.001
kegg_pathway_download0.0200.0030.079
kegg_pathway_list0.0190.0030.021
kegg_pathways_download0.0010.0010.001
kegg_picture1.5150.0763.463
kegg_process0.0400.0060.046
kegg_query0.0190.0020.156
kegg_request0.1310.0170.209
kegg_rm_prefix1.3610.1514.817
kinasephos 1.846 0.24619.510
latin_name0.4150.0160.452
load_db0.1820.0390.255
metalinksdb_sqlite1.8610.4573.722
metalinksdb_table0.4660.0940.579
metalinksdb_tables0.0340.0070.043
ncbi_taxid0.4240.0170.447
nichenet_build_model0.0000.0010.001
nichenet_expression_data0.0200.0030.023
nichenet_gr_network0.0560.0090.065
nichenet_gr_network_evex0.0190.0030.022
nichenet_gr_network_harmonizome0.0210.0030.026
nichenet_gr_network_htridb0.0190.0030.022
nichenet_gr_network_omnipath38.373 2.86942.320
nichenet_gr_network_pathwaycommons0.0200.0030.022
nichenet_gr_network_regnetwork0.0200.0030.022
nichenet_gr_network_remap0.0200.0030.022
nichenet_gr_network_trrust0.0200.0030.023
nichenet_ligand_activities0.0000.0010.002
nichenet_ligand_target_links0.0010.0020.003
nichenet_ligand_target_matrix0.0000.0010.001
nichenet_lr_network0.0570.0080.066
nichenet_lr_network_guide2pharma0.0210.0030.022
nichenet_lr_network_omnipath0.0590.0080.070
nichenet_lr_network_ramilowski0.0200.0020.023
nichenet_main0.0000.0010.001
nichenet_networks0.1750.0180.197
nichenet_optimization0.0000.0010.001
nichenet_remove_orphan_ligands0.0600.0070.069
nichenet_results_dir0.0000.0010.001
nichenet_signaling_network0.0660.0090.079
nichenet_signaling_network_cpdb0.0200.0030.023
nichenet_signaling_network_evex0.0210.0030.023
nichenet_signaling_network_harmonizome0.0200.0030.024
nichenet_signaling_network_inbiomap0.0010.0010.001
nichenet_signaling_network_omnipath27.506 1.90230.827
nichenet_signaling_network_pathwaycommons0.0200.0030.023
nichenet_signaling_network_vinayagam0.0200.0030.022
nichenet_test0.0000.0000.001
nichenet_workarounds0.0000.0010.000
obo_parser0.1870.0650.421
oma_code0.2280.0070.237
oma_organisms0.1380.0270.164
oma_pairwise0.0200.0030.023
oma_pairwise_genesymbols0.0190.0020.022
oma_pairwise_translated0.0190.0030.023
omnipath-interactions68.016 5.11687.848
omnipath_cache_autoclean0.0000.0010.001
omnipath_cache_clean0.0200.0070.028
omnipath_cache_clean_db0.2420.0460.312
omnipath_cache_download_ready1.1330.2481.436
omnipath_cache_filter_versions0.1770.0470.227
omnipath_cache_get0.2280.0310.259
omnipath_cache_key0.0020.0010.003
omnipath_cache_latest_or_new0.1170.0220.141
omnipath_cache_load0.9150.0692.134
omnipath_cache_move_in0.3000.0650.384
omnipath_cache_remove0.1870.0420.233
omnipath_cache_save0.3560.0510.555
omnipath_cache_search0.0010.0010.002
omnipath_cache_set_ext0.1480.0380.188
omnipath_cache_update_status0.1500.0270.177
omnipath_cache_wipe0.0000.0010.001
omnipath_config_path0.0010.0000.001
omnipath_for_cosmos20.844 1.43238.768
omnipath_load_config0.0000.0010.001
omnipath_log0.0010.0000.001
omnipath_logfile0.0020.0010.004
omnipath_msg0.0110.0020.012
omnipath_query10.054 0.45710.856
omnipath_reset_config0.0000.0010.001
omnipath_save_config0.0000.0010.001
omnipath_set_cachedir0.0530.0090.062
omnipath_set_console_loglevel0.0070.0000.008
omnipath_set_logfile_loglevel0.0080.0010.008
omnipath_set_loglevel0.0050.0010.005
omnipath_show_db0.1330.0250.161
omnipath_unlock_cache_db0.0000.0010.001
only_from0.0010.0000.001
ontology_ensure_id0.0010.0010.002
ontology_ensure_name0.0010.0010.002
ontology_name_id0.0010.0010.003
organism_for0.2800.0100.305
pathwaycommons_download0.0010.0010.003
pivot_annotations17.429 1.88420.863
preppi_download0.0010.0010.002
preppi_filter0.0020.0010.002
print_bma_motif_es0.8050.1151.683
print_bma_motif_vs0.3080.0330.933
print_interactions15.036 0.97218.127
print_path_es1.2870.1062.369
print_path_vs5.4680.4998.085
pubmed_open10.537 0.49411.912
query_info0.6020.0460.973
ramilowski_download0.0010.0010.002
ramp_id_mapping_table0.0010.0000.001
ramp_id_type0.0040.0010.005
ramp_sqlite0.0010.0010.001
ramp_table0.0010.0000.002
ramp_tables0.0010.0010.001
recon3d0.0030.0010.004
recon3d_raw0.0010.0010.002
recon3d_raw_vmh0.0010.0000.002
regnetwork_directions0.0010.0010.002
regnetwork_download0.0010.0010.002
relations_list_to_table0.1710.0610.355
relations_table_to_graph0.0000.0010.001
relations_table_to_list0.1330.0520.208
remap_dorothea_download0.0010.0010.002
remap_filtered0.0000.0020.001
remap_tf_target_download0.0010.0010.001
resource_info0.7530.2381.296
resources0.1130.0160.763
resources_colname1.7190.1562.836
resources_in 9.927 0.39511.368
show_network0.0010.0010.002
signed_ptms12.886 0.51815.002
simplify_intercell_network0.0020.0010.002
static_table 9.631 0.80310.970
static_tables0.1090.0270.230
stitch_actions0.0010.0000.002
stitch_links0.0010.0010.002
stitch_network0.0010.0010.002
stitch_remove_prefixes0.0150.0030.018
swap_relations0.1440.0540.230
swissprots_only0.2080.0090.216
tfcensus_download0.8630.1107.203
translate_ids 1.830 0.22211.793
translate_ids_multi16.579 0.98832.945
trembls_only0.2190.0090.228
trrust_download0.0010.0010.002
uniprot_full_id_mapping_table 1.780 0.26013.174
uniprot_genesymbol_cleanup0.0010.0010.001
uniprot_id_mapping_table0.0010.0010.002
uniprot_id_type0.0040.0010.005
uniprot_idmapping_id_types0.7400.1001.394
uniprot_organisms42.708 4.49248.493
unique_intercell_network0.0020.0010.002
unnest_evidences0.0000.0010.001
uploadlists_id_type0.0030.0000.003
vinayagam_download0.0010.0010.002
walk_ontology_tree0.0030.0010.003
with_extra_attrs33.549 5.93240.143
with_references1.5360.1432.606
zenodo_download0.0020.0020.004