Back to Multiple platform build/check report for BioC 3.21:   simplified   long
ABCDEF[G]HIJKLMNOPQRSTUVWXYZ

This page was generated on 2025-10-02 11:38 -0400 (Thu, 02 Oct 2025).

HostnameOSArch (*)R versionInstalled pkgs
nebbiolo1Linux (Ubuntu 24.04.3 LTS)x86_644.5.1 (2025-06-13) -- "Great Square Root" 4831
merida1macOS 12.7.5 Montereyx86_644.5.1 RC (2025-06-05 r88288) -- "Great Square Root" 4612
kjohnson1macOS 13.6.6 Venturaarm644.5.1 Patched (2025-06-14 r88325) -- "Great Square Root" 4553
kunpeng2Linux (openEuler 24.03 LTS)aarch64R Under development (unstable) (2025-02-19 r87757) -- "Unsuffered Consequences" 4584
Click on any hostname to see more info about the system (e.g. compilers)      (*) as reported by 'uname -p', except on Windows and Mac OS X

Package 913/2341HostnameOS / ArchINSTALLBUILDCHECKBUILD BIN
GRaNIE 1.12.0  (landing page)
Christian Arnold
Snapshot Date: 2025-09-29 13:40 -0400 (Mon, 29 Sep 2025)
git_url: https://git.bioconductor.org/packages/GRaNIE
git_branch: RELEASE_3_21
git_last_commit: 21e7fc4
git_last_commit_date: 2025-04-15 12:51:24 -0400 (Tue, 15 Apr 2025)
nebbiolo1Linux (Ubuntu 24.04.3 LTS) / x86_64  OK    OK    OK  UNNEEDED, same version is already published
merida1macOS 12.7.5 Monterey / x86_64  OK    OK    OK    OK  UNNEEDED, same version is already published
kjohnson1macOS 13.6.6 Ventura / arm64  OK    OK    OK    OK  UNNEEDED, same version is already published
kunpeng2Linux (openEuler 24.03 LTS) / aarch64  OK    OK    OK  


CHECK results for GRaNIE on nebbiolo1

To the developers/maintainers of the GRaNIE package:
- Allow up to 24 hours (and sometimes 48 hours) for your latest push to git@git.bioconductor.org:packages/GRaNIE.git to reflect on this report. See Troubleshooting Build Report for more information.
- Use the following Renviron settings to reproduce errors and warnings.
- If 'R CMD check' started to fail recently on the Linux builder(s) over a missing dependency, add the missing dependency to 'Suggests:' in your DESCRIPTION file. See Renviron.bioc for more information.

raw results


Summary

Package: GRaNIE
Version: 1.12.0
Command: /home/biocbuild/bbs-3.21-bioc/R/bin/R CMD check --install=check:GRaNIE.install-out.txt --library=/home/biocbuild/bbs-3.21-bioc/R/site-library --timings GRaNIE_1.12.0.tar.gz
StartedAt: 2025-10-01 23:49:15 -0400 (Wed, 01 Oct 2025)
EndedAt: 2025-10-02 00:00:03 -0400 (Thu, 02 Oct 2025)
EllapsedTime: 648.0 seconds
RetCode: 0
Status:   OK  
CheckDir: GRaNIE.Rcheck
Warnings: 0

Command output

##############################################################################
##############################################################################
###
### Running command:
###
###   /home/biocbuild/bbs-3.21-bioc/R/bin/R CMD check --install=check:GRaNIE.install-out.txt --library=/home/biocbuild/bbs-3.21-bioc/R/site-library --timings GRaNIE_1.12.0.tar.gz
###
##############################################################################
##############################################################################


* using log directory ‘/home/biocbuild/bbs-3.21-bioc/meat/GRaNIE.Rcheck’
* using R version 4.5.1 (2025-06-13)
* using platform: x86_64-pc-linux-gnu
* R was compiled by
    gcc (Ubuntu 13.3.0-6ubuntu2~24.04) 13.3.0
    GNU Fortran (Ubuntu 13.3.0-6ubuntu2~24.04) 13.3.0
* running under: Ubuntu 24.04.3 LTS
* using session charset: UTF-8
* checking for file ‘GRaNIE/DESCRIPTION’ ... OK
* this is package ‘GRaNIE’ version ‘1.12.0’
* package encoding: UTF-8
* checking package namespace information ... OK
* checking package dependencies ... INFO
Imports includes 37 non-default packages.
Importing from so many packages makes the package vulnerable to any of
them becoming unavailable.  Move as many as possible to Suggests and
use conditionally.
* checking if this is a source package ... OK
* checking if there is a namespace ... OK
* checking for hidden files and directories ... OK
* checking for portable file names ... OK
* checking for sufficient/correct file permissions ... OK
* checking whether package ‘GRaNIE’ can be installed ... OK
* checking installed package size ... OK
* checking package directory ... OK
* checking ‘build’ directory ... OK
* checking DESCRIPTION meta-information ... OK
* checking top-level files ... OK
* checking for left-over files ... OK
* checking index information ... OK
* checking package subdirectories ... OK
* checking code files for non-ASCII characters ... OK
* checking R files for syntax errors ... OK
* checking whether the package can be loaded ... OK
* checking whether the package can be loaded with stated dependencies ... OK
* checking whether the package can be unloaded cleanly ... OK
* checking whether the namespace can be loaded with stated dependencies ... OK
* checking whether the namespace can be unloaded cleanly ... OK
* checking loading without being on the library search path ... OK
* checking whether startup messages can be suppressed ... OK
* checking dependencies in R code ... OK
* checking S3 generic/method consistency ... OK
* checking replacement functions ... OK
* checking foreign function calls ... OK
* checking R code for possible problems ... NOTE
.performIHW: no visible binding for global variable 'adj_pvalue'
Undefined global functions or variables:
  adj_pvalue
* checking Rd files ... OK
* checking Rd metadata ... OK
* checking Rd cross-references ... OK
* checking for missing documentation entries ... OK
* checking for code/documentation mismatches ... OK
* checking Rd \usage sections ... OK
* checking Rd contents ... OK
* checking for unstated dependencies in examples ... OK
* checking files in ‘vignettes’ ... OK
* checking examples ... OK
Examples with CPU (user + system) or elapsed time > 5s
                                user system elapsed
generateStatsSummary           9.452  0.591  10.660
plotDiagnosticPlots_peakGene   7.860  0.800   9.865
addSNPData                     5.380  0.697   7.982
getGRNSummary                  5.519  0.558   6.909
calculateGeneralEnrichment     5.104  0.855   7.234
plotGeneralGraphStats          4.923  0.570   5.903
filterGRNAndConnectGenes       4.727  0.656   5.811
visualizeGRN                   4.402  0.468   5.335
calculateCommunitiesEnrichment 4.198  0.648   5.258
calculateTFEnrichment          3.677  0.270   5.022
addConnections_TF_peak         3.511  0.426   6.731
filterData                     3.656  0.275   5.159
getTopNodes                    3.301  0.224   5.039
* checking for unstated dependencies in vignettes ... OK
* checking package vignettes ... OK
* checking re-building of vignette outputs ... OK
* checking PDF version of manual ... OK
* DONE

Status: 1 NOTE
See
  ‘/home/biocbuild/bbs-3.21-bioc/meat/GRaNIE.Rcheck/00check.log’
for details.


Installation output

GRaNIE.Rcheck/00install.out

##############################################################################
##############################################################################
###
### Running command:
###
###   /home/biocbuild/bbs-3.21-bioc/R/bin/R CMD INSTALL GRaNIE
###
##############################################################################
##############################################################################


* installing to library ‘/home/biocbuild/bbs-3.21-bioc/R/site-library’
* installing *source* package ‘GRaNIE’ ...
** this is package ‘GRaNIE’ version ‘1.12.0’
** using staged installation
** R
** byte-compile and prepare package for lazy loading
** help
*** installing help indices
*** copying figures
** building package indices
** installing vignettes
** testing if installed package can be loaded from temporary location
** testing if installed package can be loaded from final location
** testing if installed package keeps a record of temporary installation path
* DONE (GRaNIE)

Tests output


Example timings

GRaNIE.Rcheck/GRaNIE-Ex.timings

nameusersystemelapsed
AR_classification_wrapper000
addConnections_TF_peak3.5110.4266.731
addConnections_peak_gene2.8810.2963.599
addData000
addSNPData5.3800.6977.982
addTFBS000
add_TF_gene_correlation1.9940.2552.654
add_featureVariation000
build_eGRN_graph1.9880.2062.588
calculateCommunitiesEnrichment4.1980.6485.258
calculateCommunitiesStats2.2160.2542.920
calculateGeneralEnrichment5.1040.8557.234
calculateTFEnrichment3.6770.2705.022
changeOutputDirectory2.0860.1272.806
deleteIntermediateData3.0900.2444.217
filterConnectionsForPlotting2.0750.0912.663
filterData3.6560.2755.159
filterGRNAndConnectGenes4.7270.6565.811
generateStatsSummary 9.452 0.59110.660
getCounts2.8050.2063.527
getGRNConnections2.6740.1473.247
getGRNSummary5.5190.5586.909
getParameters2.3420.1563.063
getTopNodes3.3010.2245.039
initializeGRN0.0330.0060.040
loadExampleObject3.5640.4174.581
nGenes3.2240.2204.356
nPeaks2.2180.1502.766
nTFs3.1970.2204.281
overlapPeaksAndTFBS2.2450.1282.815
performAllNetworkAnalyses000
plotCommunitiesEnrichment3.3680.2354.049
plotCommunitiesStats4.1060.2704.780
plotCorrelations3.3820.5204.360
plotDiagnosticPlots_TFPeaks3.5770.3294.308
plotDiagnosticPlots_peakGene7.8600.8009.865
plotGeneralEnrichment2.4680.2293.110
plotGeneralGraphStats4.9230.5705.903
plotPCA_all2.8490.2773.530
plotTFEnrichment2.7660.1463.335
plot_stats_connectionSummary2.3580.1962.962
visualizeGRN4.4020.4685.335