Back to Multiple platform build/check report for BioC 3.21: simplified long |
|
This page was generated on 2025-10-02 11:40 -0400 (Thu, 02 Oct 2025).
Hostname | OS | Arch (*) | R version | Installed pkgs |
---|---|---|---|---|
nebbiolo1 | Linux (Ubuntu 24.04.3 LTS) | x86_64 | 4.5.1 (2025-06-13) -- "Great Square Root" | 4831 |
merida1 | macOS 12.7.5 Monterey | x86_64 | 4.5.1 RC (2025-06-05 r88288) -- "Great Square Root" | 4612 |
kjohnson1 | macOS 13.6.6 Ventura | arm64 | 4.5.1 Patched (2025-06-14 r88325) -- "Great Square Root" | 4553 |
kunpeng2 | Linux (openEuler 24.03 LTS) | aarch64 | R Under development (unstable) (2025-02-19 r87757) -- "Unsuffered Consequences" | 4584 |
Click on any hostname to see more info about the system (e.g. compilers) (*) as reported by 'uname -p', except on Windows and Mac OS X |
Package 913/2341 | Hostname | OS / Arch | INSTALL | BUILD | CHECK | BUILD BIN | ||||||||
GRaNIE 1.12.0 (landing page) Christian Arnold
| nebbiolo1 | Linux (Ubuntu 24.04.3 LTS) / x86_64 | OK | OK | OK | ![]() | ||||||||
merida1 | macOS 12.7.5 Monterey / x86_64 | OK | OK | OK | OK | ![]() | ||||||||
kjohnson1 | macOS 13.6.6 Ventura / arm64 | OK | OK | OK | OK | ![]() | ||||||||
kunpeng2 | Linux (openEuler 24.03 LTS) / aarch64 | OK | OK | OK | ||||||||||
To the developers/maintainers of the GRaNIE package: - Allow up to 24 hours (and sometimes 48 hours) for your latest push to git@git.bioconductor.org:packages/GRaNIE.git to reflect on this report. See Troubleshooting Build Report for more information. - Use the following Renviron settings to reproduce errors and warnings. - If 'R CMD check' started to fail recently on the Linux builder(s) over a missing dependency, add the missing dependency to 'Suggests:' in your DESCRIPTION file. See Renviron.bioc for more information. |
Package: GRaNIE |
Version: 1.12.0 |
Command: /Library/Frameworks/R.framework/Resources/bin/R CMD check --install=check:GRaNIE.install-out.txt --library=/Library/Frameworks/R.framework/Resources/library --no-vignettes --timings GRaNIE_1.12.0.tar.gz |
StartedAt: 2025-09-30 23:39:02 -0400 (Tue, 30 Sep 2025) |
EndedAt: 2025-09-30 23:47:59 -0400 (Tue, 30 Sep 2025) |
EllapsedTime: 537.0 seconds |
RetCode: 0 |
Status: OK |
CheckDir: GRaNIE.Rcheck |
Warnings: 0 |
############################################################################## ############################################################################## ### ### Running command: ### ### /Library/Frameworks/R.framework/Resources/bin/R CMD check --install=check:GRaNIE.install-out.txt --library=/Library/Frameworks/R.framework/Resources/library --no-vignettes --timings GRaNIE_1.12.0.tar.gz ### ############################################################################## ############################################################################## * using log directory ‘/Users/biocbuild/bbs-3.21-bioc/meat/GRaNIE.Rcheck’ * using R version 4.5.1 Patched (2025-06-14 r88325) * using platform: aarch64-apple-darwin20 * R was compiled by Apple clang version 16.0.0 (clang-1600.0.26.6) GNU Fortran (GCC) 14.2.0 * running under: macOS Ventura 13.7.5 * using session charset: UTF-8 * using option ‘--no-vignettes’ * checking for file ‘GRaNIE/DESCRIPTION’ ... OK * this is package ‘GRaNIE’ version ‘1.12.0’ * package encoding: UTF-8 * checking package namespace information ... OK * checking package dependencies ... INFO Imports includes 37 non-default packages. Importing from so many packages makes the package vulnerable to any of them becoming unavailable. Move as many as possible to Suggests and use conditionally. * checking if this is a source package ... OK * checking if there is a namespace ... OK * checking for hidden files and directories ... OK * checking for portable file names ... OK * checking for sufficient/correct file permissions ... OK * checking whether package ‘GRaNIE’ can be installed ... OK * checking installed package size ... OK * checking package directory ... OK * checking ‘build’ directory ... OK * checking DESCRIPTION meta-information ... OK * checking top-level files ... OK * checking for left-over files ... OK * checking index information ... OK * checking package subdirectories ... OK * checking code files for non-ASCII characters ... OK * checking R files for syntax errors ... OK * checking whether the package can be loaded ... OK * checking whether the package can be loaded with stated dependencies ... OK * checking whether the package can be unloaded cleanly ... OK * checking whether the namespace can be loaded with stated dependencies ... OK * checking whether the namespace can be unloaded cleanly ... OK * checking whether startup messages can be suppressed ... OK * checking dependencies in R code ... OK * checking S3 generic/method consistency ... OK * checking replacement functions ... OK * checking foreign function calls ... OK * checking R code for possible problems ... NOTE .performIHW: no visible binding for global variable 'adj_pvalue' Undefined global functions or variables: adj_pvalue * checking Rd files ... OK * checking Rd metadata ... OK * checking Rd cross-references ... OK * checking for missing documentation entries ... OK * checking for code/documentation mismatches ... OK * checking Rd \usage sections ... OK * checking Rd contents ... OK * checking for unstated dependencies in examples ... OK * checking files in ‘vignettes’ ... OK * checking examples ... OK Examples with CPU (user + system) or elapsed time > 5s user system elapsed generateStatsSummary 9.369 0.219 10.059 addConnections_TF_peak 7.160 1.099 10.183 plotDiagnosticPlots_peakGene 6.848 0.171 7.441 addSNPData 5.971 0.549 8.661 plotCommunitiesEnrichment 5.723 0.150 6.370 plotPCA_all 5.251 0.169 5.768 calculateCommunitiesEnrichment 4.972 0.149 5.604 plotCommunitiesStats 4.973 0.135 5.519 plotCorrelations 4.882 0.085 5.334 * checking for unstated dependencies in vignettes ... OK * checking package vignettes ... OK * checking running R code from vignettes ... SKIPPED * checking re-building of vignette outputs ... SKIPPED * checking PDF version of manual ... OK * DONE Status: 1 NOTE See ‘/Users/biocbuild/bbs-3.21-bioc/meat/GRaNIE.Rcheck/00check.log’ for details.
GRaNIE.Rcheck/00install.out
############################################################################## ############################################################################## ### ### Running command: ### ### /Library/Frameworks/R.framework/Resources/bin/R CMD INSTALL GRaNIE ### ############################################################################## ############################################################################## * installing to library ‘/Library/Frameworks/R.framework/Versions/4.5-arm64/Resources/library’ * installing *source* package ‘GRaNIE’ ... ** this is package ‘GRaNIE’ version ‘1.12.0’ ** using staged installation ** R ** byte-compile and prepare package for lazy loading ** help *** installing help indices *** copying figures ** building package indices ** installing vignettes ** testing if installed package can be loaded from temporary location ** testing if installed package can be loaded from final location ** testing if installed package keeps a record of temporary installation path * DONE (GRaNIE)
GRaNIE.Rcheck/GRaNIE-Ex.timings
name | user | system | elapsed | |
AR_classification_wrapper | 0.000 | 0.000 | 0.001 | |
addConnections_TF_peak | 7.160 | 1.099 | 10.183 | |
addConnections_peak_gene | 3.811 | 0.084 | 4.320 | |
addData | 0.000 | 0.001 | 0.000 | |
addSNPData | 5.971 | 0.549 | 8.661 | |
addTFBS | 0.000 | 0.001 | 0.000 | |
add_TF_gene_correlation | 4.069 | 0.152 | 4.627 | |
add_featureVariation | 0 | 0 | 0 | |
build_eGRN_graph | 2.739 | 0.060 | 3.171 | |
calculateCommunitiesEnrichment | 4.972 | 0.149 | 5.604 | |
calculateCommunitiesStats | 2.747 | 0.052 | 3.169 | |
calculateGeneralEnrichment | 3.120 | 0.073 | 3.583 | |
calculateTFEnrichment | 3.109 | 0.089 | 3.624 | |
changeOutputDirectory | 2.856 | 0.060 | 3.299 | |
deleteIntermediateData | 2.923 | 0.072 | 3.381 | |
filterConnectionsForPlotting | 3.040 | 0.066 | 3.490 | |
filterData | 3.194 | 0.083 | 3.697 | |
filterGRNAndConnectGenes | 2.991 | 0.072 | 3.398 | |
generateStatsSummary | 9.369 | 0.219 | 10.059 | |
getCounts | 2.933 | 0.085 | 3.378 | |
getGRNConnections | 2.911 | 0.074 | 3.365 | |
getGRNSummary | 3.524 | 0.102 | 4.056 | |
getParameters | 4.192 | 0.068 | 4.607 | |
getTopNodes | 2.958 | 0.060 | 3.418 | |
initializeGRN | 0.018 | 0.003 | 0.021 | |
loadExampleObject | 2.712 | 0.059 | 3.177 | |
nGenes | 2.984 | 0.065 | 3.416 | |
nPeaks | 2.950 | 0.068 | 3.546 | |
nTFs | 2.838 | 0.054 | 3.244 | |
overlapPeaksAndTFBS | 2.942 | 0.061 | 3.397 | |
performAllNetworkAnalyses | 0.000 | 0.000 | 0.001 | |
plotCommunitiesEnrichment | 5.723 | 0.150 | 6.370 | |
plotCommunitiesStats | 4.973 | 0.135 | 5.519 | |
plotCorrelations | 4.882 | 0.085 | 5.334 | |
plotDiagnosticPlots_TFPeaks | 4.535 | 0.082 | 4.958 | |
plotDiagnosticPlots_peakGene | 6.848 | 0.171 | 7.441 | |
plotGeneralEnrichment | 3.368 | 0.072 | 3.806 | |
plotGeneralGraphStats | 4.294 | 0.105 | 4.759 | |
plotPCA_all | 5.251 | 0.169 | 5.768 | |
plotTFEnrichment | 3.437 | 0.086 | 3.900 | |
plot_stats_connectionSummary | 3.705 | 0.097 | 4.225 | |
visualizeGRN | 4.120 | 0.129 | 4.631 | |