| Back to Multiple platform build/check report for BioC 3.21: simplified long |
|
This page was generated on 2025-10-16 11:38 -0400 (Thu, 16 Oct 2025).
| Hostname | OS | Arch (*) | R version | Installed pkgs |
|---|---|---|---|---|
| nebbiolo1 | Linux (Ubuntu 24.04.3 LTS) | x86_64 | 4.5.1 (2025-06-13) -- "Great Square Root" | 4833 |
| merida1 | macOS 12.7.6 Monterey | x86_64 | 4.5.1 RC (2025-06-05 r88288) -- "Great Square Root" | 4614 |
| kjohnson1 | macOS 13.7.5 Ventura | arm64 | 4.5.1 Patched (2025-06-14 r88325) -- "Great Square Root" | 4555 |
| kunpeng2 | Linux (openEuler 24.03 LTS) | aarch64 | R Under development (unstable) (2025-02-19 r87757) -- "Unsuffered Consequences" | 4586 |
| Click on any hostname to see more info about the system (e.g. compilers) (*) as reported by 'uname -p', except on Windows and Mac OS X | ||||
| Package 821/2341 | Hostname | OS / Arch | INSTALL | BUILD | CHECK | BUILD BIN | ||||||||
| GENESIS 2.38.0 (landing page) Stephanie M. Gogarten
| nebbiolo1 | Linux (Ubuntu 24.04.3 LTS) / x86_64 | OK | OK | OK | |||||||||
| merida1 | macOS 12.7.6 Monterey / x86_64 | OK | OK | OK | OK | |||||||||
| kjohnson1 | macOS 13.7.5 Ventura / arm64 | OK | OK | OK | OK | |||||||||
| kunpeng2 | Linux (openEuler 24.03 LTS) / aarch64 | OK | OK | OK | ||||||||||
|
To the developers/maintainers of the GENESIS package: - Allow up to 24 hours (and sometimes 48 hours) for your latest push to git@git.bioconductor.org:packages/GENESIS.git to reflect on this report. See Troubleshooting Build Report for more information. - Use the following Renviron settings to reproduce errors and warnings. - If 'R CMD check' started to fail recently on the Linux builder(s) over a missing dependency, add the missing dependency to 'Suggests:' in your DESCRIPTION file. See Renviron.bioc for more information. |
| Package: GENESIS |
| Version: 2.38.0 |
| Command: /home/biocbuild/bbs-3.21-bioc/R/bin/R CMD check --install=check:GENESIS.install-out.txt --library=/home/biocbuild/bbs-3.21-bioc/R/site-library --timings GENESIS_2.38.0.tar.gz |
| StartedAt: 2025-10-15 23:31:03 -0400 (Wed, 15 Oct 2025) |
| EndedAt: 2025-10-15 23:38:14 -0400 (Wed, 15 Oct 2025) |
| EllapsedTime: 431.5 seconds |
| RetCode: 0 |
| Status: OK |
| CheckDir: GENESIS.Rcheck |
| Warnings: 0 |
##############################################################################
##############################################################################
###
### Running command:
###
### /home/biocbuild/bbs-3.21-bioc/R/bin/R CMD check --install=check:GENESIS.install-out.txt --library=/home/biocbuild/bbs-3.21-bioc/R/site-library --timings GENESIS_2.38.0.tar.gz
###
##############################################################################
##############################################################################
* using log directory ‘/home/biocbuild/bbs-3.21-bioc/meat/GENESIS.Rcheck’
* using R version 4.5.1 (2025-06-13)
* using platform: x86_64-pc-linux-gnu
* R was compiled by
gcc (Ubuntu 13.3.0-6ubuntu2~24.04) 13.3.0
GNU Fortran (Ubuntu 13.3.0-6ubuntu2~24.04) 13.3.0
* running under: Ubuntu 24.04.3 LTS
* using session charset: UTF-8
* checking for file ‘GENESIS/DESCRIPTION’ ... OK
* checking extension type ... Package
* this is package ‘GENESIS’ version ‘2.38.0’
* checking package namespace information ... OK
* checking package dependencies ... OK
* checking if this is a source package ... OK
* checking if there is a namespace ... OK
* checking for hidden files and directories ... OK
* checking for portable file names ... OK
* checking for sufficient/correct file permissions ... OK
* checking whether package ‘GENESIS’ can be installed ... OK
* used C compiler: ‘gcc (Ubuntu 13.3.0-6ubuntu2~24.04) 13.3.0’
* checking installed package size ... OK
* checking package directory ... OK
* checking ‘build’ directory ... OK
* checking DESCRIPTION meta-information ... OK
* checking top-level files ... OK
* checking for left-over files ... OK
* checking index information ... OK
* checking package subdirectories ... OK
* checking code files for non-ASCII characters ... OK
* checking R files for syntax errors ... OK
* checking whether the package can be loaded ... OK
* checking whether the package can be loaded with stated dependencies ... OK
* checking whether the package can be unloaded cleanly ... OK
* checking whether the namespace can be loaded with stated dependencies ... OK
* checking whether the namespace can be unloaded cleanly ... OK
* checking loading without being on the library search path ... OK
* checking dependencies in R code ... NOTE
Unexported object imported by a ':::' call: ‘survey:::saddle’
See the note in ?`:::` about the use of this operator.
* checking S3 generic/method consistency ... OK
* checking replacement functions ... OK
* checking foreign function calls ... OK
* checking R code for possible problems ... OK
* checking Rd files ... NOTE
checkRd: (-1) sample_annotation_1KG.Rd:14: Lost braces in \itemize; meant \describe ?
checkRd: (-1) sample_annotation_1KG.Rd:15: Lost braces in \itemize; meant \describe ?
checkRd: (-1) sample_annotation_1KG.Rd:16: Lost braces in \itemize; meant \describe ?
* checking Rd metadata ... OK
* checking Rd cross-references ... NOTE
Found the following Rd file(s) with Rd \link{} targets missing package
anchors:
admixMap.Rd: GenotypeIterator, SeqVarIterator, BiocParallelParam,
bpparam, BiocParallel
assocTestAggregate.Rd: SeqVarIterator, SeqVarTools, mcols, GRanges,
GRangesList, BiocParallelParam, bpparam, BiocParallel,
GenotypeIterator, SeqVarWindowIterator
assocTestSingle.Rd: SeqVarIterator, SeqVarTools, GenotypeIterator,
GWASTools, BiocParallelParam, bpparam, BiocParallel,
GdsGenotypeReader, MatrixGenotypeReader, NcdfGenotypeReader
effectAllele.Rd: SeqVarIterator, SeqVarTools, GenotypeIterator,
GWASTools
fitNullModel.Rd: AnnotatedDataFrame, SeqVarData, Matrix
jointScoreTest.Rd: GenotypeData, SeqVarData
kingToMatrix.Rd: snpgdsIBDKING
pcair.Rd: snpgdsPCA, MatrixGenotypeReader, GenotypeData,
GdsGenotypeReader
pcairPartition.Rd: Matrix
pcrelate.Rd: SeqVarIterator, SeqVarTools, GenotypeIterator,
GWASTools, BiocParallelParam, bpparam, BiocParallel
Please provide package anchors for all Rd \link{} targets not in the
package itself and the base packages.
* checking for missing documentation entries ... OK
* checking for code/documentation mismatches ... OK
* checking Rd \usage sections ... OK
* checking Rd contents ... OK
* checking for unstated dependencies in examples ... OK
* checking contents of ‘data’ directory ... OK
* checking data for non-ASCII characters ... OK
* checking data for ASCII and uncompressed saves ... OK
* checking line endings in C/C++/Fortran sources/headers ... OK
* checking compiled code ... NOTE
Note: information on .o files is not available
* checking files in ‘vignettes’ ... OK
* checking examples ... OK
Examples with CPU (user + system) or elapsed time > 5s
user system elapsed
fitNullModel 14.420 0.542 14.837
pcrelate 11.641 0.140 11.654
varCompCI 11.110 0.287 11.282
* checking for unstated dependencies in ‘tests’ ... OK
* checking tests ...
Running ‘testthat.R’
OK
* checking for unstated dependencies in vignettes ... OK
* checking package vignettes ... OK
* checking re-building of vignette outputs ... OK
* checking PDF version of manual ... OK
* DONE
Status: 4 NOTEs
See
‘/home/biocbuild/bbs-3.21-bioc/meat/GENESIS.Rcheck/00check.log’
for details.
GENESIS.Rcheck/00install.out
############################################################################## ############################################################################## ### ### Running command: ### ### /home/biocbuild/bbs-3.21-bioc/R/bin/R CMD INSTALL GENESIS ### ############################################################################## ############################################################################## * installing to library ‘/home/biocbuild/bbs-3.21-bioc/R/site-library’ * installing *source* package ‘GENESIS’ ... ** this is package ‘GENESIS’ version ‘2.38.0’ ** using staged installation ** libs using C compiler: ‘gcc (Ubuntu 13.3.0-6ubuntu2~24.04) 13.3.0’ gcc -std=gnu2x -I"/home/biocbuild/bbs-3.21-bioc/R/include" -DNDEBUG -I/usr/local/include -fpic -g -O2 -Wall -Werror=format-security -c fht.c -o fht.o gcc -std=gnu2x -shared -L/home/biocbuild/bbs-3.21-bioc/R/lib -L/usr/local/lib -o GENESIS.so fht.o -L/home/biocbuild/bbs-3.21-bioc/R/lib -lR installing to /home/biocbuild/bbs-3.21-bioc/R/site-library/00LOCK-GENESIS/00new/GENESIS/libs ** R ** data ** inst ** byte-compile and prepare package for lazy loading ** help *** installing help indices ** building package indices ** installing vignettes ** testing if installed package can be loaded from temporary location ** checking absolute paths in shared objects and dynamic libraries ** testing if installed package can be loaded from final location ** testing if installed package keeps a record of temporary installation path * DONE (GENESIS)
GENESIS.Rcheck/tests/testthat.Rout
R version 4.5.1 (2025-06-13) -- "Great Square Root"
Copyright (C) 2025 The R Foundation for Statistical Computing
Platform: x86_64-pc-linux-gnu
R is free software and comes with ABSOLUTELY NO WARRANTY.
You are welcome to redistribute it under certain conditions.
Type 'license()' or 'licence()' for distribution details.
R is a collaborative project with many contributors.
Type 'contributors()' for more information and
'citation()' on how to cite R or R packages in publications.
Type 'demo()' for some demos, 'help()' for on-line help, or
'help.start()' for an HTML browser interface to help.
Type 'q()' to quit R.
> library(testthat)
> library(GENESIS)
>
> test_check("GENESIS")
# of selected variants: 10
[ FAIL 0 | WARN 4 | SKIP 0 | PASS 703 ]
[ FAIL 0 | WARN 4 | SKIP 0 | PASS 703 ]
>
> proc.time()
user system elapsed
118.425 30.521 129.409
GENESIS.Rcheck/GENESIS-Ex.timings
| name | user | system | elapsed | |
| admixMap | 1.550 | 0.108 | 1.659 | |
| assocTestAggregate | 2.807 | 0.141 | 2.949 | |
| assocTestSingle | 2.257 | 0.144 | 2.397 | |
| computeVSIF | 0.057 | 0.003 | 0.061 | |
| effectAllele | 2.808 | 0.153 | 2.909 | |
| fitNullModel | 14.420 | 0.542 | 14.837 | |
| jointScoreTest | 0.078 | 0.003 | 0.081 | |
| kin2gds | 0.514 | 0.008 | 0.507 | |
| kingToMatrix | 0.420 | 0.010 | 0.383 | |
| pcair | 0.300 | 0.015 | 0.315 | |
| pcairPartition | 0.027 | 0.000 | 0.027 | |
| pcrelate | 11.641 | 0.140 | 11.654 | |
| plot.pcair | 0.286 | 0.010 | 0.297 | |
| print.pcair | 0.265 | 0.011 | 0.276 | |
| varCompCI | 11.110 | 0.287 | 11.282 | |