| Back to Multiple platform build/check report for BioC 3.21: simplified long |
|
This page was generated on 2025-10-16 11:41 -0400 (Thu, 16 Oct 2025).
| Hostname | OS | Arch (*) | R version | Installed pkgs |
|---|---|---|---|---|
| nebbiolo1 | Linux (Ubuntu 24.04.3 LTS) | x86_64 | 4.5.1 (2025-06-13) -- "Great Square Root" | 4833 |
| merida1 | macOS 12.7.6 Monterey | x86_64 | 4.5.1 RC (2025-06-05 r88288) -- "Great Square Root" | 4614 |
| kjohnson1 | macOS 13.7.5 Ventura | arm64 | 4.5.1 Patched (2025-06-14 r88325) -- "Great Square Root" | 4555 |
| kunpeng2 | Linux (openEuler 24.03 LTS) | aarch64 | R Under development (unstable) (2025-02-19 r87757) -- "Unsuffered Consequences" | 4586 |
| Click on any hostname to see more info about the system (e.g. compilers) (*) as reported by 'uname -p', except on Windows and Mac OS X | ||||
| Package 821/2341 | Hostname | OS / Arch | INSTALL | BUILD | CHECK | BUILD BIN | ||||||||
| GENESIS 2.38.0 (landing page) Stephanie M. Gogarten
| nebbiolo1 | Linux (Ubuntu 24.04.3 LTS) / x86_64 | OK | OK | OK | |||||||||
| merida1 | macOS 12.7.6 Monterey / x86_64 | OK | OK | OK | OK | |||||||||
| kjohnson1 | macOS 13.7.5 Ventura / arm64 | OK | OK | OK | OK | |||||||||
| kunpeng2 | Linux (openEuler 24.03 LTS) / aarch64 | OK | OK | OK | ||||||||||
|
To the developers/maintainers of the GENESIS package: - Allow up to 24 hours (and sometimes 48 hours) for your latest push to git@git.bioconductor.org:packages/GENESIS.git to reflect on this report. See Troubleshooting Build Report for more information. - Use the following Renviron settings to reproduce errors and warnings. - If 'R CMD check' started to fail recently on the Linux builder(s) over a missing dependency, add the missing dependency to 'Suggests:' in your DESCRIPTION file. See Renviron.bioc for more information. - See Martin Grigorov's blog post for how to debug Linux ARM64 related issues on a x86_64 host. |
| Package: GENESIS |
| Version: 2.38.0 |
| Command: /home/biocbuild/R/R/bin/R CMD check --install=check:GENESIS.install-out.txt --library=/home/biocbuild/R/R/site-library --no-vignettes --timings GENESIS_2.38.0.tar.gz |
| StartedAt: 2025-10-14 09:26:25 -0000 (Tue, 14 Oct 2025) |
| EndedAt: 2025-10-14 09:35:51 -0000 (Tue, 14 Oct 2025) |
| EllapsedTime: 565.3 seconds |
| RetCode: 0 |
| Status: OK |
| CheckDir: GENESIS.Rcheck |
| Warnings: 0 |
##############################################################################
##############################################################################
###
### Running command:
###
### /home/biocbuild/R/R/bin/R CMD check --install=check:GENESIS.install-out.txt --library=/home/biocbuild/R/R/site-library --no-vignettes --timings GENESIS_2.38.0.tar.gz
###
##############################################################################
##############################################################################
* using log directory ‘/home/biocbuild/bbs-3.21-bioc/meat/GENESIS.Rcheck’
* using R Under development (unstable) (2025-02-19 r87757)
* using platform: aarch64-unknown-linux-gnu
* R was compiled by
aarch64-unknown-linux-gnu-gcc (GCC) 14.2.0
GNU Fortran (GCC) 14.2.0
* running under: openEuler 24.03 (LTS-SP1)
* using session charset: UTF-8
* using option ‘--no-vignettes’
* checking for file ‘GENESIS/DESCRIPTION’ ... OK
* checking extension type ... Package
* this is package ‘GENESIS’ version ‘2.38.0’
* checking package namespace information ... OK
* checking package dependencies ... OK
* checking if this is a source package ... OK
* checking if there is a namespace ... OK
* checking for hidden files and directories ... OK
* checking for portable file names ... OK
* checking for sufficient/correct file permissions ... OK
* checking whether package ‘GENESIS’ can be installed ... OK
* used C compiler: ‘aarch64-unknown-linux-gnu-gcc (GCC) 14.2.0’
* checking installed package size ... OK
* checking package directory ... OK
* checking ‘build’ directory ... OK
* checking DESCRIPTION meta-information ... OK
* checking top-level files ... OK
* checking for left-over files ... OK
* checking index information ... OK
* checking package subdirectories ... OK
* checking code files for non-ASCII characters ... OK
* checking R files for syntax errors ... OK
* checking whether the package can be loaded ... OK
* checking whether the package can be loaded with stated dependencies ... OK
* checking whether the package can be unloaded cleanly ... OK
* checking whether the namespace can be loaded with stated dependencies ... OK
* checking whether the namespace can be unloaded cleanly ... OK
* checking loading without being on the library search path ... OK
* checking dependencies in R code ... NOTE
Unexported object imported by a ':::' call: ‘survey:::saddle’
See the note in ?`:::` about the use of this operator.
* checking S3 generic/method consistency ... OK
* checking replacement functions ... OK
* checking foreign function calls ... OK
* checking R code for possible problems ... OK
* checking Rd files ... NOTE
checkRd: (-1) sample_annotation_1KG.Rd:14: Lost braces in \itemize; meant \describe ?
checkRd: (-1) sample_annotation_1KG.Rd:15: Lost braces in \itemize; meant \describe ?
checkRd: (-1) sample_annotation_1KG.Rd:16: Lost braces in \itemize; meant \describe ?
* checking Rd metadata ... OK
* checking Rd cross-references ... NOTE
Found the following Rd file(s) with Rd \link{} targets missing package
anchors:
admixMap.Rd: GenotypeIterator, SeqVarIterator, BiocParallelParam,
bpparam, BiocParallel
assocTestAggregate.Rd: SeqVarIterator, SeqVarTools, mcols, GRanges,
GRangesList, BiocParallelParam, bpparam, BiocParallel,
GenotypeIterator, SeqVarWindowIterator
assocTestSingle.Rd: SeqVarIterator, SeqVarTools, GenotypeIterator,
GWASTools, BiocParallelParam, bpparam, BiocParallel,
GdsGenotypeReader, MatrixGenotypeReader, NcdfGenotypeReader
effectAllele.Rd: SeqVarIterator, SeqVarTools, GenotypeIterator,
GWASTools
fitNullModel.Rd: AnnotatedDataFrame, SeqVarData, Matrix
jointScoreTest.Rd: GenotypeData, SeqVarData
kingToMatrix.Rd: snpgdsIBDKING
pcair.Rd: snpgdsPCA, MatrixGenotypeReader, GenotypeData,
GdsGenotypeReader
pcairPartition.Rd: Matrix
pcrelate.Rd: SeqVarIterator, SeqVarTools, GenotypeIterator,
GWASTools, BiocParallelParam, bpparam, BiocParallel
Please provide package anchors for all Rd \link{} targets not in the
package itself and the base packages.
* checking for missing documentation entries ... OK
* checking for code/documentation mismatches ... OK
* checking Rd \usage sections ... OK
* checking Rd contents ... OK
* checking for unstated dependencies in examples ... OK
* checking contents of ‘data’ directory ... OK
* checking data for non-ASCII characters ... OK
* checking data for ASCII and uncompressed saves ... OK
* checking line endings in C/C++/Fortran sources/headers ... OK
* checking compiled code ... NOTE
Note: information on .o files is not available
* checking files in ‘vignettes’ ... OK
* checking examples ... OK
Examples with CPU (user + system) or elapsed time > 5s
user system elapsed
fitNullModel 41.944 0.686 42.762
pcrelate 39.821 0.395 40.313
varCompCI 39.411 0.249 39.735
* checking for unstated dependencies in ‘tests’ ... OK
* checking tests ...
Running ‘testthat.R’
OK
* checking for unstated dependencies in vignettes ... OK
* checking package vignettes ... OK
* checking running R code from vignettes ... SKIPPED
* checking re-building of vignette outputs ... SKIPPED
* checking PDF version of manual ... OK
* DONE
Status: 4 NOTEs
See
‘/home/biocbuild/bbs-3.21-bioc/meat/GENESIS.Rcheck/00check.log’
for details.
GENESIS.Rcheck/00install.out
############################################################################## ############################################################################## ### ### Running command: ### ### /home/biocbuild/R/R/bin/R CMD INSTALL GENESIS ### ############################################################################## ############################################################################## * installing to library ‘/home/biocbuild/R/R-devel_2025-02-19/site-library’ * installing *source* package ‘GENESIS’ ... ** this is package ‘GENESIS’ version ‘2.38.0’ ** using staged installation ** libs using C compiler: ‘aarch64-unknown-linux-gnu-gcc (GCC) 14.2.0’ /opt/ohpc/pub/compiler/gcc/14.2.0/bin/aarch64-unknown-linux-gnu-gcc -std=gnu23 -I"/home/biocbuild/R/R/include" -DNDEBUG -I/usr/local/include -fPIC -g -O2 -Wall -Werror=format-security -c fht.c -o fht.o /opt/ohpc/pub/compiler/gcc/14.2.0/bin/aarch64-unknown-linux-gnu-gcc -std=gnu23 -shared -L/home/biocbuild/R/R/lib -L/usr/local/lib -o GENESIS.so fht.o -L/home/biocbuild/R/R/lib -lR installing to /home/biocbuild/R/R-devel_2025-02-19/site-library/00LOCK-GENESIS/00new/GENESIS/libs ** R ** data ** inst ** byte-compile and prepare package for lazy loading ** help *** installing help indices ** building package indices ** installing vignettes ** testing if installed package can be loaded from temporary location ** checking absolute paths in shared objects and dynamic libraries ** testing if installed package can be loaded from final location ** testing if installed package keeps a record of temporary installation path * DONE (GENESIS)
GENESIS.Rcheck/tests/testthat.Rout
R Under development (unstable) (2025-02-19 r87757) -- "Unsuffered Consequences"
Copyright (C) 2025 The R Foundation for Statistical Computing
Platform: aarch64-unknown-linux-gnu
R is free software and comes with ABSOLUTELY NO WARRANTY.
You are welcome to redistribute it under certain conditions.
Type 'license()' or 'licence()' for distribution details.
R is a collaborative project with many contributors.
Type 'contributors()' for more information and
'citation()' on how to cite R or R packages in publications.
Type 'demo()' for some demos, 'help()' for on-line help, or
'help.start()' for an HTML browser interface to help.
Type 'q()' to quit R.
> library(testthat)
> library(GENESIS)
>
> test_check("GENESIS")
# of selected variants: 10
[ FAIL 0 | WARN 4 | SKIP 0 | PASS 703 ]
[ FAIL 0 | WARN 4 | SKIP 0 | PASS 703 ]
>
> proc.time()
user system elapsed
192.723 32.836 206.302
GENESIS.Rcheck/GENESIS-Ex.timings
| name | user | system | elapsed | |
| admixMap | 2.150 | 0.136 | 2.301 | |
| assocTestAggregate | 4.114 | 0.187 | 4.322 | |
| assocTestSingle | 4.541 | 0.184 | 4.754 | |
| computeVSIF | 0.095 | 0.006 | 0.101 | |
| effectAllele | 3.386 | 0.156 | 3.523 | |
| fitNullModel | 41.944 | 0.686 | 42.762 | |
| jointScoreTest | 0.099 | 0.000 | 0.100 | |
| kin2gds | 0.741 | 0.004 | 0.761 | |
| kingToMatrix | 0.563 | 0.008 | 0.566 | |
| pcair | 1.835 | 0.012 | 1.853 | |
| pcairPartition | 0.048 | 0.000 | 0.048 | |
| pcrelate | 39.821 | 0.395 | 40.313 | |
| plot.pcair | 1.751 | 0.020 | 1.776 | |
| print.pcair | 1.775 | 0.009 | 1.788 | |
| varCompCI | 39.411 | 0.249 | 39.735 | |