| Back to Multiple platform build/check report for BioC 3.21: simplified long |
|
This page was generated on 2025-10-16 11:39 -0400 (Thu, 16 Oct 2025).
| Hostname | OS | Arch (*) | R version | Installed pkgs |
|---|---|---|---|---|
| nebbiolo1 | Linux (Ubuntu 24.04.3 LTS) | x86_64 | 4.5.1 (2025-06-13) -- "Great Square Root" | 4833 |
| merida1 | macOS 12.7.6 Monterey | x86_64 | 4.5.1 RC (2025-06-05 r88288) -- "Great Square Root" | 4614 |
| kjohnson1 | macOS 13.7.5 Ventura | arm64 | 4.5.1 Patched (2025-06-14 r88325) -- "Great Square Root" | 4555 |
| kunpeng2 | Linux (openEuler 24.03 LTS) | aarch64 | R Under development (unstable) (2025-02-19 r87757) -- "Unsuffered Consequences" | 4586 |
| Click on any hostname to see more info about the system (e.g. compilers) (*) as reported by 'uname -p', except on Windows and Mac OS X | ||||
| Package 566/2341 | Hostname | OS / Arch | INSTALL | BUILD | CHECK | BUILD BIN | ||||||||
| DESeq2 1.48.2 (landing page) Michael Love
| nebbiolo1 | Linux (Ubuntu 24.04.3 LTS) / x86_64 | OK | OK | WARNINGS | |||||||||
| merida1 | macOS 12.7.6 Monterey / x86_64 | OK | OK | WARNINGS | OK | |||||||||
| kjohnson1 | macOS 13.7.5 Ventura / arm64 | OK | OK | WARNINGS | OK | |||||||||
| kunpeng2 | Linux (openEuler 24.03 LTS) / aarch64 | OK | OK | OK | ||||||||||
|
To the developers/maintainers of the DESeq2 package: - Allow up to 24 hours (and sometimes 48 hours) for your latest push to git@git.bioconductor.org:packages/DESeq2.git to reflect on this report. See Troubleshooting Build Report for more information. - Use the following Renviron settings to reproduce errors and warnings. - If 'R CMD check' started to fail recently on the Linux builder(s) over a missing dependency, add the missing dependency to 'Suggests:' in your DESCRIPTION file. See Renviron.bioc for more information. |
| Package: DESeq2 |
| Version: 1.48.2 |
| Command: rm -rf DESeq2.buildbin-libdir && mkdir DESeq2.buildbin-libdir && /Users/biocbuild/BBS/utils/build-universal.sh DESeq2_1.48.2.tar.gz /Library/Frameworks/R.framework/Resources/bin/R DESeq2.buildbin-libdir |
| StartedAt: 2025-10-14 13:15:30 -0400 (Tue, 14 Oct 2025) |
| EndedAt: 2025-10-14 13:18:30 -0400 (Tue, 14 Oct 2025) |
| EllapsedTime: 179.7 seconds |
| RetCode: 0 |
| Status: OK |
| PackageFile: DESeq2_1.48.2.tgz |
| PackageFileSize: 4.089 MiB |
##############################################################################
##############################################################################
###
### Running command:
###
### rm -rf DESeq2.buildbin-libdir && mkdir DESeq2.buildbin-libdir && /Users/biocbuild/BBS/utils/build-universal.sh DESeq2_1.48.2.tar.gz /Library/Frameworks/R.framework/Resources/bin/R DESeq2.buildbin-libdir
###
##############################################################################
##############################################################################
>>>>>>>
>>>>>>> INSTALLATION WITH 'R CMD INSTALL --preclean --no-multiarch --library=DESeq2.buildbin-libdir DESeq2_1.48.2.tar.gz'
>>>>>>>
* installing *source* package ‘DESeq2’ ...
** this is package ‘DESeq2’ version ‘1.48.2’
** using staged installation
** libs
using C++ compiler: ‘Apple clang version 14.0.0 (clang-1400.0.29.202)’
using SDK: ‘MacOSX11.3.sdk’
clang++ -arch x86_64 -std=gnu++17 -I"/Library/Frameworks/R.framework/Resources/include" -DNDEBUG -I'/Library/Frameworks/R.framework/Versions/4.5-x86_64/Resources/library/Rcpp/include' -I'/Library/Frameworks/R.framework/Versions/4.5-x86_64/Resources/library/RcppArmadillo/include' -I/opt/R/x86_64/include -fPIC -falign-functions=64 -Wall -g -O2 -c DESeq2.cpp -o DESeq2.o
DESeq2.cpp:501:16: warning: 'max' is deprecated: use .index_max() instead [-Wdeprecated-declarations]
logpostvec.max(idxmax);
^
/Library/Frameworks/R.framework/Versions/4.5-x86_64/Resources/library/RcppArmadillo/include/current/armadillo_bits/Mat_bones.hpp:545:5: note: 'max' has been explicitly marked deprecated here
[[deprecated("use .index_max() instead")]] inline eT max(uword& index_of_max_val) const;
^
DESeq2.cpp:508:16: warning: 'max' is deprecated: use .index_max() instead [-Wdeprecated-declarations]
logpostvec.max(idxmax);
^
/Library/Frameworks/R.framework/Versions/4.5-x86_64/Resources/library/RcppArmadillo/include/current/armadillo_bits/Mat_bones.hpp:545:5: note: 'max' has been explicitly marked deprecated here
[[deprecated("use .index_max() instead")]] inline eT max(uword& index_of_max_val) const;
^
2 warnings generated.
clang++ -arch x86_64 -std=gnu++17 -I"/Library/Frameworks/R.framework/Resources/include" -DNDEBUG -I'/Library/Frameworks/R.framework/Versions/4.5-x86_64/Resources/library/Rcpp/include' -I'/Library/Frameworks/R.framework/Versions/4.5-x86_64/Resources/library/RcppArmadillo/include' -I/opt/R/x86_64/include -fPIC -falign-functions=64 -Wall -g -O2 -c RcppExports.cpp -o RcppExports.o
clang++ -arch x86_64 -std=gnu++17 -dynamiclib -Wl,-headerpad_max_install_names -undefined dynamic_lookup -L/Library/Frameworks/R.framework/Resources/lib -L/opt/R/x86_64/lib -o DESeq2.so DESeq2.o RcppExports.o -L/Library/Frameworks/R.framework/Resources/lib -lRlapack -L/Library/Frameworks/R.framework/Resources/lib -lRblas -L/opt/gfortran/lib/gcc/x86_64-apple-darwin20.0/14.2.0 -L/opt/gfortran/lib -lemutls_w -lheapt_w -lgfortran -lquadmath -F/Library/Frameworks/R.framework/.. -framework R
installing to /Users/biocbuild/bbs-3.21-bioc/meat/DESeq2.buildbin-libdir/00LOCK-DESeq2/00new/DESeq2/libs
** R
** inst
** byte-compile and prepare package for lazy loading
** help
*** installing help indices
** building package indices
** installing vignettes
** testing if installed package can be loaded from temporary location
** checking absolute paths in shared objects and dynamic libraries
** testing if installed package can be loaded from final location
** testing if installed package keeps a record of temporary installation path
* DONE (DESeq2)
>>>>>>>
>>>>>>> FIXING PATHS TO DYNAMIC LIBRARIES FOR DESeq2.buildbin-libdir/DESeq2/libs/DESeq2.so
>>>>>>>
>>>>>>> Paths before fix:
DESeq2.buildbin-libdir/DESeq2/libs/DESeq2.so:
DESeq2.so (compatibility version 0.0.0, current version 0.0.0)
/Library/Frameworks/R.framework/Versions/4.5-x86_64/Resources/lib/libRlapack.dylib (compatibility version 4.5.0, current version 4.5.1)
/Library/Frameworks/R.framework/Versions/4.5-x86_64/Resources/lib/libRblas.dylib (compatibility version 0.0.0, current version 0.0.0)
/opt/gfortran/lib/gcc/x86_64-apple-darwin20.0/14.2.0/libgfortran.5.dylib (compatibility version 6.0.0, current version 6.0.0)
/opt/gfortran/lib/gcc/x86_64-apple-darwin20.0/14.2.0/libquadmath.0.dylib (compatibility version 1.0.0, current version 1.0.0)
/Library/Frameworks/R.framework/Versions/4.5-x86_64/Resources/lib/libR.dylib (compatibility version 4.5.0, current version 4.5.1)
/usr/lib/libc++.1.dylib (compatibility version 1.0.0, current version 905.6.0)
/usr/lib/libSystem.B.dylib (compatibility version 1.0.0, current version 1292.100.5)
>>>>>>> Fix with install_name_tool:
install_name_tool -change "/usr/local/lib/libgcc_s.1.1.dylib" "/Library/Frameworks/R.framework/Versions/4.5-x86_64/Resources/lib/libgcc_s.1.1.dylib" "DESeq2.buildbin-libdir/DESeq2/libs/DESeq2.so"
install_name_tool -change "/usr/local/lib/libgfortran.5.dylib" "/Library/Frameworks/R.framework/Versions/4.5-x86_64/Resources/lib/libgfortran.5.dylib" "DESeq2.buildbin-libdir/DESeq2/libs/DESeq2.so"
install_name_tool -change "/usr/local/lib/libquadmath.0.dylib" "/Library/Frameworks/R.framework/Versions/4.5-x86_64/Resources/lib/libquadmath.0.dylib" "DESeq2.buildbin-libdir/DESeq2/libs/DESeq2.so"
install_name_tool -change "/opt/gfortran/lib/gcc/x86_64-apple-darwin20.0/14.2.0/libgfortran.5.dylib" "/Library/Frameworks/R.framework/Versions/4.5-x86_64/Resources/lib/libgfortran.5.dylib" "DESeq2.buildbin-libdir/DESeq2/libs/DESeq2.so"
install_name_tool -change "/opt/gfortran/lib/gcc/x86_64-apple-darwin20.0/14.2.0/libquadmath.0.dylib" "/Library/Frameworks/R.framework/Versions/4.5-x86_64/Resources/lib/libquadmath.0.dylib" "DESeq2.buildbin-libdir/DESeq2/libs/DESeq2.so"
>>>>>>> Paths after fix:
DESeq2.buildbin-libdir/DESeq2/libs/DESeq2.so:
DESeq2.so (compatibility version 0.0.0, current version 0.0.0)
/Library/Frameworks/R.framework/Versions/4.5-x86_64/Resources/lib/libRlapack.dylib (compatibility version 4.5.0, current version 4.5.1)
/Library/Frameworks/R.framework/Versions/4.5-x86_64/Resources/lib/libRblas.dylib (compatibility version 0.0.0, current version 0.0.0)
/Library/Frameworks/R.framework/Versions/4.5-x86_64/Resources/lib/libgfortran.5.dylib (compatibility version 6.0.0, current version 6.0.0)
/Library/Frameworks/R.framework/Versions/4.5-x86_64/Resources/lib/libquadmath.0.dylib (compatibility version 1.0.0, current version 1.0.0)
/Library/Frameworks/R.framework/Versions/4.5-x86_64/Resources/lib/libR.dylib (compatibility version 4.5.0, current version 4.5.1)
/usr/lib/libc++.1.dylib (compatibility version 1.0.0, current version 905.6.0)
/usr/lib/libSystem.B.dylib (compatibility version 1.0.0, current version 1292.100.5)