Back to Multiple platform build/check report for BioC 3.21:   simplified   long
[A]BCDEFGHIJKLMNOPQRSTUVWXYZ

This page was generated on 2025-10-02 11:40 -0400 (Thu, 02 Oct 2025).

HostnameOSArch (*)R versionInstalled pkgs
nebbiolo1Linux (Ubuntu 24.04.3 LTS)x86_644.5.1 (2025-06-13) -- "Great Square Root" 4831
merida1macOS 12.7.5 Montereyx86_644.5.1 RC (2025-06-05 r88288) -- "Great Square Root" 4612
kjohnson1macOS 13.6.6 Venturaarm644.5.1 Patched (2025-06-14 r88325) -- "Great Square Root" 4553
kunpeng2Linux (openEuler 24.03 LTS)aarch64R Under development (unstable) (2025-02-19 r87757) -- "Unsuffered Consequences" 4584
Click on any hostname to see more info about the system (e.g. compilers)      (*) as reported by 'uname -p', except on Windows and Mac OS X

Package 59/2341HostnameOS / ArchINSTALLBUILDCHECKBUILD BIN
AlpsNMR 4.10.1  (landing page)
Sergio Oller Moreno
Snapshot Date: 2025-09-29 13:40 -0400 (Mon, 29 Sep 2025)
git_url: https://git.bioconductor.org/packages/AlpsNMR
git_branch: RELEASE_3_21
git_last_commit: ba4d4d4
git_last_commit_date: 2025-09-24 17:42:22 -0400 (Wed, 24 Sep 2025)
nebbiolo1Linux (Ubuntu 24.04.3 LTS) / x86_64  OK    OK    OK  UNNEEDED, same version is already published
merida1macOS 12.7.5 Monterey / x86_64  OK    OK    OK    OK  UNNEEDED, same version is already published
kjohnson1macOS 13.6.6 Ventura / arm64  OK    OK    OK    OK  UNNEEDED, same version is already published
kunpeng2Linux (openEuler 24.03 LTS) / aarch64  OK    ERROR  skipped


CHECK results for AlpsNMR on kjohnson1

To the developers/maintainers of the AlpsNMR package:
- Allow up to 24 hours (and sometimes 48 hours) for your latest push to git@git.bioconductor.org:packages/AlpsNMR.git to reflect on this report. See Troubleshooting Build Report for more information.
- Use the following Renviron settings to reproduce errors and warnings.
- If 'R CMD check' started to fail recently on the Linux builder(s) over a missing dependency, add the missing dependency to 'Suggests:' in your DESCRIPTION file. See Renviron.bioc for more information.

raw results


Summary

Package: AlpsNMR
Version: 4.10.1
Command: /Library/Frameworks/R.framework/Resources/bin/R CMD check --install=check:AlpsNMR.install-out.txt --library=/Library/Frameworks/R.framework/Resources/library --no-vignettes --timings AlpsNMR_4.10.1.tar.gz
StartedAt: 2025-09-30 12:30:05 -0400 (Tue, 30 Sep 2025)
EndedAt: 2025-09-30 12:33:47 -0400 (Tue, 30 Sep 2025)
EllapsedTime: 222.5 seconds
RetCode: 0
Status:   OK  
CheckDir: AlpsNMR.Rcheck
Warnings: 0

Command output

##############################################################################
##############################################################################
###
### Running command:
###
###   /Library/Frameworks/R.framework/Resources/bin/R CMD check --install=check:AlpsNMR.install-out.txt --library=/Library/Frameworks/R.framework/Resources/library --no-vignettes --timings AlpsNMR_4.10.1.tar.gz
###
##############################################################################
##############################################################################


* using log directory ‘/Users/biocbuild/bbs-3.21-bioc/meat/AlpsNMR.Rcheck’
* using R version 4.5.1 Patched (2025-06-14 r88325)
* using platform: aarch64-apple-darwin20
* R was compiled by
    Apple clang version 16.0.0 (clang-1600.0.26.6)
    GNU Fortran (GCC) 14.2.0
* running under: macOS Ventura 13.7.5
* using session charset: UTF-8
* using option ‘--no-vignettes’
* checking for file ‘AlpsNMR/DESCRIPTION’ ... OK
* checking extension type ... Package
* this is package ‘AlpsNMR’ version ‘4.10.1’
* package encoding: UTF-8
* checking package namespace information ... OK
* checking package dependencies ... INFO
Imports includes 26 non-default packages.
Importing from so many packages makes the package vulnerable to any of
them becoming unavailable.  Move as many as possible to Suggests and
use conditionally.
* checking if this is a source package ... OK
* checking if there is a namespace ... OK
* checking for hidden files and directories ... OK
* checking for portable file names ... OK
* checking for sufficient/correct file permissions ... OK
* checking whether package ‘AlpsNMR’ can be installed ... OK
* checking installed package size ... OK
* checking package directory ... OK
* checking ‘build’ directory ... OK
* checking DESCRIPTION meta-information ... OK
* checking top-level files ... OK
* checking for left-over files ... OK
* checking index information ... OK
* checking package subdirectories ... OK
* checking code files for non-ASCII characters ... OK
* checking R files for syntax errors ... OK
* checking whether the package can be loaded ... OK
* checking whether the package can be loaded with stated dependencies ... OK
* checking whether the package can be unloaded cleanly ... OK
* checking whether the namespace can be loaded with stated dependencies ... OK
* checking whether the namespace can be unloaded cleanly ... OK
* checking dependencies in R code ... OK
* checking S3 generic/method consistency ... OK
* checking replacement functions ... OK
* checking foreign function calls ... OK
* checking R code for possible problems ... OK
* checking Rd files ... OK
* checking Rd metadata ... OK
* checking Rd cross-references ... NOTE
Non-topic package-anchored link(s) in Rd file 'reexports.Rd':
  ‘[magrittr:pipe]{%>%}’

See section 'Cross-references' in the 'Writing R Extensions' manual.

Found the following Rd file(s) with Rd \link{} targets missing package
anchors:
  filter.nmr_dataset_family.Rd: dplyr
Please provide package anchors for all Rd \link{} targets not in the
package itself and the base packages.
* checking for missing documentation entries ... OK
* checking for code/documentation mismatches ... OK
* checking Rd \usage sections ... OK
* checking Rd contents ... OK
* checking for unstated dependencies in examples ... OK
* checking contents of ‘data’ directory ... OK
* checking data for non-ASCII characters ... OK
* checking data for ASCII and uncompressed saves ... OK
* checking sizes of PDF files under ‘inst/doc’ ... OK
* checking files in ‘vignettes’ ... OK
* checking examples ... OK
Examples with CPU (user + system) or elapsed time > 5s
                                     user system elapsed
Peak_detection                      9.313  2.870   9.131
bp_VIP_analysis                     5.959  4.329   5.744
permutation_test_plot               5.362  3.556   2.398
SummarizedExperiment_to_nmr_data_1r 7.895  0.921   8.147
nmr_pca_outliers_robust             4.758  0.861   5.396
* checking for unstated dependencies in ‘tests’ ... OK
* checking tests ...
  Running ‘testthat.R’
 OK
* checking for unstated dependencies in vignettes ... OK
* checking package vignettes ... OK
* checking running R code from vignettes ... SKIPPED
* checking re-building of vignette outputs ... SKIPPED
* checking PDF version of manual ... OK
* DONE

Status: 1 NOTE
See
  ‘/Users/biocbuild/bbs-3.21-bioc/meat/AlpsNMR.Rcheck/00check.log’
for details.


Installation output

AlpsNMR.Rcheck/00install.out

##############################################################################
##############################################################################
###
### Running command:
###
###   /Library/Frameworks/R.framework/Resources/bin/R CMD INSTALL AlpsNMR
###
##############################################################################
##############################################################################


* installing to library ‘/Library/Frameworks/R.framework/Versions/4.5-arm64/Resources/library’
* installing *source* package ‘AlpsNMR’ ...
** this is package ‘AlpsNMR’ version ‘4.10.1’
** using staged installation
** R
** data
** inst
** byte-compile and prepare package for lazy loading
** help
*** installing help indices
*** copying figures
** building package indices
** installing vignettes
** testing if installed package can be loaded from temporary location
** testing if installed package can be loaded from final location
** testing if installed package keeps a record of temporary installation path
* DONE (AlpsNMR)

Tests output

AlpsNMR.Rcheck/tests/testthat.Rout


R version 4.5.1 Patched (2025-06-14 r88325) -- "Great Square Root"
Copyright (C) 2025 The R Foundation for Statistical Computing
Platform: aarch64-apple-darwin20

R is free software and comes with ABSOLUTELY NO WARRANTY.
You are welcome to redistribute it under certain conditions.
Type 'license()' or 'licence()' for distribution details.

R is a collaborative project with many contributors.
Type 'contributors()' for more information and
'citation()' on how to cite R or R packages in publications.

Type 'demo()' for some demos, 'help()' for on-line help, or
'help.start()' for an HTML browser interface to help.
Type 'q()' to quit R.

> library(testthat)
> library(AlpsNMR)

Attaching package: 'AlpsNMR'

The following object is masked from 'package:stats':

    filter

> 
> test_check("AlpsNMR")
[ FAIL 0 | WARN 0 | SKIP 1 | PASS 93 ]

══ Skipped tests (1) ═══════════════════════════════════════════════════════════
• On Bioconductor (1): 'test_rDolphin.R:2:5'

[ FAIL 0 | WARN 0 | SKIP 1 | PASS 93 ]
> 
> proc.time()
   user  system elapsed 
 25.129   9.364  26.412 

Example timings

AlpsNMR.Rcheck/AlpsNMR-Ex.timings

nameusersystemelapsed
AlpsNMR-package2.2510.6802.339
HMDB_blood0.0080.0030.011
HMDB_cell0.0030.0020.005
HMDB_urine0.0050.0030.007
Parameters_blood0.0010.0020.004
Parameters_cell0.0010.0020.004
Parameters_urine0.0020.0020.003
Peak_detection9.3132.8709.131
Pipelines0.0010.0010.002
ROI_blood0.0030.0020.005
ROI_cell0.0020.0010.005
ROI_urine0.0030.0010.004
SummarizedExperiment_to_nmr_data_1r7.8950.9218.147
SummarizedExperiment_to_nmr_dataset_peak_table1.1930.7111.228
bp_VIP_analysis5.9594.3295.744
bp_kfold_VIP_analysis0.9671.1431.082
download_MTBLS2420.0000.0010.001
file_lister0.0720.0510.127
files_to_rDolphin0.0000.0010.001
filter.nmr_dataset_family0.8180.6170.877
format.nmr_dataset0.8371.0470.995
format.nmr_dataset_1D0.8270.9390.988
format.nmr_dataset_peak_table0.9621.1231.208
get_integration_with_metadata0.0300.0150.046
hmdb0.0510.0180.074
is.nmr_dataset0.8190.7800.831
is.nmr_dataset_1D0.8170.6610.820
is.nmr_dataset_peak_table0.9910.8221.026
load_and_save_functions0.7610.6840.768
models_stability_plot_bootstrap0.0020.0010.002
models_stability_plot_plsda0.4080.4710.474
new_nmr_dataset0.0010.0010.003
new_nmr_dataset_1D0.0010.0010.002
new_nmr_dataset_peak_table0.8690.5690.853
nmr_autophase0.2900.2770.560
nmr_baseline_estimation0.0100.0100.021
nmr_baseline_removal0.0260.0320.058
nmr_baseline_threshold0.0020.0000.002
nmr_baseline_threshold_plot0.3060.0690.381
nmr_batman0.0030.0010.004
nmr_batman_options000
nmr_build_peak_table0.0390.0070.046
nmr_data0.0510.0110.062
nmr_data_1r_to_SummarizedExperiment1.9471.0712.433
nmr_data_analysis0.4470.5700.573
nmr_dataset0.0010.0000.001
nmr_dataset_1D0.0010.0000.002
nmr_dataset_peak_table_to_SummarizedExperiment1.0490.6031.051
nmr_exclude_region0.0070.0020.010
nmr_export_data_1r0.8410.7390.861
nmr_get_peak_distances0.0080.0020.010
nmr_identify_regions_blood0.0150.0040.019
nmr_identify_regions_cell0.0090.0020.011
nmr_identify_regions_urine0.0160.0030.018
nmr_integrate_regions0.0080.0020.009
nmr_interpolate_1D1.5611.0871.471
nmr_meta_add2.0041.4252.074
nmr_meta_export0.6990.4180.596
nmr_meta_get0.8390.7320.784
nmr_meta_get_column0.7260.5690.651
nmr_meta_groups0.7920.7800.832
nmr_normalize0.3630.0770.443
nmr_pca_build_model2.0481.7852.323
nmr_pca_outliers1.0210.7561.014
nmr_pca_outliers_filter1.0380.7431.027
nmr_pca_outliers_plot000
nmr_pca_outliers_robust4.7580.8615.396
nmr_pca_plots0.5440.0260.596
nmr_peak_clustering0.0790.0020.083
nmr_ppm_resolution0.0100.0010.012
nmr_read_bruker_fid000
nmr_read_samples1.5101.6621.723
nmr_zip_bruker_samples0.3420.0550.470
peaklist_accept_peaks0.0040.0030.007
permutation_test_model1.6851.5012.356
permutation_test_plot5.3623.5562.398
plot.nmr_dataset_1D0.0020.0040.006
plot_bootstrap_multimodel0.0030.0040.006
plot_interactive0.8190.7510.952
plot_plsda_multimodel0.2740.5950.503
plot_plsda_samples0.1460.2720.418
plot_vip_scores0.0020.0030.005
plot_webgl0.0020.0030.004
plsda_auroc_vip_compare0.5690.7121.278
plsda_auroc_vip_method000
ppm_resolution0.0040.0020.007
print.nmr_dataset0.8901.0651.005
print.nmr_dataset_1D0.8930.9171.134
print.nmr_dataset_peak_table0.9831.1911.200
random_subsampling0.0030.0040.008
save_files_to_rDolphin000
save_profiling_output000
sub-.nmr_dataset0.8161.0530.953
sub-.nmr_dataset_1D0.6080.7000.762
sub-.nmr_dataset_peak_table0.9120.9741.123
tidy.nmr_dataset_1D0.9831.1411.240
to_ASICS1.9250.4562.407
to_ChemoSpec0.9530.5830.975
validate_nmr_dataset1.5791.3121.566
validate_nmr_dataset_family0.8180.6370.812
validate_nmr_dataset_peak_table0.0010.0010.002
zzz0.0000.0002.048