| Back to Multiple platform build/check report for BioC 3.22: simplified long |
|
This page was generated on 2025-11-07 12:00 -0500 (Fri, 07 Nov 2025).
| Hostname | OS | Arch (*) | R version | Installed pkgs |
|---|---|---|---|---|
| nebbiolo2 | Linux (Ubuntu 24.04.3 LTS) | x86_64 | 4.5.1 Patched (2025-08-23 r88802) -- "Great Square Root" | 4902 |
| kjohnson3 | macOS 13.7.7 Ventura | arm64 | 4.5.1 Patched (2025-09-10 r88807) -- "Great Square Root" | 4638 |
| Click on any hostname to see more info about the system (e.g. compilers) (*) as reported by 'uname -p', except on Windows and Mac OS X | ||||
| Package 59/2361 | Hostname | OS / Arch | INSTALL | BUILD | CHECK | BUILD BIN | ||||||||
| AlpsNMR 4.12.0 (landing page) Sergio Oller Moreno
| nebbiolo2 | Linux (Ubuntu 24.04.3 LTS) / x86_64 | OK | OK | OK | |||||||||
| kjohnson3 | macOS 13.7.7 Ventura / arm64 | OK | OK | OK | OK | |||||||||
|
To the developers/maintainers of the AlpsNMR package: - Allow up to 24 hours (and sometimes 48 hours) for your latest push to git@git.bioconductor.org:packages/AlpsNMR.git to reflect on this report. See Troubleshooting Build Report for more information. - Use the following Renviron settings to reproduce errors and warnings. - If 'R CMD check' started to fail recently on the Linux builder(s) over a missing dependency, add the missing dependency to 'Suggests:' in your DESCRIPTION file. See Renviron.bioc for more information. |
| Package: AlpsNMR |
| Version: 4.12.0 |
| Command: /home/biocbuild/bbs-3.22-bioc/R/bin/R CMD check --install=check:AlpsNMR.install-out.txt --library=/home/biocbuild/bbs-3.22-bioc/R/site-library --timings AlpsNMR_4.12.0.tar.gz |
| StartedAt: 2025-11-06 20:59:08 -0500 (Thu, 06 Nov 2025) |
| EndedAt: 2025-11-06 21:03:55 -0500 (Thu, 06 Nov 2025) |
| EllapsedTime: 287.2 seconds |
| RetCode: 0 |
| Status: OK |
| CheckDir: AlpsNMR.Rcheck |
| Warnings: 0 |
##############################################################################
##############################################################################
###
### Running command:
###
### /home/biocbuild/bbs-3.22-bioc/R/bin/R CMD check --install=check:AlpsNMR.install-out.txt --library=/home/biocbuild/bbs-3.22-bioc/R/site-library --timings AlpsNMR_4.12.0.tar.gz
###
##############################################################################
##############################################################################
* using log directory ‘/home/biocbuild/bbs-3.22-bioc/meat/AlpsNMR.Rcheck’
* using R version 4.5.1 Patched (2025-08-23 r88802)
* using platform: x86_64-pc-linux-gnu
* R was compiled by
gcc (Ubuntu 13.3.0-6ubuntu2~24.04) 13.3.0
GNU Fortran (Ubuntu 13.3.0-6ubuntu2~24.04) 13.3.0
* running under: Ubuntu 24.04.3 LTS
* using session charset: UTF-8
* checking for file ‘AlpsNMR/DESCRIPTION’ ... OK
* checking extension type ... Package
* this is package ‘AlpsNMR’ version ‘4.12.0’
* package encoding: UTF-8
* checking package namespace information ... OK
* checking package dependencies ... INFO
Imports includes 26 non-default packages.
Importing from so many packages makes the package vulnerable to any of
them becoming unavailable. Move as many as possible to Suggests and
use conditionally.
* checking if this is a source package ... OK
* checking if there is a namespace ... OK
* checking for hidden files and directories ... OK
* checking for portable file names ... OK
* checking for sufficient/correct file permissions ... OK
* checking whether package ‘AlpsNMR’ can be installed ... OK
* checking installed package size ... OK
* checking package directory ... OK
* checking ‘build’ directory ... OK
* checking DESCRIPTION meta-information ... OK
* checking top-level files ... OK
* checking for left-over files ... OK
* checking index information ... OK
* checking package subdirectories ... OK
* checking code files for non-ASCII characters ... OK
* checking R files for syntax errors ... OK
* checking whether the package can be loaded ... OK
* checking whether the package can be loaded with stated dependencies ... OK
* checking whether the package can be unloaded cleanly ... OK
* checking whether the namespace can be loaded with stated dependencies ... OK
* checking whether the namespace can be unloaded cleanly ... OK
* checking loading without being on the library search path ... OK
* checking dependencies in R code ... OK
* checking S3 generic/method consistency ... OK
* checking replacement functions ... OK
* checking foreign function calls ... OK
* checking R code for possible problems ... OK
* checking Rd files ... OK
* checking Rd metadata ... OK
* checking Rd cross-references ... NOTE
Non-topic package-anchored link(s) in Rd file 'reexports.Rd':
‘[magrittr:pipe]{%>%}’
See section 'Cross-references' in the 'Writing R Extensions' manual.
Found the following Rd file(s) with Rd \link{} targets missing package
anchors:
filter.nmr_dataset_family.Rd: dplyr
Please provide package anchors for all Rd \link{} targets not in the
package itself and the base packages.
* checking for missing documentation entries ... OK
* checking for code/documentation mismatches ... OK
* checking Rd \usage sections ... OK
* checking Rd contents ... OK
* checking for unstated dependencies in examples ... OK
* checking contents of ‘data’ directory ... OK
* checking data for non-ASCII characters ... OK
* checking data for ASCII and uncompressed saves ... OK
* checking files in ‘vignettes’ ... OK
* checking examples ... OK
Examples with CPU (user + system) or elapsed time > 5s
user system elapsed
Peak_detection 7.527 1.914 6.955
SummarizedExperiment_to_nmr_data_1r 6.497 0.912 6.762
nmr_pca_outliers_robust 4.659 0.914 4.945
permutation_test_plot 3.136 2.162 1.715
plot_interactive 3.330 1.692 0.629
* checking for unstated dependencies in ‘tests’ ... OK
* checking tests ...
Running ‘testthat.R’
OK
* checking for unstated dependencies in vignettes ... OK
* checking package vignettes ... OK
* checking re-building of vignette outputs ... OK
* checking PDF version of manual ... OK
* DONE
Status: 1 NOTE
See
‘/home/biocbuild/bbs-3.22-bioc/meat/AlpsNMR.Rcheck/00check.log’
for details.
AlpsNMR.Rcheck/00install.out
############################################################################## ############################################################################## ### ### Running command: ### ### /home/biocbuild/bbs-3.22-bioc/R/bin/R CMD INSTALL AlpsNMR ### ############################################################################## ############################################################################## * installing to library ‘/home/biocbuild/bbs-3.22-bioc/R/site-library’ * installing *source* package ‘AlpsNMR’ ... ** this is package ‘AlpsNMR’ version ‘4.12.0’ ** using staged installation ** R ** data ** inst ** byte-compile and prepare package for lazy loading ** help *** installing help indices *** copying figures ** building package indices ** installing vignettes ** testing if installed package can be loaded from temporary location ** testing if installed package can be loaded from final location ** testing if installed package keeps a record of temporary installation path * DONE (AlpsNMR)
AlpsNMR.Rcheck/tests/testthat.Rout
R version 4.5.1 Patched (2025-08-23 r88802) -- "Great Square Root"
Copyright (C) 2025 The R Foundation for Statistical Computing
Platform: x86_64-pc-linux-gnu
R is free software and comes with ABSOLUTELY NO WARRANTY.
You are welcome to redistribute it under certain conditions.
Type 'license()' or 'licence()' for distribution details.
R is a collaborative project with many contributors.
Type 'contributors()' for more information and
'citation()' on how to cite R or R packages in publications.
Type 'demo()' for some demos, 'help()' for on-line help, or
'help.start()' for an HTML browser interface to help.
Type 'q()' to quit R.
> library(testthat)
> library(AlpsNMR)
Attaching package: 'AlpsNMR'
The following object is masked from 'package:stats':
filter
>
> test_check("AlpsNMR")
[ FAIL 0 | WARN 0 | SKIP 1 | PASS 93 ]
══ Skipped tests (1) ═══════════════════════════════════════════════════════════
• On Bioconductor (1): 'test_rDolphin.R:2:5'
[ FAIL 0 | WARN 0 | SKIP 1 | PASS 93 ]
>
> proc.time()
user system elapsed
20.796 7.002 20.088
AlpsNMR.Rcheck/AlpsNMR-Ex.timings
| name | user | system | elapsed | |
| AlpsNMR-package | 1.830 | 0.348 | 1.653 | |
| HMDB_blood | 0.006 | 0.000 | 0.006 | |
| HMDB_cell | 0.002 | 0.000 | 0.002 | |
| HMDB_urine | 0.003 | 0.001 | 0.004 | |
| Parameters_blood | 0.001 | 0.000 | 0.001 | |
| Parameters_cell | 0.001 | 0.001 | 0.002 | |
| Parameters_urine | 0.002 | 0.000 | 0.002 | |
| Peak_detection | 7.527 | 1.914 | 6.955 | |
| Pipelines | 0.000 | 0.001 | 0.001 | |
| ROI_blood | 0.004 | 0.000 | 0.004 | |
| ROI_cell | 0.003 | 0.001 | 0.003 | |
| ROI_urine | 0.003 | 0.001 | 0.004 | |
| SummarizedExperiment_to_nmr_data_1r | 6.497 | 0.912 | 6.762 | |
| SummarizedExperiment_to_nmr_dataset_peak_table | 1.064 | 0.517 | 0.907 | |
| bp_VIP_analysis | 2.658 | 1.690 | 2.769 | |
| bp_kfold_VIP_analysis | 0.882 | 0.536 | 0.610 | |
| download_MTBLS242 | 0 | 0 | 0 | |
| file_lister | 0.062 | 0.008 | 0.071 | |
| files_to_rDolphin | 0.000 | 0.000 | 0.001 | |
| filter.nmr_dataset_family | 0.688 | 0.428 | 0.567 | |
| format.nmr_dataset | 0.752 | 0.532 | 0.550 | |
| format.nmr_dataset_1D | 0.785 | 0.597 | 0.622 | |
| format.nmr_dataset_peak_table | 0.856 | 0.616 | 0.736 | |
| get_integration_with_metadata | 0.031 | 0.006 | 0.036 | |
| hmdb | 0.053 | 0.005 | 0.058 | |
| is.nmr_dataset | 0.747 | 0.552 | 0.529 | |
| is.nmr_dataset_1D | 0.715 | 0.509 | 0.557 | |
| is.nmr_dataset_peak_table | 0.897 | 0.627 | 0.749 | |
| load_and_save_functions | 0.695 | 0.685 | 0.559 | |
| models_stability_plot_bootstrap | 0.002 | 0.000 | 0.001 | |
| models_stability_plot_plsda | 0.357 | 0.394 | 0.373 | |
| new_nmr_dataset | 0.000 | 0.002 | 0.002 | |
| new_nmr_dataset_1D | 0.001 | 0.000 | 0.001 | |
| new_nmr_dataset_peak_table | 0.910 | 0.680 | 0.776 | |
| nmr_autophase | 0.234 | 0.138 | 0.349 | |
| nmr_baseline_estimation | 0.009 | 0.002 | 0.010 | |
| nmr_baseline_removal | 0.003 | 0.002 | 0.005 | |
| nmr_baseline_threshold | 0.001 | 0.000 | 0.001 | |
| nmr_baseline_threshold_plot | 0.305 | 0.050 | 0.355 | |
| nmr_batman | 0.003 | 0.000 | 0.003 | |
| nmr_batman_options | 0.001 | 0.000 | 0.000 | |
| nmr_build_peak_table | 0.037 | 0.009 | 0.046 | |
| nmr_data | 0.052 | 0.023 | 0.074 | |
| nmr_data_1r_to_SummarizedExperiment | 1.074 | 0.680 | 0.941 | |
| nmr_data_analysis | 0.429 | 0.564 | 0.456 | |
| nmr_dataset | 0.001 | 0.000 | 0.001 | |
| nmr_dataset_1D | 0.001 | 0.000 | 0.001 | |
| nmr_dataset_peak_table_to_SummarizedExperiment | 1.023 | 0.729 | 0.910 | |
| nmr_exclude_region | 0.006 | 0.001 | 0.007 | |
| nmr_export_data_1r | 0.948 | 0.661 | 0.713 | |
| nmr_get_peak_distances | 0.009 | 0.003 | 0.011 | |
| nmr_identify_regions_blood | 0.015 | 0.007 | 0.021 | |
| nmr_identify_regions_cell | 0.012 | 0.004 | 0.015 | |
| nmr_identify_regions_urine | 0.016 | 0.002 | 0.017 | |
| nmr_integrate_regions | 0.006 | 0.002 | 0.008 | |
| nmr_interpolate_1D | 1.835 | 1.432 | 1.516 | |
| nmr_meta_add | 1.853 | 1.465 | 1.755 | |
| nmr_meta_export | 0.694 | 0.503 | 0.546 | |
| nmr_meta_get | 0.804 | 0.582 | 0.607 | |
| nmr_meta_get_column | 0.695 | 0.575 | 0.566 | |
| nmr_meta_groups | 0.630 | 0.495 | 0.490 | |
| nmr_normalize | 0.343 | 0.142 | 0.485 | |
| nmr_pca_build_model | 1.759 | 1.310 | 1.607 | |
| nmr_pca_outliers | 1.447 | 1.124 | 1.875 | |
| nmr_pca_outliers_filter | 0.821 | 0.544 | 0.699 | |
| nmr_pca_outliers_plot | 0 | 0 | 0 | |
| nmr_pca_outliers_robust | 4.659 | 0.914 | 4.945 | |
| nmr_pca_plots | 0.455 | 0.028 | 0.483 | |
| nmr_peak_clustering | 0.070 | 0.006 | 0.076 | |
| nmr_ppm_resolution | 0.008 | 0.000 | 0.008 | |
| nmr_read_bruker_fid | 0 | 0 | 0 | |
| nmr_read_samples | 1.428 | 1.170 | 1.175 | |
| nmr_zip_bruker_samples | 0.252 | 0.010 | 0.262 | |
| peaklist_accept_peaks | 0.002 | 0.001 | 0.003 | |
| permutation_test_model | 0.711 | 0.899 | 1.722 | |
| permutation_test_plot | 3.136 | 2.162 | 1.715 | |
| plot.nmr_dataset_1D | 0.001 | 0.001 | 0.001 | |
| plot_bootstrap_multimodel | 0.002 | 0.000 | 0.001 | |
| plot_interactive | 3.330 | 1.692 | 0.629 | |
| plot_plsda_multimodel | 0.214 | 0.464 | 0.361 | |
| plot_plsda_samples | 0.129 | 0.211 | 0.273 | |
| plot_vip_scores | 0.002 | 0.000 | 0.002 | |
| plot_webgl | 0.002 | 0.000 | 0.002 | |
| plsda_auroc_vip_compare | 0.548 | 0.461 | 0.803 | |
| plsda_auroc_vip_method | 0 | 0 | 0 | |
| ppm_resolution | 0.004 | 0.000 | 0.004 | |
| print.nmr_dataset | 0.657 | 0.527 | 0.529 | |
| print.nmr_dataset_1D | 0.934 | 0.840 | 0.875 | |
| print.nmr_dataset_peak_table | 0.867 | 0.715 | 0.786 | |
| random_subsampling | 0.001 | 0.001 | 0.002 | |
| save_files_to_rDolphin | 0 | 0 | 0 | |
| save_profiling_output | 0 | 0 | 0 | |
| sub-.nmr_dataset | 0.789 | 0.676 | 0.653 | |
| sub-.nmr_dataset_1D | 0.864 | 0.649 | 0.747 | |
| sub-.nmr_dataset_peak_table | 0.868 | 0.668 | 0.713 | |
| tidy.nmr_dataset_1D | 0.903 | 0.678 | 0.761 | |
| to_ASICS | 0.966 | 0.169 | 1.135 | |
| to_ChemoSpec | 1.029 | 0.885 | 1.112 | |
| validate_nmr_dataset | 1.389 | 1.243 | 1.157 | |
| validate_nmr_dataset_family | 0.802 | 0.726 | 0.684 | |
| validate_nmr_dataset_peak_table | 0.001 | 0.000 | 0.001 | |
| zzz | 0.001 | 0.000 | 2.002 | |