Back to Multiple platform build/check report for BioC 3.22:   simplified   long
ABC[D]EFGHIJKLMNOPQRSTUVWXYZ

This page was generated on 2025-10-04 12:06 -0400 (Sat, 04 Oct 2025).

HostnameOSArch (*)R versionInstalled pkgs
nebbiolo2Linux (Ubuntu 24.04.3 LTS)x86_644.5.1 Patched (2025-08-23 r88802) -- "Great Square Root" 4853
lconwaymacOS 12.7.1 Montereyx86_644.5.1 Patched (2025-09-10 r88807) -- "Great Square Root" 4640
kjohnson3macOS 13.7.7 Venturaarm644.5.1 Patched (2025-09-10 r88807) -- "Great Square Root" 4585
taishanLinux (openEuler 24.03 LTS)aarch644.5.0 (2025-04-11) -- "How About a Twenty-Six" 4576
Click on any hostname to see more info about the system (e.g. compilers)      (*) as reported by 'uname -p', except on Windows and Mac OS X

Package 601/2341HostnameOS / ArchINSTALLBUILDCHECKBUILD BIN
DMRcaller 1.41.2  (landing page)
Nicolae Radu Zabet
Snapshot Date: 2025-10-03 13:45 -0400 (Fri, 03 Oct 2025)
git_url: https://git.bioconductor.org/packages/DMRcaller
git_branch: devel
git_last_commit: 3121818
git_last_commit_date: 2025-10-01 02:31:01 -0400 (Wed, 01 Oct 2025)
nebbiolo2Linux (Ubuntu 24.04.3 LTS) / x86_64  OK    OK    ERROR  
lconwaymacOS 12.7.1 Monterey / x86_64  OK    OK    OK    OK  UNNEEDED, same version is already published
kjohnson3macOS 13.7.7 Ventura / arm64  OK    OK    OK    OK  UNNEEDED, same version is already published
taishanLinux (openEuler 24.03 LTS) / aarch64  OK    OK    ERROR  


CHECK results for DMRcaller on kjohnson3

To the developers/maintainers of the DMRcaller package:
- Allow up to 24 hours (and sometimes 48 hours) for your latest push to git@git.bioconductor.org:packages/DMRcaller.git to reflect on this report. See Troubleshooting Build Report for more information.
- Use the following Renviron settings to reproduce errors and warnings.
- If 'R CMD check' started to fail recently on the Linux builder(s) over a missing dependency, add the missing dependency to 'Suggests:' in your DESCRIPTION file. See Renviron.bioc for more information.

raw results


Summary

Package: DMRcaller
Version: 1.41.2
Command: /Library/Frameworks/R.framework/Resources/bin/R CMD check --install=check:DMRcaller.install-out.txt --library=/Library/Frameworks/R.framework/Resources/library --no-vignettes --timings DMRcaller_1.41.2.tar.gz
StartedAt: 2025-10-03 19:13:10 -0400 (Fri, 03 Oct 2025)
EndedAt: 2025-10-03 19:16:34 -0400 (Fri, 03 Oct 2025)
EllapsedTime: 204.4 seconds
RetCode: 0
Status:   OK  
CheckDir: DMRcaller.Rcheck
Warnings: 0

Command output

##############################################################################
##############################################################################
###
### Running command:
###
###   /Library/Frameworks/R.framework/Resources/bin/R CMD check --install=check:DMRcaller.install-out.txt --library=/Library/Frameworks/R.framework/Resources/library --no-vignettes --timings DMRcaller_1.41.2.tar.gz
###
##############################################################################
##############################################################################


* using log directory ‘/Users/biocbuild/bbs-3.22-bioc/meat/DMRcaller.Rcheck’
* using R version 4.5.1 Patched (2025-09-10 r88807)
* using platform: aarch64-apple-darwin20
* R was compiled by
    Apple clang version 16.0.0 (clang-1600.0.26.6)
    GNU Fortran (GCC) 14.2.0
* running under: macOS Ventura 13.7.7
* using session charset: UTF-8
* using option ‘--no-vignettes’
* checking for file ‘DMRcaller/DESCRIPTION’ ... OK
* checking extension type ... Package
* this is package ‘DMRcaller’ version ‘1.41.2’
* package encoding: UTF-8
* checking package namespace information ... OK
* checking package dependencies ... OK
* checking if this is a source package ... OK
* checking if there is a namespace ... OK
* checking for hidden files and directories ... OK
* checking for portable file names ... OK
* checking for sufficient/correct file permissions ... OK
* checking whether package ‘DMRcaller’ can be installed ... OK
* checking installed package size ... OK
* checking package directory ... OK
* checking ‘build’ directory ... OK
* checking DESCRIPTION meta-information ... NOTE
Packages listed in more than one of Depends, Imports, Suggests, Enhances:
  ‘GenomicRanges’ ‘S4Vectors’ ‘IRanges’ ‘betareg’
A package should be listed in only one of these fields.
* checking top-level files ... OK
* checking for left-over files ... OK
* checking index information ... OK
* checking package subdirectories ... OK
* checking code files for non-ASCII characters ... OK
* checking R files for syntax errors ... OK
* checking whether the package can be loaded ... OK
* checking whether the package can be loaded with stated dependencies ... OK
* checking whether the package can be unloaded cleanly ... OK
* checking whether the namespace can be loaded with stated dependencies ... OK
* checking whether the namespace can be unloaded cleanly ... OK
* checking dependencies in R code ... NOTE
Namespaces in Imports field not imported from:
  ‘BiocManager’ ‘Seqinfo’
  All declared Imports should be used.
* checking S3 generic/method consistency ... OK
* checking replacement functions ... OK
* checking foreign function calls ... OK
* checking R code for possible problems ... NOTE
.validateModif: no visible global function definition for ‘seqlengths’
extractGC: no visible global function definition for ‘seqlevels’
findUnmodCoverageCpp: no visible binding for global variable
  ‘_DMRcaller_findUnmodCoverageCpp’
readONTbam: no visible binding for global variable
  ‘BSgenome.Hsapiens.UCSC.hg38’
readONTbam: no visible global function definition for ‘seqlengths’
selectCytosine: no visible binding for global variable
  ‘BSgenome.Hsapiens.UCSC.hg38’
selectCytosine : <anonymous>: no visible global function definition for
  ‘seqlengths’
selectCytosine : <anonymous>: no visible global function definition for
  ‘seqlevels<-’
selectCytosine : <anonymous>: no visible global function definition for
  ‘seqlengths<-’
selectCytosine: no visible global function definition for ‘seqlevels<-’
selectCytosine: no visible global function definition for ‘seqlevels’
Undefined global functions or variables:
  BSgenome.Hsapiens.UCSC.hg38 _DMRcaller_findUnmodCoverageCpp
  seqlengths seqlengths<- seqlevels seqlevels<-
* checking Rd files ... OK
* checking Rd metadata ... OK
* checking Rd cross-references ... OK
* checking for missing documentation entries ... OK
* checking for code/documentation mismatches ... OK
* checking Rd \usage sections ... OK
* checking Rd contents ... OK
* checking for unstated dependencies in examples ... OK
* checking contents of ‘data’ directory ... OK
* checking data for non-ASCII characters ... OK
* checking data for ASCII and uncompressed saves ... OK
* checking files in ‘vignettes’ ... OK
* checking examples ... OK
Examples with CPU (user + system) or elapsed time > 5s
              user system elapsed
computePMDs 21.667  0.098  23.269
filterVMDs   9.875  0.067  10.027
* checking for unstated dependencies in ‘tests’ ... OK
* checking tests ...
  Running ‘runTests.R’
 OK
* checking for unstated dependencies in vignettes ... OK
* checking package vignettes ... OK
* checking running R code from vignettes ... SKIPPED
* checking re-building of vignette outputs ... SKIPPED
* checking PDF version of manual ... OK
* DONE

Status: 3 NOTEs
See
  ‘/Users/biocbuild/bbs-3.22-bioc/meat/DMRcaller.Rcheck/00check.log’
for details.


Installation output

DMRcaller.Rcheck/00install.out

##############################################################################
##############################################################################
###
### Running command:
###
###   /Library/Frameworks/R.framework/Resources/bin/R CMD INSTALL DMRcaller
###
##############################################################################
##############################################################################


* installing to library ‘/Library/Frameworks/R.framework/Versions/4.5-arm64/Resources/library’
* installing *source* package ‘DMRcaller’ ...
** this is package ‘DMRcaller’ version ‘1.41.2’
** using staged installation
** R
** data
** inst
** byte-compile and prepare package for lazy loading
** help
*** installing help indices
** building package indices
** installing vignettes
** testing if installed package can be loaded from temporary location
** testing if installed package can be loaded from final location
** testing if installed package keeps a record of temporary installation path
* DONE (DMRcaller)

Tests output

DMRcaller.Rcheck/tests/runTests.Rout


R version 4.5.1 Patched (2025-09-10 r88807) -- "Great Square Root"
Copyright (C) 2025 The R Foundation for Statistical Computing
Platform: aarch64-apple-darwin20

R is free software and comes with ABSOLUTELY NO WARRANTY.
You are welcome to redistribute it under certain conditions.
Type 'license()' or 'licence()' for distribution details.

R is a collaborative project with many contributors.
Type 'contributors()' for more information and
'citation()' on how to cite R or R packages in publications.

Type 'demo()' for some demos, 'help()' for on-line help, or
'help.start()' for an HTML browser interface to help.
Type 'q()' to quit R.

> BiocGenerics:::testPackage("DMRcaller")

Attaching package: 'generics'

The following objects are masked from 'package:base':

    as.difftime, as.factor, as.ordered, intersect, is.element, setdiff,
    setequal, union


Attaching package: 'BiocGenerics'

The following objects are masked from 'package:stats':

    IQR, mad, sd, var, xtabs

The following objects are masked from 'package:base':

    Filter, Find, Map, Position, Reduce, anyDuplicated, aperm, append,
    as.data.frame, basename, cbind, colnames, dirname, do.call,
    duplicated, eval, evalq, get, grep, grepl, is.unsorted, lapply,
    mapply, match, mget, order, paste, pmax, pmax.int, pmin, pmin.int,
    rank, rbind, rownames, sapply, saveRDS, table, tapply, unique,
    unsplit, which.max, which.min


Attaching package: 'S4Vectors'

The following object is masked from 'package:utils':

    findMatches

The following objects are masked from 'package:base':

    I, expand.grid, unname

Loading required package: GenomeInfoDb
Loading required package: BSgenome
Loading required package: Biostrings
Loading required package: XVector

Attaching package: 'Biostrings'

The following object is masked from 'package:base':

    strsplit

Loading required package: BiocIO
Loading required package: rtracklayer
Parameters checking ...
Current parallel setting, BPPARAM: 
class: SerialParam
  bpisup: FALSE; bpnworkers: 1; bptasks: 2147483647; bpjobname: BPJOB
  bplog: FALSE; bpthreshold: INFO; bpstopOnError: TRUE
  bpRNGseed: ; bptimeout: NA; bpprogressbar: TRUE
  bpexportglobals: FALSE; bpexportvariables: FALSE; bpforceGC: FALSE
  bpfallback: FALSE
  bplogdir: NA
  bpresultdir: NA
Extract methylation in the corresponding context 
Computing DMRs 
Merge adjacent DMRs
Merge DMRs iteratively
Filter DMRs 
Parameters checking ...
Current parallel setting, BPPARAM: 
class: SerialParam
  bpisup: FALSE; bpnworkers: 1; bptasks: 2147483647; bpjobname: BPJOB
  bplog: FALSE; bpthreshold: INFO; bpstopOnError: TRUE
  bpRNGseed: ; bptimeout: NA; bpprogressbar: TRUE
  bpexportglobals: FALSE; bpexportvariables: FALSE; bpforceGC: FALSE
  bpfallback: FALSE
  bplogdir: NA
  bpresultdir: NA
Extract methylation in the corresponding context 
Computing DMRs at  Chr1:1..4976 
Calculating interpolations...
Identifying DMRs...
Analysed reads inside DMRs
Merge DMRs iteratively
Filter DMRs 
Parameters checking ...
Current parallel setting, BPPARAM: 
class: SerialParam
  bpisup: FALSE; bpnworkers: 1; bptasks: 2147483647; bpjobname: BPJOB
  bplog: FALSE; bpthreshold: INFO; bpstopOnError: TRUE
  bpRNGseed: ; bptimeout: NA; bpprogressbar: TRUE
  bpexportglobals: FALSE; bpexportvariables: FALSE; bpforceGC: FALSE
  bpfallback: FALSE
  bplogdir: NA
  bpresultdir: NA
Extract methylation in the corresponding context 
Computing DMRs at  Chr1:1..4976 
Selecting data...
Identifying DMRs...
Validating objects 
Finding overlaps 
Joining objects 
Parameters checking ...
Current parallel setting, BPPARAM: 
class: SerialParam
  bpisup: FALSE; bpnworkers: 1; bptasks: 2147483647; bpjobname: BPJOB
  bplog: FALSE; bpthreshold: INFO; bpstopOnError: TRUE
  bpRNGseed: ; bptimeout: NA; bpprogressbar: TRUE
  bpexportglobals: FALSE; bpexportvariables: FALSE; bpforceGC: FALSE
  bpfallback: FALSE
  bplogdir: NA
  bpresultdir: NA
Extract methylation in the corresponding context 
Computing DMRs at  Chr1:1..4976 
Count inside each bin...
Filter the bins...
Identifying DMRs...
Merge adjacent DMRs
Merge DMRs iteratively
Filter DMRs 
Parameters checking ...
Current parallel setting, BPPARAM: 
class: SerialParam
  bpisup: FALSE; bpnworkers: 1; bptasks: 2147483647; bpjobname: BPJOB
  bplog: FALSE; bpthreshold: INFO; bpstopOnError: TRUE
  bpRNGseed: ; bptimeout: NA; bpprogressbar: TRUE
  bpexportglobals: FALSE; bpexportvariables: FALSE; bpforceGC: FALSE
  bpfallback: FALSE
  bplogdir: NA
  bpresultdir: NA
Merge DMRs iteratively ...
Parameters checking ...
Parameters checking ...
Select the Cytosine Positions in the specified BSgenome ...
Current parallel setting, BPPARAM: 
class: SerialParam
  bpisup: FALSE; bpnworkers: 1; bptasks: 2147483647; bpjobname: BPJOB
  bplog: FALSE; bpthreshold: INFO; bpstopOnError: TRUE
  bpRNGseed: ; bptimeout: NA; bpprogressbar: TRUE
  bpexportglobals: FALSE; bpexportvariables: FALSE; bpforceGC: FALSE
  bpfallback: FALSE
  bplogdir: NA
  bpresultdir: NA
[readONTbam] Generating index file for BAM ...
[readONTbam] Loading BAM ...
Step 1 (scanBam): 0.04 sec
[readONTbam] Filtering invalid or empty reads ...
Step 2 (filter): 0.08 sec
[readONTbam] Generating cytosine position list and indel_info ...
[readONTbam] Start Decoding MM/ML ...

  |                                                                            
  |                                                                      |   0%[readONTbam] Decoding MM/ML: 20% (1/5 reads)

  |                                                                            
  |==============                                                        |  20%[readONTbam] Decoding MM/ML: 40% (2/5 reads)

  |                                                                            
  |============================                                          |  40%[readONTbam] Decoding MM/ML: 60% (3/5 reads)

  |                                                                            
  |==========================================                            |  60%[readONTbam] Decoding MM/ML: 80% (4/5 reads)

  |                                                                            
  |========================================================              |  80%[readONTbam] Decoding MM/ML: 100% (5/5 reads)

  |                                                                            
  |======================================================================| 100%

Step 3 (decode Bam file): 2.14 sec
[readONTbam] Calculating overlaps with reference cytosines ...
Step 4 (coverage): 1.63 sec
[readONTbam] Annotating high-confidence modified reads ...
Step 5 (ONT_Cm & readsM meta-column): 0.56 sec
[readONTbam] Annotating unmodified (covered) reads & Calculating coverage per position...
Step 6 (ONT_C & readsN meta-column): 0.54 sec
[readONTbam] Done. Returning annotated GRanges.
Total: 5.00 sec


RUNIT TEST PROTOCOL -- Fri Oct  3 19:16:29 2025 
*********************************************** 
Number of test functions: 7 
Number of errors: 0 
Number of failures: 0 

 
1 Test Suite : 
DMRcaller RUnit Tests - 7 test functions, 0 errors, 0 failures
Number of test functions: 7 
Number of errors: 0 
Number of failures: 0 
> 
> proc.time()
   user  system elapsed 
 57.437   0.936  60.158 

Example timings

DMRcaller.Rcheck/DMRcaller-Ex.timings

nameusersystemelapsed
DMRcaller0.0010.0010.002
analyseReadsInsideRegionsForCondition0.5240.0100.552
analyseReadsInsideRegionsForConditionPMD0.2230.0070.243
computeCoMethylation000
computeDMRs2.9750.0363.129
computeDMRsReplicates000
computeMethylationDataCoverage0.1610.0120.174
computeMethylationDataSpatialCorrelation0.5320.0190.579
computeMethylationProfile0.3800.0250.435
computeOverlapProfile0.4830.0070.520
computePMDs21.667 0.09823.269
computeVMDs0.0010.0010.000
extractGC000
filterDMRs0.5210.0190.547
filterPMDs0.5390.0190.569
filterVMDs 9.875 0.06710.027
filterVMRsONT000
getWholeChromosomes0.0970.0070.104
joinReplicates0.2520.0230.286
mergeDMRsIteratively2.8850.0373.029
mergePMDsIteratively1.1560.0041.209
plotLocalMethylationProfile0.6810.0350.728
plotMethylationDataCoverage0.2920.0230.319
plotMethylationDataSpatialCorrelation0.2940.0410.359
plotMethylationProfile0.3470.0130.364
plotMethylationProfileFromData1.0050.0421.077
plotOverlapProfile0.5020.0060.528
poolMethylationDatasets0.2120.0280.240
poolTwoMethylationDatasets0.5350.0370.586
readBismark0.7200.0530.784
readBismarkPool1.5980.1321.771
readONTbam000
saveBismark0.4600.0160.486
selectCytosine0.0000.0010.000