Back to Multiple platform build/check report for BioC 3.22:   simplified   long
A[B]CDEFGHIJKLMNOPQRSTUVWXYZ

This page was generated on 2025-10-04 12:03 -0400 (Sat, 04 Oct 2025).

HostnameOSArch (*)R versionInstalled pkgs
nebbiolo2Linux (Ubuntu 24.04.3 LTS)x86_644.5.1 Patched (2025-08-23 r88802) -- "Great Square Root" 4853
lconwaymacOS 12.7.1 Montereyx86_644.5.1 Patched (2025-09-10 r88807) -- "Great Square Root" 4640
kjohnson3macOS 13.7.7 Venturaarm644.5.1 Patched (2025-09-10 r88807) -- "Great Square Root" 4585
taishanLinux (openEuler 24.03 LTS)aarch644.5.0 (2025-04-11) -- "How About a Twenty-Six" 4576
Click on any hostname to see more info about the system (e.g. compilers)      (*) as reported by 'uname -p', except on Windows and Mac OS X

Package 258/2341HostnameOS / ArchINSTALLBUILDCHECKBUILD BIN
BulkSignalR 1.1.5  (landing page)
Jean-Philippe Villemin
Snapshot Date: 2025-10-03 13:45 -0400 (Fri, 03 Oct 2025)
git_url: https://git.bioconductor.org/packages/BulkSignalR
git_branch: devel
git_last_commit: dd2021f
git_last_commit_date: 2025-09-27 04:43:00 -0400 (Sat, 27 Sep 2025)
nebbiolo2Linux (Ubuntu 24.04.3 LTS) / x86_64  OK    OK    OK  UNNEEDED, same version is already published
lconwaymacOS 12.7.1 Monterey / x86_64  OK    OK    OK    OK  UNNEEDED, same version is already published
kjohnson3macOS 13.7.7 Ventura / arm64  OK    OK    OK    OK  UNNEEDED, same version is already published
taishanLinux (openEuler 24.03 LTS) / aarch64  OK    OK    OK  


CHECK results for BulkSignalR on nebbiolo2

To the developers/maintainers of the BulkSignalR package:
- Allow up to 24 hours (and sometimes 48 hours) for your latest push to git@git.bioconductor.org:packages/BulkSignalR.git to reflect on this report. See Troubleshooting Build Report for more information.
- Use the following Renviron settings to reproduce errors and warnings.
- If 'R CMD check' started to fail recently on the Linux builder(s) over a missing dependency, add the missing dependency to 'Suggests:' in your DESCRIPTION file. See Renviron.bioc for more information.

raw results


Summary

Package: BulkSignalR
Version: 1.1.5
Command: /home/biocbuild/bbs-3.22-bioc/R/bin/R CMD check --install=check:BulkSignalR.install-out.txt --library=/home/biocbuild/bbs-3.22-bioc/R/site-library --timings BulkSignalR_1.1.5.tar.gz
StartedAt: 2025-10-03 21:45:50 -0400 (Fri, 03 Oct 2025)
EndedAt: 2025-10-03 22:00:25 -0400 (Fri, 03 Oct 2025)
EllapsedTime: 875.2 seconds
RetCode: 0
Status:   OK  
CheckDir: BulkSignalR.Rcheck
Warnings: 0

Command output

##############################################################################
##############################################################################
###
### Running command:
###
###   /home/biocbuild/bbs-3.22-bioc/R/bin/R CMD check --install=check:BulkSignalR.install-out.txt --library=/home/biocbuild/bbs-3.22-bioc/R/site-library --timings BulkSignalR_1.1.5.tar.gz
###
##############################################################################
##############################################################################


* using log directory ‘/home/biocbuild/bbs-3.22-bioc/meat/BulkSignalR.Rcheck’
* using R version 4.5.1 Patched (2025-08-23 r88802)
* using platform: x86_64-pc-linux-gnu
* R was compiled by
    gcc (Ubuntu 13.3.0-6ubuntu2~24.04) 13.3.0
    GNU Fortran (Ubuntu 13.3.0-6ubuntu2~24.04) 13.3.0
* running under: Ubuntu 24.04.3 LTS
* using session charset: UTF-8
* checking for file ‘BulkSignalR/DESCRIPTION’ ... OK
* checking extension type ... Package
* this is package ‘BulkSignalR’ version ‘1.1.5’
* package encoding: UTF-8
* checking package namespace information ... OK
* checking package dependencies ... INFO
Imports includes 26 non-default packages.
Importing from so many packages makes the package vulnerable to any of
them becoming unavailable.  Move as many as possible to Suggests and
use conditionally.
* checking if this is a source package ... OK
* checking if there is a namespace ... OK
* checking for hidden files and directories ... OK
* checking for portable file names ... OK
* checking for sufficient/correct file permissions ... OK
* checking whether package ‘BulkSignalR’ can be installed ... OK
* checking installed package size ... OK
* checking package directory ... OK
* checking ‘build’ directory ... OK
* checking DESCRIPTION meta-information ... OK
* checking top-level files ... OK
* checking for left-over files ... OK
* checking index information ... OK
* checking package subdirectories ... OK
* checking code files for non-ASCII characters ... OK
* checking R files for syntax errors ... OK
* checking whether the package can be loaded ... OK
* checking whether the package can be loaded with stated dependencies ... OK
* checking whether the package can be unloaded cleanly ... OK
* checking whether the namespace can be loaded with stated dependencies ... OK
* checking whether the namespace can be unloaded cleanly ... OK
* checking loading without being on the library search path ... OK
* checking whether startup messages can be suppressed ... OK
* checking dependencies in R code ... OK
* checking S3 generic/method consistency ... OK
* checking replacement functions ... OK
* checking foreign function calls ... OK
* checking R code for possible problems ... OK
* checking Rd files ... OK
* checking Rd metadata ... OK
* checking Rd cross-references ... OK
* checking for missing documentation entries ... OK
* checking for code/documentation mismatches ... OK
* checking Rd \usage sections ... OK
* checking Rd contents ... OK
* checking for unstated dependencies in examples ... OK
* checking contents of ‘data’ directory ... OK
* checking data for non-ASCII characters ... OK
* checking data for ASCII and uncompressed saves ... OK
* checking files in ‘vignettes’ ... OK
* checking examples ... OK
Examples with CPU (user + system) or elapsed time > 5s
               user system elapsed
simpleHeatmap 7.400  1.012   9.044
cacheClear    3.535  0.298   6.522
* checking for unstated dependencies in ‘tests’ ... OK
* checking tests ...
  Running ‘testthat.R’
 OK
* checking for unstated dependencies in vignettes ... OK
* checking package vignettes ... OK
* checking re-building of vignette outputs ... OK
* checking PDF version of manual ... OK
* DONE

Status: OK


Installation output

BulkSignalR.Rcheck/00install.out

##############################################################################
##############################################################################
###
### Running command:
###
###   /home/biocbuild/bbs-3.22-bioc/R/bin/R CMD INSTALL BulkSignalR
###
##############################################################################
##############################################################################


* installing to library ‘/home/biocbuild/bbs-3.22-bioc/R/site-library’
* installing *source* package ‘BulkSignalR’ ...
** this is package ‘BulkSignalR’ version ‘1.1.5’
** using staged installation
** R
** data
** inst
** byte-compile and prepare package for lazy loading
** help
*** installing help indices
*** copying figures
** building package indices
** installing vignettes
** testing if installed package can be loaded from temporary location
** testing if installed package can be loaded from final location
** testing if installed package keeps a record of temporary installation path
* DONE (BulkSignalR)

Tests output

BulkSignalR.Rcheck/tests/testthat.Rout


R version 4.5.1 Patched (2025-08-23 r88802) -- "Great Square Root"
Copyright (C) 2025 The R Foundation for Statistical Computing
Platform: x86_64-pc-linux-gnu

R is free software and comes with ABSOLUTELY NO WARRANTY.
You are welcome to redistribute it under certain conditions.
Type 'license()' or 'licence()' for distribution details.

R is a collaborative project with many contributors.
Type 'contributors()' for more information and
'citation()' on how to cite R or R packages in publications.

Type 'demo()' for some demos, 'help()' for on-line help, or
'help.start()' for an HTML browser interface to help.
Type 'q()' to quit R.

> library(testthat)
> library(BulkSignalR)
Local "resources" are up to date.

> test_check("BulkSignalR")
[ FAIL 0 | WARN 0 | SKIP 0 | PASS 1 ]
> 
> proc.time()
   user  system elapsed 
 20.068   1.074  23.030 

Example timings

BulkSignalR.Rcheck/BulkSignalR-Ex.timings

nameusersystemelapsed
BSRClusterComp-class0.0010.0020.003
BSRClusterComp0.2650.0240.303
BSRDataModel-class0.0410.0030.044
BSRDataModel0.1690.0000.210
BSRDataModelComp-class0.0060.0000.005
BSRDataModelComp0.2000.0010.246
BSRInference-class0.0070.0000.006
BSRInference4.6330.3524.998
BSRInferenceComp-class0.010.000.01
BSRInferenceComp1.7580.0871.845
BSRSignature-class0.0020.0000.002
BSRSignature0.0470.0000.059
BSRSignatureComp-class0.0050.0000.005
BSRSignatureComp0.0210.0000.021
LRinter0.0020.0000.003
LRinterScore0.0050.0000.005
LRinterShort0.0050.0000.005
addClusterComp0.2810.0050.286
alluvialPlot0.8710.0150.886
assignCellTypesToInteractions1.0450.0291.074
bubblePlotPathwaysLR0.6950.0170.711
cacheClear3.5350.2986.522
cacheInfo0.1110.0120.123
cacheVersion0.3430.0250.731
cellTypeFrequency1.0550.1201.175
cellularNetwork0.7260.0660.949
cellularNetworkTable0.7090.0620.778
chordDiagramLR1.7280.0791.813
coerce0.0020.0000.002
colClusterA000
colClusterB000
comparison000
comparisonName000
convertToHuman0.6450.0482.445
createResources0.2610.0240.915
differentialStats0.0010.0000.001
findOrthoGenes0.3570.0170.508
generateSpatialPlots2.1990.2062.445
getLRIntracellNetwork2.0530.0732.127
getLRNetwork0.0380.0000.037
getPathwayStats0.0170.0000.017
getResource0.3080.0070.316
inferenceParameters000
initialOrganism0.0020.0000.001
initialOrthologs0.0010.0000.001
learnParameters3.6730.1543.961
ligands000
logTransformed0.0030.0000.002
maxLigandSpatialCounts0.0730.0190.091
mu000
ncounts0.0020.0000.002
normalization0.0020.0000.002
parameters0.0020.0000.001
pathways000
receptors0.0010.0000.000
reduceToBestPathway0.1430.0220.165
reduceToLigand0.0600.0020.062
reduceToPathway0.1270.0100.136
reduceToReceptor0.0240.0020.027
relateToGeneSet0.1430.0260.169
removeClusterComp0.2710.0110.320
rescoreInference0.0330.0030.036
resetLRdb0.0240.0070.031
resetNetwork0.0080.0000.008
resetPathways0.3230.0160.339
resetToInitialOrganism0.1740.0100.184
scoreLRGeneSignatures1.3450.1631.611
scoreSignatures0.3080.0010.309
separatedLRPlot1.9830.0262.117
signatureHeatmaps0.0210.0040.025
simpleHeatmap7.4001.0129.044
smoothSpatialCounts0.0560.0030.059
sourceComparisonName000
spatialAssociation0.0610.0040.066
spatialAssociationPlot4.3220.1524.596
spatialDiversityPlot1.1240.0231.189
spatialIndexPlot1.9260.0322.002
spatialPlot1.8510.0281.897
summarizedCellularNetwork0.6980.0120.724
tgCorr0.0000.0000.001
tgExpr0.0010.0000.000
tgGenes0.0000.0000.001
tgLogFC000
tgPval0.0000.0000.001
updateInference0.0960.0030.099