Back to Multiple platform build/check report for BioC 3.22:   simplified   long
A[B]CDEFGHIJKLMNOPQRSTUVWXYZ

This page was generated on 2025-10-04 12:04 -0400 (Sat, 04 Oct 2025).

HostnameOSArch (*)R versionInstalled pkgs
nebbiolo2Linux (Ubuntu 24.04.3 LTS)x86_644.5.1 Patched (2025-08-23 r88802) -- "Great Square Root" 4853
lconwaymacOS 12.7.1 Montereyx86_644.5.1 Patched (2025-09-10 r88807) -- "Great Square Root" 4640
kjohnson3macOS 13.7.7 Venturaarm644.5.1 Patched (2025-09-10 r88807) -- "Great Square Root" 4585
taishanLinux (openEuler 24.03 LTS)aarch644.5.0 (2025-04-11) -- "How About a Twenty-Six" 4576
Click on any hostname to see more info about the system (e.g. compilers)      (*) as reported by 'uname -p', except on Windows and Mac OS X

Package 258/2341HostnameOS / ArchINSTALLBUILDCHECKBUILD BIN
BulkSignalR 1.1.5  (landing page)
Jean-Philippe Villemin
Snapshot Date: 2025-10-03 13:45 -0400 (Fri, 03 Oct 2025)
git_url: https://git.bioconductor.org/packages/BulkSignalR
git_branch: devel
git_last_commit: dd2021f
git_last_commit_date: 2025-09-27 04:43:00 -0400 (Sat, 27 Sep 2025)
nebbiolo2Linux (Ubuntu 24.04.3 LTS) / x86_64  OK    OK    OK  UNNEEDED, same version is already published
lconwaymacOS 12.7.1 Monterey / x86_64  OK    OK    OK    OK  UNNEEDED, same version is already published
kjohnson3macOS 13.7.7 Ventura / arm64  OK    OK    OK    OK  UNNEEDED, same version is already published
taishanLinux (openEuler 24.03 LTS) / aarch64  OK    OK    OK  


CHECK results for BulkSignalR on lconway

To the developers/maintainers of the BulkSignalR package:
- Allow up to 24 hours (and sometimes 48 hours) for your latest push to git@git.bioconductor.org:packages/BulkSignalR.git to reflect on this report. See Troubleshooting Build Report for more information.
- Use the following Renviron settings to reproduce errors and warnings.
- If 'R CMD check' started to fail recently on the Linux builder(s) over a missing dependency, add the missing dependency to 'Suggests:' in your DESCRIPTION file. See Renviron.bioc for more information.

raw results


Summary

Package: BulkSignalR
Version: 1.1.5
Command: /Library/Frameworks/R.framework/Resources/bin/R CMD check --install=check:BulkSignalR.install-out.txt --library=/Library/Frameworks/R.framework/Resources/library --no-vignettes --timings BulkSignalR_1.1.5.tar.gz
StartedAt: 2025-10-03 20:14:34 -0400 (Fri, 03 Oct 2025)
EndedAt: 2025-10-03 20:22:39 -0400 (Fri, 03 Oct 2025)
EllapsedTime: 484.4 seconds
RetCode: 0
Status:   OK  
CheckDir: BulkSignalR.Rcheck
Warnings: 0

Command output

##############################################################################
##############################################################################
###
### Running command:
###
###   /Library/Frameworks/R.framework/Resources/bin/R CMD check --install=check:BulkSignalR.install-out.txt --library=/Library/Frameworks/R.framework/Resources/library --no-vignettes --timings BulkSignalR_1.1.5.tar.gz
###
##############################################################################
##############################################################################


* using log directory ‘/Users/biocbuild/bbs-3.22-bioc/meat/BulkSignalR.Rcheck’
* using R version 4.5.1 Patched (2025-09-10 r88807)
* using platform: x86_64-apple-darwin20
* R was compiled by
    Apple clang version 14.0.0 (clang-1400.0.29.202)
    GNU Fortran (GCC) 14.2.0
* running under: macOS Monterey 12.7.6
* using session charset: UTF-8
* using option ‘--no-vignettes’
* checking for file ‘BulkSignalR/DESCRIPTION’ ... OK
* checking extension type ... Package
* this is package ‘BulkSignalR’ version ‘1.1.5’
* package encoding: UTF-8
* checking package namespace information ... OK
* checking package dependencies ... INFO
Imports includes 26 non-default packages.
Importing from so many packages makes the package vulnerable to any of
them becoming unavailable.  Move as many as possible to Suggests and
use conditionally.
* checking if this is a source package ... OK
* checking if there is a namespace ... OK
* checking for hidden files and directories ... OK
* checking for portable file names ... OK
* checking for sufficient/correct file permissions ... OK
* checking whether package ‘BulkSignalR’ can be installed ... OK
* checking installed package size ... OK
* checking package directory ... OK
* checking ‘build’ directory ... OK
* checking DESCRIPTION meta-information ... OK
* checking top-level files ... OK
* checking for left-over files ... OK
* checking index information ... OK
* checking package subdirectories ... OK
* checking code files for non-ASCII characters ... OK
* checking R files for syntax errors ... OK
* checking whether the package can be loaded ... OK
* checking whether the package can be loaded with stated dependencies ... OK
* checking whether the package can be unloaded cleanly ... OK
* checking whether the namespace can be loaded with stated dependencies ... OK
* checking whether the namespace can be unloaded cleanly ... OK
* checking whether startup messages can be suppressed ... OK
* checking dependencies in R code ... OK
* checking S3 generic/method consistency ... OK
* checking replacement functions ... OK
* checking foreign function calls ... OK
* checking R code for possible problems ... OK
* checking Rd files ... OK
* checking Rd metadata ... OK
* checking Rd cross-references ... OK
* checking for missing documentation entries ... OK
* checking for code/documentation mismatches ... OK
* checking Rd \usage sections ... OK
* checking Rd contents ... OK
* checking for unstated dependencies in examples ... OK
* checking contents of ‘data’ directory ... OK
* checking data for non-ASCII characters ... OK
* checking data for ASCII and uncompressed saves ... OK
* checking files in ‘vignettes’ ... OK
* checking examples ... OK
Examples with CPU (user + system) or elapsed time > 5s
               user system elapsed
simpleHeatmap 7.456  0.463   8.003
cacheClear    3.812  0.243   7.295
* checking for unstated dependencies in ‘tests’ ... OK
* checking tests ...
  Running ‘testthat.R’
 OK
* checking for unstated dependencies in vignettes ... OK
* checking package vignettes ... OK
* checking running R code from vignettes ... SKIPPED
* checking re-building of vignette outputs ... SKIPPED
* checking PDF version of manual ... OK
* DONE

Status: OK


Installation output

BulkSignalR.Rcheck/00install.out

##############################################################################
##############################################################################
###
### Running command:
###
###   /Library/Frameworks/R.framework/Resources/bin/R CMD INSTALL BulkSignalR
###
##############################################################################
##############################################################################


* installing to library ‘/Library/Frameworks/R.framework/Versions/4.5-x86_64/Resources/library’
* installing *source* package ‘BulkSignalR’ ...
** this is package ‘BulkSignalR’ version ‘1.1.5’
** using staged installation
** R
** data
** inst
** byte-compile and prepare package for lazy loading
** help
*** installing help indices
*** copying figures
** building package indices
** installing vignettes
** testing if installed package can be loaded from temporary location
** testing if installed package can be loaded from final location
** testing if installed package keeps a record of temporary installation path
* DONE (BulkSignalR)

Tests output

BulkSignalR.Rcheck/tests/testthat.Rout


R version 4.5.1 Patched (2025-09-10 r88807) -- "Great Square Root"
Copyright (C) 2025 The R Foundation for Statistical Computing
Platform: x86_64-apple-darwin20

R is free software and comes with ABSOLUTELY NO WARRANTY.
You are welcome to redistribute it under certain conditions.
Type 'license()' or 'licence()' for distribution details.

R is a collaborative project with many contributors.
Type 'contributors()' for more information and
'citation()' on how to cite R or R packages in publications.

Type 'demo()' for some demos, 'help()' for on-line help, or
'help.start()' for an HTML browser interface to help.
Type 'q()' to quit R.

> library(testthat)
> library(BulkSignalR)
Local "resources" are up to date.

> test_check("BulkSignalR")
[ FAIL 0 | WARN 0 | SKIP 0 | PASS 1 ]
> 
> proc.time()
   user  system elapsed 
 16.647   0.979  18.693 

Example timings

BulkSignalR.Rcheck/BulkSignalR-Ex.timings

nameusersystemelapsed
BSRClusterComp-class0.0030.0000.003
BSRClusterComp0.3740.0230.398
BSRDataModel-class0.0520.0070.058
BSRDataModel0.2770.0070.285
BSRDataModelComp-class0.0050.0010.005
BSRDataModelComp0.2580.0060.266
BSRInference-class0.0050.0010.006
BSRInference3.5270.0923.634
BSRInferenceComp-class0.0070.0000.007
BSRInferenceComp1.2700.1061.383
BSRSignature-class0.0020.0000.002
BSRSignature0.0370.0020.039
BSRSignatureComp-class0.0050.0000.005
BSRSignatureComp0.0150.0010.016
LRinter0.0020.0000.003
LRinterScore0.0050.0010.005
LRinterShort0.0040.0010.005
addClusterComp0.3200.0150.339
alluvialPlot0.6200.0240.646
assignCellTypesToInteractions0.7540.0400.800
bubblePlotPathwaysLR0.5810.0080.595
cacheClear3.8120.2437.295
cacheInfo0.1220.0080.129
cacheVersion0.3610.0430.749
cellTypeFrequency0.7700.0260.801
cellularNetwork0.6750.0210.699
cellularNetworkTable0.6930.0190.715
chordDiagramLR1.4130.0151.433
coerce0.0010.0000.001
colClusterA000
colClusterB0.0000.0000.001
comparison000
comparisonName0.0000.0000.001
convertToHuman0.2140.0101.932
createResources0.3340.0440.993
differentialStats0.0010.0000.002
findOrthoGenes0.1520.0030.423
generateSpatialPlots2.1600.0402.213
getLRIntracellNetwork2.3670.1782.569
getLRNetwork0.0390.0020.040
getPathwayStats0.0160.0010.017
getResource0.3140.0210.338
inferenceParameters000
initialOrganism0.0020.0000.002
initialOrthologs0.0020.0010.002
learnParameters2.8920.0322.938
ligands000
logTransformed0.0020.0000.002
maxLigandSpatialCounts0.0540.0020.057
mu000
ncounts0.0020.0000.002
normalization0.0020.0000.002
parameters0.0010.0000.002
pathways0.0000.0000.001
receptors0.0010.0000.000
reduceToBestPathway0.0780.0030.082
reduceToLigand0.0390.0020.041
reduceToPathway0.0880.0020.091
reduceToReceptor0.0180.0010.020
relateToGeneSet0.1060.0060.118
removeClusterComp0.3410.0110.353
rescoreInference0.0330.0030.036
resetLRdb0.0260.0010.027
resetNetwork0.0070.0000.008
resetPathways0.3140.0170.332
resetToInitialOrganism0.1630.0050.168
scoreLRGeneSignatures1.3180.0401.363
scoreSignatures0.3830.0090.394
separatedLRPlot2.1500.0402.203
signatureHeatmaps0.0190.0020.022
simpleHeatmap7.4560.4638.003
smoothSpatialCounts0.0550.0150.070
sourceComparisonName000
spatialAssociation0.0530.0270.081
spatialAssociationPlot4.2990.0834.401
spatialDiversityPlot1.0200.0251.050
spatialIndexPlot1.6170.0231.648
spatialPlot1.2930.0241.323
summarizedCellularNetwork0.6340.0150.651
tgCorr0.0000.0000.001
tgExpr0.0000.0010.000
tgGenes0.0010.0000.000
tgLogFC0.0000.0010.000
tgPval000
updateInference0.0780.0030.082