| Back to Multiple platform build/check report for BioC 3.9 |
|
This page was generated on 2019-10-16 12:41:50 -0400 (Wed, 16 Oct 2019).
| Package 1541/1741 | Hostname | OS / Arch | INSTALL | BUILD | CHECK | BUILD BIN | ||||||
| slinky 1.2.2 Eric J. Kort
| malbec2 | Linux (Ubuntu 18.04.2 LTS) / x86_64 | OK | OK | OK | |||||||
| tokay2 | Windows Server 2012 R2 Standard / x64 | [ OK ] | OK | OK | OK | |||||||
| celaya2 | OS X 10.11.6 El Capitan / x86_64 | OK | OK | OK | OK |
| Package: slinky |
| Version: 1.2.2 |
| Command: C:\cygwin\bin\curl.exe -O https://malbec2.bioconductor.org/BBS/3.9/bioc/src/contrib/slinky_1.2.2.tar.gz && rm -rf slinky.buildbin-libdir && mkdir slinky.buildbin-libdir && C:\Users\biocbuild\bbs-3.9-bioc\R\bin\R.exe CMD INSTALL --merge-multiarch --build --library=slinky.buildbin-libdir slinky_1.2.2.tar.gz && C:\Users\biocbuild\bbs-3.9-bioc\R\bin\R.exe CMD INSTALL slinky_1.2.2.zip && rm slinky_1.2.2.tar.gz slinky_1.2.2.zip |
| StartedAt: 2019-10-15 20:03:55 -0400 (Tue, 15 Oct 2019) |
| EndedAt: 2019-10-15 20:04:47 -0400 (Tue, 15 Oct 2019) |
| EllapsedTime: 51.8 seconds |
| RetCode: 0 |
| Status: OK |
##############################################################################
##############################################################################
###
### Running command:
###
### C:\cygwin\bin\curl.exe -O https://malbec2.bioconductor.org/BBS/3.9/bioc/src/contrib/slinky_1.2.2.tar.gz && rm -rf slinky.buildbin-libdir && mkdir slinky.buildbin-libdir && C:\Users\biocbuild\bbs-3.9-bioc\R\bin\R.exe CMD INSTALL --merge-multiarch --build --library=slinky.buildbin-libdir slinky_1.2.2.tar.gz && C:\Users\biocbuild\bbs-3.9-bioc\R\bin\R.exe CMD INSTALL slinky_1.2.2.zip && rm slinky_1.2.2.tar.gz slinky_1.2.2.zip
###
##############################################################################
##############################################################################
% Total % Received % Xferd Average Speed Time Time Time Current
Dload Upload Total Spent Left Speed
0 0 0 0 0 0 0 0 --:--:-- --:--:-- --:--:-- 0
100 1173k 100 1173k 0 0 14.6M 0 --:--:-- --:--:-- --:--:-- 15.9M
install for i386
* installing *source* package 'slinky' ...
** using staged installation
** R
** inst
** byte-compile and prepare package for lazy loading
** help
*** installing help indices
converting help for package 'slinky'
finding HTML links ... done
Slinky-class html
chDir html
closeAll html
clue html
clueCount html
clueInstances html
clueVehicle html
coerce html
colnames html
controls html
diffexp html
download html
get_metadata html
ks html
loadL1K html
finding level-2 HTML links ... done
metadata html
nrow html
readGCTX html
rownames html
rzs html
slinky-internal html
subset html
** building package indices
** installing vignettes
** testing if installed package can be loaded from temporary location
** testing if installed package can be loaded from final location
** testing if installed package keeps a record of temporary installation path
install for x64
* installing *source* package 'slinky' ...
** testing if installed package can be loaded
* MD5 sums
packaged installation of 'slinky' as slinky_1.2.2.zip
* DONE (slinky)
* installing to library 'C:/Users/biocbuild/bbs-3.9-bioc/R/library'
package 'slinky' successfully unpacked and MD5 sums checked