| Back to Multiple platform build/check report for BioC 3.9 |
|
This page was generated on 2019-10-16 12:15:14 -0400 (Wed, 16 Oct 2019).
| Package 1541/1741 | Hostname | OS / Arch | INSTALL | BUILD | CHECK | BUILD BIN | ||||||
| slinky 1.2.2 Eric J. Kort
| malbec2 | Linux (Ubuntu 18.04.2 LTS) / x86_64 | OK | OK | [ OK ] | |||||||
| tokay2 | Windows Server 2012 R2 Standard / x64 | OK | OK | OK | OK | |||||||
| celaya2 | OS X 10.11.6 El Capitan / x86_64 | OK | OK | OK | OK |
| Package: slinky |
| Version: 1.2.2 |
| Command: /home/biocbuild/bbs-3.9-bioc/R/bin/R CMD check --install=check:slinky.install-out.txt --library=/home/biocbuild/bbs-3.9-bioc/R/library --no-vignettes --timings slinky_1.2.2.tar.gz |
| StartedAt: 2019-10-16 05:06:52 -0400 (Wed, 16 Oct 2019) |
| EndedAt: 2019-10-16 05:11:18 -0400 (Wed, 16 Oct 2019) |
| EllapsedTime: 265.2 seconds |
| RetCode: 0 |
| Status: OK |
| CheckDir: slinky.Rcheck |
| Warnings: 0 |
##############################################################################
##############################################################################
###
### Running command:
###
### /home/biocbuild/bbs-3.9-bioc/R/bin/R CMD check --install=check:slinky.install-out.txt --library=/home/biocbuild/bbs-3.9-bioc/R/library --no-vignettes --timings slinky_1.2.2.tar.gz
###
##############################################################################
##############################################################################
* using log directory ‘/home/biocbuild/bbs-3.9-bioc/meat/slinky.Rcheck’
* using R version 3.6.1 (2019-07-05)
* using platform: x86_64-pc-linux-gnu (64-bit)
* using session charset: UTF-8
* using option ‘--no-vignettes’
* checking for file ‘slinky/DESCRIPTION’ ... OK
* checking extension type ... Package
* this is package ‘slinky’ version ‘1.2.2’
* package encoding: UTF-8
* checking package namespace information ... OK
* checking package dependencies ... OK
* checking if this is a source package ... OK
* checking if there is a namespace ... OK
* checking for hidden files and directories ... OK
* checking for portable file names ... OK
* checking for sufficient/correct file permissions ... OK
* checking whether package ‘slinky’ can be installed ... OK
* checking installed package size ... OK
* checking package directory ... OK
* checking ‘build’ directory ... OK
* checking DESCRIPTION meta-information ... OK
* checking top-level files ... OK
* checking for left-over files ... OK
* checking index information ... OK
* checking package subdirectories ... OK
* checking R files for non-ASCII characters ... OK
* checking R files for syntax errors ... OK
* checking whether the package can be loaded ... OK
* checking whether the package can be loaded with stated dependencies ... OK
* checking whether the package can be unloaded cleanly ... OK
* checking whether the namespace can be loaded with stated dependencies ... OK
* checking whether the namespace can be unloaded cleanly ... OK
* checking dependencies in R code ... OK
* checking S3 generic/method consistency ... OK
* checking replacement functions ... OK
* checking foreign function calls ... OK
* checking R code for possible problems ... OK
* checking Rd files ... OK
* checking Rd metadata ... OK
* checking Rd cross-references ... OK
* checking for missing documentation entries ... OK
* checking for code/documentation mismatches ... OK
* checking Rd \usage sections ... OK
* checking Rd contents ... OK
* checking for unstated dependencies in examples ... OK
* checking files in ‘vignettes’ ... OK
* checking examples ... OK
Examples with CPU or elapsed time > 5s
user system elapsed
rzs 13.543 0.184 14.387
* checking for unstated dependencies in ‘tests’ ... OK
* checking tests ...
Running ‘testthat.R’
OK
* checking for unstated dependencies in vignettes ... OK
* checking package vignettes in ‘inst/doc’ ... OK
* checking running R code from vignettes ... SKIPPED
* checking re-building of vignette outputs ... SKIPPED
* checking PDF version of manual ... OK
* DONE
Status: OK
slinky.Rcheck/00install.out
############################################################################## ############################################################################## ### ### Running command: ### ### /home/biocbuild/bbs-3.9-bioc/R/bin/R CMD INSTALL slinky ### ############################################################################## ############################################################################## * installing to library ‘/home/biocbuild/bbs-3.9-bioc/R/library’ * installing *source* package ‘slinky’ ... ** using staged installation ** R ** inst ** byte-compile and prepare package for lazy loading ** help *** installing help indices ** building package indices ** installing vignettes ** testing if installed package can be loaded from temporary location ** testing if installed package can be loaded from final location ** testing if installed package keeps a record of temporary installation path * DONE (slinky)
slinky.Rcheck/tests/testthat.Rout
R version 3.6.1 (2019-07-05) -- "Action of the Toes"
Copyright (C) 2019 The R Foundation for Statistical Computing
Platform: x86_64-pc-linux-gnu (64-bit)
R is free software and comes with ABSOLUTELY NO WARRANTY.
You are welcome to redistribute it under certain conditions.
Type 'license()' or 'licence()' for distribution details.
R is a collaborative project with many contributors.
Type 'contributors()' for more information and
'citation()' on how to cite R or R packages in publications.
Type 'demo()' for some demos, 'help()' for on-line help, or
'help.start()' for an HTML browser interface to help.
Type 'q()' to quit R.
> library(testthat)
> library(slinky)
>
> test_check("slinky")
══ testthat results ═══════════════════════════════════════════════════════════
[ OK: 46 | SKIPPED: 0 | WARNINGS: 0 | FAILED: 0 ]
>
> proc.time()
user system elapsed
78.695 4.585 90.054
slinky.Rcheck/slinky-Ex.timings
| name | user | system | elapsed | |
| Slinky-class | 1.328 | 0.068 | 1.721 | |
| closeAll | 0.036 | 0.000 | 0.061 | |
| clue | 0.173 | 0.000 | 0.336 | |
| clueCount | 0.052 | 0.000 | 0.120 | |
| clueInstances | 0.190 | 0.000 | 0.353 | |
| clueVehicle | 0.291 | 0.000 | 1.684 | |
| coerce | 0.229 | 0.004 | 0.262 | |
| colnames | 0.043 | 0.000 | 0.067 | |
| controls | 0.331 | 0.008 | 0.993 | |
| diffexp | 3.003 | 0.464 | 3.493 | |
| download | 0.000 | 0.001 | 0.000 | |
| get_metadata | 0.043 | 0.002 | 0.070 | |
| loadL1K | 0.461 | 0.008 | 1.109 | |
| metadata | 0.040 | 0.000 | 0.065 | |
| nrow | 0.037 | 0.000 | 0.061 | |
| readGCTX | 0.097 | 0.004 | 0.124 | |
| rownames | 0.044 | 0.000 | 0.069 | |
| rzs | 13.543 | 0.184 | 14.387 | |
| subset | 0.050 | 0.000 | 0.075 | |