| Back to Multiple platform build/check report for BioC 3.9 | 
  | 
This page was generated on 2019-04-09 13:28:41 -0400 (Tue, 09 Apr 2019).
| Package 1411/1703 | Hostname | OS / Arch | INSTALL | BUILD | CHECK | BUILD BIN | ||||||
| rTRMui 1.21.0 Diego Diez 
  | malbec2 | Linux (Ubuntu 18.04.2 LTS) / x86_64 | OK | OK | OK | |||||||
| tokay2 | Windows Server 2012 R2 Standard / x64 | OK | OK | OK | OK | |||||||
| celaya2 | OS X 10.11.6 El Capitan / x86_64 | OK | OK | OK | OK | |||||||
| merida2 | OS X 10.11.6 El Capitan / x86_64 | OK | OK | OK | [ OK ] | 
| Package: rTRMui | 
| Version: 1.21.0 | 
| Command: rm -rf rTRMui.buildbin-libdir && mkdir rTRMui.buildbin-libdir && /Users/biocbuild/BBS/utils/build-universal.sh rTRMui_1.21.0.tar.gz /Library/Frameworks/R.framework/Versions/Current/Resources/bin/R rTRMui.buildbin-libdir | 
| StartedAt: 2019-04-09 06:24:30 -0400 (Tue, 09 Apr 2019) | 
| EndedAt: 2019-04-09 06:25:41 -0400 (Tue, 09 Apr 2019) | 
| EllapsedTime: 70.5 seconds | 
| RetCode: 0 | 
| Status: OK | 
| PackageFile: rTRMui_1.21.0.tgz | 
| PackageFileSize: 788.4 KiB | 
##############################################################################
##############################################################################
###
### Running command:
###
###   rm -rf rTRMui.buildbin-libdir && mkdir rTRMui.buildbin-libdir && /Users/biocbuild/BBS/utils/build-universal.sh rTRMui_1.21.0.tar.gz /Library/Frameworks/R.framework/Versions/Current/Resources/bin/R rTRMui.buildbin-libdir
###
##############################################################################
##############################################################################
>>>>>>> 
>>>>>>> INSTALLATION WITH 'R CMD INSTALL --preclean --no-multiarch --library=rTRMui.buildbin-libdir rTRMui_1.21.0.tar.gz'
>>>>>>> 
* installing *source* package ‘rTRMui’ ...
** R
** inst
** byte-compile and prepare package for lazy loading
See system.file("LICENSE", package="MotifDb") for use restrictions.
** help
*** installing help indices
** building package indices
** installing vignettes
** testing if installed package can be loaded
See system.file("LICENSE", package="MotifDb") for use restrictions.
* DONE (rTRMui)