| Back to Multiple platform build/check report for BioC 3.9 | 
  | 
This page was generated on 2019-10-16 12:52:03 -0400 (Wed, 16 Oct 2019).
| Package 1438/1741 | Hostname | OS / Arch | INSTALL | BUILD | CHECK | BUILD BIN | ||||||
| rTRMui 1.22.0 Diego Diez 
  | malbec2 | Linux (Ubuntu 18.04.2 LTS) / x86_64 | OK | OK | OK | |||||||
| tokay2 | Windows Server 2012 R2 Standard / x64 | OK | OK | OK | OK | |||||||
| celaya2 | OS X 10.11.6 El Capitan / x86_64 | OK | OK | OK | [ OK ] | 
| Package: rTRMui | 
| Version: 1.22.0 | 
| Command: rm -rf rTRMui.buildbin-libdir && mkdir rTRMui.buildbin-libdir && /Users/biocbuild/BBS/utils/build-universal.sh rTRMui_1.22.0.tar.gz /Library/Frameworks/R.framework/Versions/Current/Resources/bin/R rTRMui.buildbin-libdir | 
| StartedAt: 2019-10-16 09:20:45 -0400 (Wed, 16 Oct 2019) | 
| EndedAt: 2019-10-16 09:21:53 -0400 (Wed, 16 Oct 2019) | 
| EllapsedTime: 67.7 seconds | 
| RetCode: 0 | 
| Status: OK | 
| PackageFile: rTRMui_1.22.0.tgz | 
| PackageFileSize: 788.5 KiB | 
##############################################################################
##############################################################################
###
### Running command:
###
###   rm -rf rTRMui.buildbin-libdir && mkdir rTRMui.buildbin-libdir && /Users/biocbuild/BBS/utils/build-universal.sh rTRMui_1.22.0.tar.gz /Library/Frameworks/R.framework/Versions/Current/Resources/bin/R rTRMui.buildbin-libdir
###
##############################################################################
##############################################################################
>>>>>>> 
>>>>>>> INSTALLATION WITH 'R CMD INSTALL --preclean --no-multiarch --library=rTRMui.buildbin-libdir rTRMui_1.22.0.tar.gz'
>>>>>>> 
* installing *source* package ‘rTRMui’ ...
** using staged installation
** R
** inst
** byte-compile and prepare package for lazy loading
See system.file("LICENSE", package="MotifDb") for use restrictions.
** help
*** installing help indices
** building package indices
** installing vignettes
** testing if installed package can be loaded from temporary location
See system.file("LICENSE", package="MotifDb") for use restrictions.
** testing if installed package can be loaded from final location
See system.file("LICENSE", package="MotifDb") for use restrictions.
** testing if installed package keeps a record of temporary installation path
* DONE (rTRMui)