| Back to Multiple platform build/check report for BioC 3.9 |
|
This page was generated on 2019-10-16 12:26:33 -0400 (Wed, 16 Oct 2019).
| Package 576/1741 | Hostname | OS / Arch | INSTALL | BUILD | CHECK | BUILD BIN | ||||||
Josef Spidlen
| malbec2 | Linux (Ubuntu 18.04.2 LTS) / x86_64 | ERROR | ERROR | skipped | |||||||
| tokay2 | Windows Server 2012 R2 Standard / x64 | [ ERROR ] | ERROR | skipped | skipped | |||||||
| celaya2 | OS X 10.11.6 El Capitan / x86_64 | ERROR | ERROR | skipped | skipped |
| Package: flowQB |
| Version: 2.12.0 |
| Command: C:\cygwin\bin\curl.exe -O https://malbec2.bioconductor.org/BBS/3.9/bioc/src/contrib/flowQB_2.12.0.tar.gz && rm -rf flowQB.buildbin-libdir && mkdir flowQB.buildbin-libdir && C:\Users\biocbuild\bbs-3.9-bioc\R\bin\R.exe CMD INSTALL --merge-multiarch --build --library=flowQB.buildbin-libdir flowQB_2.12.0.tar.gz && C:\Users\biocbuild\bbs-3.9-bioc\R\bin\R.exe CMD INSTALL flowQB_2.12.0.zip && rm flowQB_2.12.0.tar.gz flowQB_2.12.0.zip |
| StartedAt: 2019-10-15 19:26:45 -0400 (Tue, 15 Oct 2019) |
| EndedAt: 2019-10-15 19:26:49 -0400 (Tue, 15 Oct 2019) |
| EllapsedTime: 3.2 seconds |
| RetCode: 1 |
| Status: ERROR |
##############################################################################
##############################################################################
###
### Running command:
###
### C:\cygwin\bin\curl.exe -O https://malbec2.bioconductor.org/BBS/3.9/bioc/src/contrib/flowQB_2.12.0.tar.gz && rm -rf flowQB.buildbin-libdir && mkdir flowQB.buildbin-libdir && C:\Users\biocbuild\bbs-3.9-bioc\R\bin\R.exe CMD INSTALL --merge-multiarch --build --library=flowQB.buildbin-libdir flowQB_2.12.0.tar.gz && C:\Users\biocbuild\bbs-3.9-bioc\R\bin\R.exe CMD INSTALL flowQB_2.12.0.zip && rm flowQB_2.12.0.tar.gz flowQB_2.12.0.zip
###
##############################################################################
##############################################################################
% Total % Received % Xferd Average Speed Time Time Time Current
Dload Upload Total Spent Left Speed
0 0 0 0 0 0 0 0 --:--:-- --:--:-- --:--:-- 0
100 54759 100 54759 0 0 645k 0 --:--:-- --:--:-- --:--:-- 703k
install for i386
* installing *source* package 'flowQB' ...
** using staged installation
** R
Error in .install_package_code_files(".", instdir) :
files in 'C:/Users/biocbuild/bbs-3.9-bioc/tmpdir/RtmpqYHVDU/R.INSTALL1088b6946/flowQB/R' missing from 'Collate' field:
zzz.R
ERROR: unable to collate and parse R files for package 'flowQB'
* removing 'C:/Users/biocbuild/bbs-3.9-bioc/meat/flowQB.buildbin-libdir/flowQB'