| Back to Multiple platform build/check report for BioC 3.9 |
|
This page was generated on 2019-10-16 12:01:14 -0400 (Wed, 16 Oct 2019).
| Package 576/1741 | Hostname | OS / Arch | INSTALL | BUILD | CHECK | BUILD BIN | ||||||
Josef Spidlen
| malbec2 | Linux (Ubuntu 18.04.2 LTS) / x86_64 | [ ERROR ] | ERROR | skipped | |||||||
| tokay2 | Windows Server 2012 R2 Standard / x64 | ERROR | ERROR | skipped | skipped | |||||||
| celaya2 | OS X 10.11.6 El Capitan / x86_64 | ERROR | ERROR | skipped | skipped |
| Package: flowQB |
| Version: 2.12.0 |
| Command: /home/biocbuild/bbs-3.9-bioc/R/bin/R CMD INSTALL flowQB |
| StartedAt: 2019-10-15 18:38:35 -0400 (Tue, 15 Oct 2019) |
| EndedAt: 2019-10-15 18:38:36 -0400 (Tue, 15 Oct 2019) |
| EllapsedTime: 1.0 seconds |
| RetCode: 1 |
| Status: ERROR |
##############################################################################
##############################################################################
###
### Running command:
###
### /home/biocbuild/bbs-3.9-bioc/R/bin/R CMD INSTALL flowQB
###
##############################################################################
##############################################################################
* installing to library ‘/home/biocbuild/bbs-3.9-bioc/R/library’
* installing *source* package ‘flowQB’ ...
** using staged installation
** R
Error in .install_package_code_files(".", instdir) :
files in '/home/biocbuild/bbs-3.9-bioc/meat/flowQB/R' missing from 'Collate' field:
zzz.R
ERROR: unable to collate and parse R files for package ‘flowQB’
* removing ‘/home/biocbuild/bbs-3.9-bioc/R/library/flowQB’
* restoring previous ‘/home/biocbuild/bbs-3.9-bioc/R/library/flowQB’