| Back to Multiple platform build/check report for BioC 3.9 |
|
This page was generated on 2018-10-29 10:28:59 -0400 (Mon, 29 Oct 2018).
| Package 500/1642 | Hostname | OS / Arch | INSTALL | BUILD | CHECK | BUILD BIN | ||||||
David Mosen-Ansorena
| malbec2 | Linux (Ubuntu 16.04.1 LTS) / x86_64 | ERROR | ERROR | skipped | |||||||
| tokay2 | Windows Server 2012 R2 Standard / x64 | ERROR | [ ERROR ] | skipped | skipped | |||||||
| merida2 | OS X 10.11.6 El Capitan / x86_64 | ERROR | ERROR | skipped | skipped |
| Package: facopy |
| Version: 1.15.4 |
| Command: chmod a+r facopy -R && C:\Users\biocbuild\bbs-3.9-bioc\R\bin\R.exe CMD build --keep-empty-dirs --no-resave-data facopy |
| StartedAt: 2018-10-28 23:14:02 -0400 (Sun, 28 Oct 2018) |
| EndedAt: 2018-10-28 23:14:11 -0400 (Sun, 28 Oct 2018) |
| EllapsedTime: 8.8 seconds |
| RetCode: 1 |
| Status: ERROR |
| PackageFile: facopy_1.15.4.tar.gz |
| PackageFileSize: 461.3 KiB |
##############################################################################
##############################################################################
###
### Running command:
###
### chmod a+r facopy -R && C:\Users\biocbuild\bbs-3.9-bioc\R\bin\R.exe CMD build --keep-empty-dirs --no-resave-data facopy
###
##############################################################################
##############################################################################
* checking for file 'facopy/DESCRIPTION' ... OK
* preparing 'facopy':
* checking DESCRIPTION meta-information ... OK
* installing the package to build vignettes
-----------------------------------
* installing *source* package 'facopy' ...
** R
** data
** inst
** byte-compile and prepare package for lazy loading
Error : object 'setting.graph.attributes' is not exported by 'namespace:DOSE'
ERROR: lazy loading failed for package 'facopy'
* removing 'C:/Users/biocbuild/bbs-3.9-bioc/tmpdir/RtmpSwNbol/Rinst25944d5c26fc/facopy'
In R CMD INSTALL
-----------------------------------
ERROR: package installation failed