| Back to Multiple platform build/check report for BioC 3.9 |
|
This page was generated on 2018-10-29 10:45:40 -0400 (Mon, 29 Oct 2018).
| Package 500/1642 | Hostname | OS / Arch | INSTALL | BUILD | CHECK | BUILD BIN | ||||||
David Mosen-Ansorena
| malbec2 | Linux (Ubuntu 16.04.1 LTS) / x86_64 | ERROR | ERROR | skipped | |||||||
| tokay2 | Windows Server 2012 R2 Standard / x64 | ERROR | ERROR | skipped | skipped | |||||||
| merida2 | OS X 10.11.6 El Capitan / x86_64 | ERROR | [ ERROR ] | skipped | skipped |
| Package: facopy |
| Version: 1.15.4 |
| Command: /Library/Frameworks/R.framework/Versions/Current/Resources/bin/R CMD build --keep-empty-dirs --no-resave-data facopy |
| StartedAt: 2018-10-28 21:26:29 -0400 (Sun, 28 Oct 2018) |
| EndedAt: 2018-10-28 21:26:40 -0400 (Sun, 28 Oct 2018) |
| EllapsedTime: 11.9 seconds |
| RetCode: 1 |
| Status: ERROR |
| PackageFile: None |
| PackageFileSize: NA |
##############################################################################
##############################################################################
###
### Running command:
###
### /Library/Frameworks/R.framework/Versions/Current/Resources/bin/R CMD build --keep-empty-dirs --no-resave-data facopy
###
##############################################################################
##############################################################################
* checking for file ‘facopy/DESCRIPTION’ ... OK
* preparing ‘facopy’:
* checking DESCRIPTION meta-information ... OK
* installing the package to build vignettes
-----------------------------------
* installing *source* package ‘facopy’ ...
** R
** data
** inst
** byte-compile and prepare package for lazy loading
Warning: S3 methods ‘ggplot2::autoplot.zoo’, ‘ggplot2::fortify.zoo’ were declared in NAMESPACE but not found
Warning: S3 method ‘xts::as.xts.data.table’ was declared in NAMESPACE but not found
Error : object ‘setting.graph.attributes’ is not exported by 'namespace:DOSE'
ERROR: lazy loading failed for package ‘facopy’
* removing ‘/private/tmp/RtmpOdnFYI/Rinst14b936ad1b09e/facopy’
-----------------------------------
ERROR: package installation failed