| Back to Multiple platform build/check report for BioC 3.9 |
|
This page was generated on 2019-04-09 13:31:12 -0400 (Tue, 09 Apr 2019).
| Package 100/1703 | Hostname | OS / Arch | INSTALL | BUILD | CHECK | BUILD BIN | ||||||
| bamsignals 1.15.0 Alessandro Mammana
| malbec2 | Linux (Ubuntu 18.04.2 LTS) / x86_64 | OK | OK | OK | |||||||
| tokay2 | Windows Server 2012 R2 Standard / x64 | OK | OK | OK | OK | |||||||
| celaya2 | OS X 10.11.6 El Capitan / x86_64 | OK | OK | OK | OK | |||||||
| merida2 | OS X 10.11.6 El Capitan / x86_64 | OK | OK | [ OK ] | OK |
| Package: bamsignals |
| Version: 1.15.0 |
| Command: /Library/Frameworks/R.framework/Versions/Current/Resources/bin/R CMD check --install=check:bamsignals.install-out.txt --library=/Library/Frameworks/R.framework/Versions/Current/Resources/library --no-vignettes --timings bamsignals_1.15.0.tar.gz |
| StartedAt: 2019-04-08 23:21:04 -0400 (Mon, 08 Apr 2019) |
| EndedAt: 2019-04-08 23:23:11 -0400 (Mon, 08 Apr 2019) |
| EllapsedTime: 127.6 seconds |
| RetCode: 0 |
| Status: OK |
| CheckDir: bamsignals.Rcheck |
| Warnings: 0 |
############################################################################## ############################################################################## ### ### Running command: ### ### /Library/Frameworks/R.framework/Versions/Current/Resources/bin/R CMD check --install=check:bamsignals.install-out.txt --library=/Library/Frameworks/R.framework/Versions/Current/Resources/library --no-vignettes --timings bamsignals_1.15.0.tar.gz ### ############################################################################## ############################################################################## * using log directory ‘/Users/biocbuild/bbs-3.9-bioc/meat/bamsignals.Rcheck’ * using R Under development (unstable) (2018-11-27 r75683) * using platform: x86_64-apple-darwin15.6.0 (64-bit) * using session charset: UTF-8 * using option ‘--no-vignettes’ * checking for file ‘bamsignals/DESCRIPTION’ ... OK * checking extension type ... Package * this is package ‘bamsignals’ version ‘1.15.0’ * checking package namespace information ... OK * checking package dependencies ... OK * checking if this is a source package ... OK * checking if there is a namespace ... OK * checking for hidden files and directories ... OK * checking for portable file names ... OK * checking for sufficient/correct file permissions ... OK * checking whether package ‘bamsignals’ can be installed ... OK * checking installed package size ... OK * checking package directory ... OK * checking ‘build’ directory ... OK * checking DESCRIPTION meta-information ... OK * checking top-level files ... OK * checking for left-over files ... OK * checking index information ... OK * checking package subdirectories ... OK * checking R files for non-ASCII characters ... OK * checking R files for syntax errors ... OK * checking whether the package can be loaded ... OK * checking whether the package can be loaded with stated dependencies ... OK * checking whether the package can be unloaded cleanly ... OK * checking whether the namespace can be loaded with stated dependencies ... OK * checking whether the namespace can be unloaded cleanly ... OK * checking dependencies in R code ... OK * checking S3 generic/method consistency ... OK * checking replacement functions ... OK * checking foreign function calls ... OK * checking R code for possible problems ... OK * checking Rd files ... OK * checking Rd metadata ... OK * checking Rd cross-references ... OK * checking for missing documentation entries ... OK * checking for code/documentation mismatches ... OK * checking Rd \usage sections ... OK * checking Rd contents ... OK * checking for unstated dependencies in examples ... OK * checking line endings in C/C++/Fortran sources/headers ... OK * checking line endings in Makefiles ... OK * checking compilation flags in Makevars ... OK * checking for GNU extensions in Makefiles ... OK * checking for portable use of $(BLAS_LIBS) and $(LAPACK_LIBS) ... OK * checking compiled code ... NOTE Note: information on .o files is not available File ‘/Library/Frameworks/R.framework/Versions/3.6/Resources/library/bamsignals/libs/bamsignals.so’: Found ‘___assert_rtn’, possibly from ‘assert’ (C) Found ‘___stderrp’, possibly from ‘stderr’ (C) Found ‘___stdoutp’, possibly from ‘stdout’ (C) Found ‘_abort’, possibly from ‘abort’ (C) Found ‘_exit’, possibly from ‘exit’ (C) Found ‘_printf’, possibly from ‘printf’ (C) Found ‘_putchar’, possibly from ‘putchar’ (C) Found ‘_puts’, possibly from ‘printf’ (C), ‘puts’ (C) Found ‘_srand48’, possibly from ‘srand48’ (C) Compiled code should not call entry points which might terminate R nor write to stdout/stderr instead of to the console, nor use Fortran I/O nor system RNGs. The detected symbols are linked into the code but might come from libraries and not actually be called. See ‘Writing portable packages’ in the ‘Writing R Extensions’ manual. * checking files in ‘vignettes’ ... OK * checking examples ... OK * checking for unstated dependencies in ‘tests’ ... OK * checking tests ... Running ‘testthat.R’ OK * checking for unstated dependencies in vignettes ... OK * checking package vignettes in ‘inst/doc’ ... OK * checking running R code from vignettes ... SKIPPED * checking re-building of vignette outputs ... SKIPPED * checking PDF version of manual ... OK * DONE Status: 1 NOTE See ‘/Users/biocbuild/bbs-3.9-bioc/meat/bamsignals.Rcheck/00check.log’ for details.
bamsignals.Rcheck/00install.out
##############################################################################
##############################################################################
###
### Running command:
###
### /Library/Frameworks/R.framework/Versions/Current/Resources/bin/R CMD INSTALL bamsignals
###
##############################################################################
##############################################################################
* installing to library ‘/Library/Frameworks/R.framework/Versions/3.6/Resources/library’
* installing *source* package ‘bamsignals’ ...
** libs
clang++ -std=gnu++11 -I"/Library/Frameworks/R.framework/Resources/include" -DNDEBUG -I"/Library/Frameworks/R.framework/Versions/3.6/Resources/library/Rcpp/include" -I"/Library/Frameworks/R.framework/Versions/3.6/Resources/library/Rhtslib/include" -I"/Library/Frameworks/R.framework/Versions/3.6/Resources/library/zlibbioc/include" -I/usr/local/include -fPIC -Wall -g -O2 -c CountSignals.cpp -o CountSignals.o
clang++ -std=gnu++11 -I"/Library/Frameworks/R.framework/Resources/include" -DNDEBUG -I"/Library/Frameworks/R.framework/Versions/3.6/Resources/library/Rcpp/include" -I"/Library/Frameworks/R.framework/Versions/3.6/Resources/library/Rhtslib/include" -I"/Library/Frameworks/R.framework/Versions/3.6/Resources/library/zlibbioc/include" -I/usr/local/include -fPIC -Wall -g -O2 -c RcppExports.cpp -o RcppExports.o
clang++ -std=gnu++11 -I"/Library/Frameworks/R.framework/Resources/include" -DNDEBUG -I"/Library/Frameworks/R.framework/Versions/3.6/Resources/library/Rcpp/include" -I"/Library/Frameworks/R.framework/Versions/3.6/Resources/library/Rhtslib/include" -I"/Library/Frameworks/R.framework/Versions/3.6/Resources/library/zlibbioc/include" -I/usr/local/include -fPIC -Wall -g -O2 -c bamsignals.cpp -o bamsignals.o
bamsignals.cpp:521:9: warning: ignoring return value of function declared with 'warn_unused_result' attribute [-Wunused-result]
bam_write1(out->fp.bgzf, b); // write the alignment to `out'
^˜˜˜˜˜˜˜˜˜ ˜˜˜˜˜˜˜˜˜˜˜˜˜˜˜
bamsignals.cpp:516:5: warning: ignoring return value of function declared with 'warn_unused_result' attribute [-Wunused-result]
sam_hdr_write(out, header);
^˜˜˜˜˜˜˜˜˜˜˜˜ ˜˜˜˜˜˜˜˜˜˜˜
bamsignals.cpp:530:5: warning: ignoring return value of function declared with 'warn_unused_result' attribute [-Wunused-result]
bam_index_build(bampath.c_str(), 0);
^˜˜˜˜˜˜˜˜˜˜˜˜˜˜˜˜˜˜˜˜˜˜˜˜˜˜˜˜˜˜˜˜˜˜
/Library/Frameworks/R.framework/Versions/3.6/Resources/library/Rhtslib/include/htslib/sam.h:320:41: note: expanded from macro 'bam_index_build'
#define bam_index_build(fn, min_shift) (sam_index_build((fn), (min_shift)))
^˜˜˜˜˜˜˜˜˜˜˜˜˜˜ ˜˜˜˜˜˜˜˜˜˜˜˜˜˜˜˜˜
3 warnings generated.
clang -I"/Library/Frameworks/R.framework/Resources/include" -DNDEBUG -I"/Library/Frameworks/R.framework/Versions/3.6/Resources/library/Rcpp/include" -I"/Library/Frameworks/R.framework/Versions/3.6/Resources/library/Rhtslib/include" -I"/Library/Frameworks/R.framework/Versions/3.6/Resources/library/zlibbioc/include" -I/usr/local/include -fPIC -Wall -g -O2 -c bamsignals_init.c -o bamsignals_init.o
clang++ -std=gnu++11 -dynamiclib -Wl,-headerpad_max_install_names -undefined dynamic_lookup -single_module -multiply_defined suppress -L/Library/Frameworks/R.framework/Resources/lib -L/usr/local/lib -o bamsignals.so CountSignals.o RcppExports.o bamsignals.o bamsignals_init.o /Library/Frameworks/R.framework/Versions/3.6/Resources/library/Rhtslib/usrlib/libhts.a -F/Library/Frameworks/R.framework/.. -framework R -Wl,-framework -Wl,CoreFoundation
installing to /Library/Frameworks/R.framework/Versions/3.6/Resources/library/bamsignals/libs
** R
** inst
** byte-compile and prepare package for lazy loading
** help
*** installing help indices
** building package indices
** installing vignettes
** testing if installed package can be loaded
* DONE (bamsignals)
bamsignals.Rcheck/tests/testthat.Rout
R Under development (unstable) (2018-11-27 r75683) -- "Unsuffered Consequences"
Copyright (C) 2018 The R Foundation for Statistical Computing
Platform: x86_64-apple-darwin15.6.0 (64-bit)
R is free software and comes with ABSOLUTELY NO WARRANTY.
You are welcome to redistribute it under certain conditions.
Type 'license()' or 'licence()' for distribution details.
R is a collaborative project with many contributors.
Type 'contributors()' for more information and
'citation()' on how to cite R or R packages in publications.
Type 'demo()' for some demos, 'help()' for on-line help, or
'help.start()' for an HTML browser interface to help.
Type 'q()' to quit R.
> library("testthat")
> library("bamsignals")
>
> test_check("bamsignals")
══ testthat results ═══════════════════════════════════════════════════════════
OK: 164 SKIPPED: 0 FAILED: 0
>
> proc.time()
user system elapsed
34.924 2.628 37.841
bamsignals.Rcheck/bamsignals-Ex.timings
| name | user | system | elapsed | |
| CountSignals-class | 0.181 | 0.017 | 0.204 | |
| bamsignals-methods | 0.343 | 0.036 | 0.384 | |