| Back to Multiple platform build/check report for BioC 3.9 |
|
This page was generated on 2019-10-16 12:12:00 -0400 (Wed, 16 Oct 2019).
| Package 49/1741 | Hostname | OS / Arch | INSTALL | BUILD | CHECK | BUILD BIN | ||||||
| amplican 1.6.2 Eivind Valen
| malbec2 | Linux (Ubuntu 18.04.2 LTS) / x86_64 | OK | OK | [ OK ] | |||||||
| tokay2 | Windows Server 2012 R2 Standard / x64 | OK | OK | OK | OK | |||||||
| celaya2 | OS X 10.11.6 El Capitan / x86_64 | OK | OK | OK | OK |
| Package: amplican |
| Version: 1.6.2 |
| Command: /home/biocbuild/bbs-3.9-bioc/R/bin/R CMD check --install=check:amplican.install-out.txt --library=/home/biocbuild/bbs-3.9-bioc/R/library --no-vignettes --timings amplican_1.6.2.tar.gz |
| StartedAt: 2019-10-15 23:42:53 -0400 (Tue, 15 Oct 2019) |
| EndedAt: 2019-10-15 23:45:47 -0400 (Tue, 15 Oct 2019) |
| EllapsedTime: 173.6 seconds |
| RetCode: 0 |
| Status: OK |
| CheckDir: amplican.Rcheck |
| Warnings: 0 |
##############################################################################
##############################################################################
###
### Running command:
###
### /home/biocbuild/bbs-3.9-bioc/R/bin/R CMD check --install=check:amplican.install-out.txt --library=/home/biocbuild/bbs-3.9-bioc/R/library --no-vignettes --timings amplican_1.6.2.tar.gz
###
##############################################################################
##############################################################################
* using log directory ‘/home/biocbuild/bbs-3.9-bioc/meat/amplican.Rcheck’
* using R version 3.6.1 (2019-07-05)
* using platform: x86_64-pc-linux-gnu (64-bit)
* using session charset: UTF-8
* using option ‘--no-vignettes’
* checking for file ‘amplican/DESCRIPTION’ ... OK
* checking extension type ... Package
* this is package ‘amplican’ version ‘1.6.2’
* package encoding: UTF-8
* checking package namespace information ... OK
* checking package dependencies ... OK
* checking if this is a source package ... OK
* checking if there is a namespace ... OK
* checking for hidden files and directories ... OK
* checking for portable file names ... OK
* checking for sufficient/correct file permissions ... OK
* checking whether package ‘amplican’ can be installed ... OK
* checking installed package size ... OK
* checking package directory ... OK
* checking ‘build’ directory ... OK
* checking DESCRIPTION meta-information ... OK
* checking top-level files ... OK
* checking for left-over files ... OK
* checking index information ... OK
* checking package subdirectories ... OK
* checking R files for non-ASCII characters ... OK
* checking R files for syntax errors ... OK
* checking whether the package can be loaded ... OK
* checking whether the package can be loaded with stated dependencies ... OK
* checking whether the package can be unloaded cleanly ... OK
* checking whether the namespace can be loaded with stated dependencies ... OK
* checking whether the namespace can be unloaded cleanly ... OK
* checking dependencies in R code ... OK
* checking S3 generic/method consistency ... OK
* checking replacement functions ... OK
* checking foreign function calls ... OK
* checking R code for possible problems ... OK
* checking Rd files ... OK
* checking Rd metadata ... OK
* checking Rd cross-references ... OK
* checking for missing documentation entries ... OK
* checking for code/documentation mismatches ... OK
* checking Rd \usage sections ... OK
* checking Rd contents ... OK
* checking for unstated dependencies in examples ... OK
* checking line endings in C/C++/Fortran sources/headers ... OK
* checking compiled code ... NOTE
Note: information on .o files is not available
* checking files in ‘vignettes’ ... OK
* checking examples ... OK
Examples with CPU or elapsed time > 5s
user system elapsed
amplicanPipeline 17.628 0.093 6.323
amplicanAlign 7.913 0.362 8.489
amplicanConsensus 5.710 0.012 0.915
amplicanSummarize 5.075 0.040 0.842
* checking for unstated dependencies in ‘tests’ ... OK
* checking tests ...
Running ‘testthat.R’
OK
* checking for unstated dependencies in vignettes ... OK
* checking package vignettes in ‘inst/doc’ ... OK
* checking running R code from vignettes ... SKIPPED
* checking re-building of vignette outputs ... SKIPPED
* checking PDF version of manual ... OK
* DONE
Status: 1 NOTE
See
‘/home/biocbuild/bbs-3.9-bioc/meat/amplican.Rcheck/00check.log’
for details.
amplican.Rcheck/00install.out
############################################################################## ############################################################################## ### ### Running command: ### ### /home/biocbuild/bbs-3.9-bioc/R/bin/R CMD INSTALL amplican ### ############################################################################## ############################################################################## * installing to library ‘/home/biocbuild/bbs-3.9-bioc/R/library’ * installing *source* package ‘amplican’ ... ** using staged installation ** libs g++ -std=gnu++11 -I"/home/biocbuild/bbs-3.9-bioc/R/include" -DNDEBUG -I"/home/biocbuild/bbs-3.9-bioc/R/library/Rcpp/include" -I/usr/local/include -fpic -g -O2 -Wall -c RcppExports.cpp -o RcppExports.o g++ -std=gnu++11 -I"/home/biocbuild/bbs-3.9-bioc/R/include" -DNDEBUG -I"/home/biocbuild/bbs-3.9-bioc/R/library/Rcpp/include" -I/usr/local/include -fpic -g -O2 -Wall -c bezier.cpp -o bezier.o g++ -std=gnu++11 -shared -L/home/biocbuild/bbs-3.9-bioc/R/lib -L/usr/local/lib -o amplican.so RcppExports.o bezier.o -L/home/biocbuild/bbs-3.9-bioc/R/lib -lR installing to /home/biocbuild/bbs-3.9-bioc/R/library/00LOCK-amplican/00new/amplican/libs ** R ** inst ** byte-compile and prepare package for lazy loading ** help *** installing help indices ** building package indices ** installing vignettes ** testing if installed package can be loaded from temporary location ** checking absolute paths in shared objects and dynamic libraries ** testing if installed package can be loaded from final location ** testing if installed package keeps a record of temporary installation path * DONE (amplican)
amplican.Rcheck/tests/testthat.Rout
R version 3.6.1 (2019-07-05) -- "Action of the Toes"
Copyright (C) 2019 The R Foundation for Statistical Computing
Platform: x86_64-pc-linux-gnu (64-bit)
R is free software and comes with ABSOLUTELY NO WARRANTY.
You are welcome to redistribute it under certain conditions.
Type 'license()' or 'licence()' for distribution details.
R is a collaborative project with many contributors.
Type 'contributors()' for more information and
'citation()' on how to cite R or R packages in publications.
Type 'demo()' for some demos, 'help()' for on-line help, or
'help.start()' for an HTML browser interface to help.
Type 'q()' to quit R.
> library(testthat)
> library(amplican)
Loading required package: BiocGenerics
Loading required package: parallel
Attaching package: 'BiocGenerics'
The following objects are masked from 'package:parallel':
clusterApply, clusterApplyLB, clusterCall, clusterEvalQ,
clusterExport, clusterMap, parApply, parCapply, parLapply,
parLapplyLB, parRapply, parSapply, parSapplyLB
The following objects are masked from 'package:stats':
IQR, mad, sd, var, xtabs
The following objects are masked from 'package:base':
Filter, Find, Map, Position, Reduce, anyDuplicated, append,
as.data.frame, basename, cbind, colnames, dirname, do.call,
duplicated, eval, evalq, get, grep, grepl, intersect, is.unsorted,
lapply, mapply, match, mget, order, paste, pmax, pmax.int, pmin,
pmin.int, rank, rbind, rownames, sapply, setdiff, sort, table,
tapply, union, unique, unsplit, which, which.max, which.min
Loading required package: Biostrings
Loading required package: S4Vectors
Loading required package: stats4
Attaching package: 'S4Vectors'
The following object is masked from 'package:base':
expand.grid
Loading required package: IRanges
Loading required package: XVector
Attaching package: 'Biostrings'
The following object is masked from 'package:base':
strsplit
Loading required package: data.table
Attaching package: 'data.table'
The following object is masked from 'package:IRanges':
shift
The following objects are masked from 'package:S4Vectors':
first, second
Pease consider supporting this software by citing:
Labun et al. 2019
Accurate analysis of genuine CRISPR editing events with ampliCan.
Genome Res. 2019 Mar 8
doi: 10.1101/gr.244293.118
Without appreciation scientific software is usually abandoned and eventually deprecated, but you can easily support authors by citations.
>
> test_check("amplican")
══ testthat results ═══════════════════════════════════════════════════════════
[ OK: 56 | SKIPPED: 0 | WARNINGS: 3 | FAILED: 0 ]
>
> proc.time()
user system elapsed
51.887 0.828 31.078
amplican.Rcheck/amplican-Ex.timings
| name | user | system | elapsed | |
| AlignmentsExperimentSet-class | 2.109 | 0.076 | 2.185 | |
| amplicanAlign | 7.913 | 0.362 | 8.489 | |
| amplicanConsensus | 5.710 | 0.012 | 0.915 | |
| amplicanFilter | 4.625 | 0.017 | 0.729 | |
| amplicanMap | 0.204 | 0.004 | 0.207 | |
| amplicanNormalize | 4.244 | 0.016 | 0.723 | |
| amplicanOverlap | 0.178 | 0.007 | 0.040 | |
| amplicanPipeline | 17.628 | 0.093 | 6.323 | |
| amplicanReport | 0.009 | 0.012 | 0.021 | |
| amplicanSummarize | 5.075 | 0.040 | 0.842 | |
| amplican_print_reads | 0.379 | 0.004 | 0.397 | |
| assignedCount | 0.039 | 0.000 | 0.052 | |
| barcodeData-set | 0.01 | 0.00 | 0.01 | |
| barcodeData | 0.011 | 0.000 | 0.011 | |
| comb_along | 0.033 | 0.000 | 0.033 | |
| experimentData-set | 0.005 | 0.004 | 0.009 | |
| experimentData | 0.015 | 0.000 | 0.015 | |
| extractEvents | 2.276 | 0.028 | 2.305 | |
| findEOP | 0.003 | 0.000 | 0.003 | |
| findLQR | 0.004 | 0.000 | 0.004 | |
| findPD | 0.031 | 0.000 | 0.004 | |
| fwdReads-set | 0.005 | 0.000 | 0.005 | |
| fwdReads | 0.275 | 0.000 | 0.275 | |
| fwdReadsType-set | 0.006 | 0.000 | 0.005 | |
| fwdReadsType | 0.004 | 0.000 | 0.004 | |
| geom_bezier | 0.312 | 0.004 | 0.316 | |
| lookupAlignment | 0.195 | 0.000 | 0.195 | |
| metaplot_deletions | 1.141 | 0.004 | 0.473 | |
| metaplot_insertions | 0.890 | 0.000 | 0.504 | |
| metaplot_mismatches | 1.019 | 0.000 | 0.526 | |
| plot_cuts | 0.772 | 0.007 | 0.530 | |
| plot_deletions | 1.085 | 0.004 | 0.503 | |
| plot_height | 0.001 | 0.000 | 0.001 | |
| plot_heterogeneity | 4.100 | 0.015 | 1.072 | |
| plot_insertions | 1.188 | 0.004 | 0.695 | |
| plot_mismatches | 1.293 | 0.000 | 0.801 | |
| plot_variants | 4.781 | 0.016 | 1.735 | |
| readCounts-set | 0.009 | 0.000 | 0.008 | |
| readCounts | 0.007 | 0.000 | 0.007 | |
| rveReads-set | 0.008 | 0.000 | 0.009 | |
| rveReads | 0.463 | 0.004 | 0.466 | |
| rveReadsType-set | 0.009 | 0.000 | 0.009 | |
| rveReadsType | 0.008 | 0.000 | 0.008 | |
| unassignedCount | 0.008 | 0.000 | 0.008 | |
| unassignedData-set | 0.009 | 0.000 | 0.009 | |
| unassignedData | 0.011 | 0.000 | 0.010 | |
| writeAlignments | 0.037 | 0.000 | 0.037 | |