| Back to Multiple platform build/check report for BioC 3.9 |
|
This page was generated on 2019-10-16 13:00:53 -0400 (Wed, 16 Oct 2019).
| Package 49/1741 | Hostname | OS / Arch | INSTALL | BUILD | CHECK | BUILD BIN | ||||||
| amplican 1.6.2 Eivind Valen
| malbec2 | Linux (Ubuntu 18.04.2 LTS) / x86_64 | OK | OK | OK | |||||||
| tokay2 | Windows Server 2012 R2 Standard / x64 | OK | OK | OK | OK | |||||||
| celaya2 | OS X 10.11.6 El Capitan / x86_64 | OK | OK | [ OK ] | OK |
| Package: amplican |
| Version: 1.6.2 |
| Command: /Library/Frameworks/R.framework/Versions/Current/Resources/bin/R CMD check --install=check:amplican.install-out.txt --library=/Library/Frameworks/R.framework/Versions/Current/Resources/library --no-vignettes --timings amplican_1.6.2.tar.gz |
| StartedAt: 2019-10-16 00:29:17 -0400 (Wed, 16 Oct 2019) |
| EndedAt: 2019-10-16 00:33:12 -0400 (Wed, 16 Oct 2019) |
| EllapsedTime: 234.9 seconds |
| RetCode: 0 |
| Status: OK |
| CheckDir: amplican.Rcheck |
| Warnings: 0 |
##############################################################################
##############################################################################
###
### Running command:
###
### /Library/Frameworks/R.framework/Versions/Current/Resources/bin/R CMD check --install=check:amplican.install-out.txt --library=/Library/Frameworks/R.framework/Versions/Current/Resources/library --no-vignettes --timings amplican_1.6.2.tar.gz
###
##############################################################################
##############################################################################
* using log directory ‘/Users/biocbuild/bbs-3.9-bioc/meat/amplican.Rcheck’
* using R version 3.6.1 (2019-07-05)
* using platform: x86_64-apple-darwin15.6.0 (64-bit)
* using session charset: UTF-8
* using option ‘--no-vignettes’
* checking for file ‘amplican/DESCRIPTION’ ... OK
* checking extension type ... Package
* this is package ‘amplican’ version ‘1.6.2’
* package encoding: UTF-8
* checking package namespace information ... OK
* checking package dependencies ... OK
* checking if this is a source package ... OK
* checking if there is a namespace ... OK
* checking for hidden files and directories ... OK
* checking for portable file names ... OK
* checking for sufficient/correct file permissions ... OK
* checking whether package ‘amplican’ can be installed ... OK
* checking installed package size ... OK
* checking package directory ... OK
* checking ‘build’ directory ... OK
* checking DESCRIPTION meta-information ... OK
* checking top-level files ... OK
* checking for left-over files ... OK
* checking index information ... OK
* checking package subdirectories ... OK
* checking R files for non-ASCII characters ... OK
* checking R files for syntax errors ... OK
* checking whether the package can be loaded ... OK
* checking whether the package can be loaded with stated dependencies ... OK
* checking whether the package can be unloaded cleanly ... OK
* checking whether the namespace can be loaded with stated dependencies ... OK
* checking whether the namespace can be unloaded cleanly ... OK
* checking dependencies in R code ... OK
* checking S3 generic/method consistency ... OK
* checking replacement functions ... OK
* checking foreign function calls ... OK
* checking R code for possible problems ... OK
* checking Rd files ... OK
* checking Rd metadata ... OK
* checking Rd cross-references ... OK
* checking for missing documentation entries ... OK
* checking for code/documentation mismatches ... OK
* checking Rd \usage sections ... OK
* checking Rd contents ... OK
* checking for unstated dependencies in examples ... OK
* checking line endings in C/C++/Fortran sources/headers ... OK
* checking compiled code ... NOTE
Note: information on .o files is not available
* checking files in ‘vignettes’ ... OK
* checking examples ... OK
Examples with CPU or elapsed time > 5s
user system elapsed
amplicanAlign 11.396 1.037 12.438
amplicanPipeline 7.364 1.308 5.466
extractEvents 4.833 0.190 5.023
* checking for unstated dependencies in ‘tests’ ... OK
* checking tests ...
Running ‘testthat.R’
OK
* checking for unstated dependencies in vignettes ... OK
* checking package vignettes in ‘inst/doc’ ... OK
* checking running R code from vignettes ... SKIPPED
* checking re-building of vignette outputs ... SKIPPED
* checking PDF version of manual ... OK
* DONE
Status: 1 NOTE
See
‘/Users/biocbuild/bbs-3.9-bioc/meat/amplican.Rcheck/00check.log’
for details.
amplican.Rcheck/00install.out
############################################################################## ############################################################################## ### ### Running command: ### ### /Library/Frameworks/R.framework/Versions/Current/Resources/bin/R CMD INSTALL amplican ### ############################################################################## ############################################################################## * installing to library ‘/Library/Frameworks/R.framework/Versions/3.6/Resources/library’ * installing *source* package ‘amplican’ ... ** using staged installation ** libs clang++ -std=gnu++11 -I"/Library/Frameworks/R.framework/Resources/include" -DNDEBUG -I"/Library/Frameworks/R.framework/Versions/3.6/Resources/library/Rcpp/include" -isysroot /Library/Developer/CommandLineTools/SDKs/MacOSX.sdk -I/usr/local/include -fPIC -Wall -g -O2 -c RcppExports.cpp -o RcppExports.o clang++ -std=gnu++11 -I"/Library/Frameworks/R.framework/Resources/include" -DNDEBUG -I"/Library/Frameworks/R.framework/Versions/3.6/Resources/library/Rcpp/include" -isysroot /Library/Developer/CommandLineTools/SDKs/MacOSX.sdk -I/usr/local/include -fPIC -Wall -g -O2 -c bezier.cpp -o bezier.o clang++ -std=gnu++11 -dynamiclib -Wl,-headerpad_max_install_names -undefined dynamic_lookup -single_module -multiply_defined suppress -L/Library/Frameworks/R.framework/Resources/lib -L/usr/local/lib -o amplican.so RcppExports.o bezier.o -F/Library/Frameworks/R.framework/.. -framework R -Wl,-framework -Wl,CoreFoundation installing to /Library/Frameworks/R.framework/Versions/3.6/Resources/library/00LOCK-amplican/00new/amplican/libs ** R ** inst ** byte-compile and prepare package for lazy loading ** help *** installing help indices ** building package indices ** installing vignettes ** testing if installed package can be loaded from temporary location ** checking absolute paths in shared objects and dynamic libraries ** testing if installed package can be loaded from final location ** testing if installed package keeps a record of temporary installation path * DONE (amplican)
amplican.Rcheck/tests/testthat.Rout
R version 3.6.1 (2019-07-05) -- "Action of the Toes"
Copyright (C) 2019 The R Foundation for Statistical Computing
Platform: x86_64-apple-darwin15.6.0 (64-bit)
R is free software and comes with ABSOLUTELY NO WARRANTY.
You are welcome to redistribute it under certain conditions.
Type 'license()' or 'licence()' for distribution details.
R is a collaborative project with many contributors.
Type 'contributors()' for more information and
'citation()' on how to cite R or R packages in publications.
Type 'demo()' for some demos, 'help()' for on-line help, or
'help.start()' for an HTML browser interface to help.
Type 'q()' to quit R.
> library(testthat)
> library(amplican)
Loading required package: BiocGenerics
Loading required package: parallel
Attaching package: 'BiocGenerics'
The following objects are masked from 'package:parallel':
clusterApply, clusterApplyLB, clusterCall, clusterEvalQ,
clusterExport, clusterMap, parApply, parCapply, parLapply,
parLapplyLB, parRapply, parSapply, parSapplyLB
The following objects are masked from 'package:stats':
IQR, mad, sd, var, xtabs
The following objects are masked from 'package:base':
Filter, Find, Map, Position, Reduce, anyDuplicated, append,
as.data.frame, basename, cbind, colnames, dirname, do.call,
duplicated, eval, evalq, get, grep, grepl, intersect, is.unsorted,
lapply, mapply, match, mget, order, paste, pmax, pmax.int, pmin,
pmin.int, rank, rbind, rownames, sapply, setdiff, sort, table,
tapply, union, unique, unsplit, which, which.max, which.min
Loading required package: Biostrings
Loading required package: S4Vectors
Loading required package: stats4
Attaching package: 'S4Vectors'
The following object is masked from 'package:base':
expand.grid
Loading required package: IRanges
Loading required package: XVector
Attaching package: 'Biostrings'
The following object is masked from 'package:base':
strsplit
Loading required package: data.table
Attaching package: 'data.table'
The following object is masked from 'package:IRanges':
shift
The following objects are masked from 'package:S4Vectors':
first, second
Pease consider supporting this software by citing:
Labun et al. 2019
Accurate analysis of genuine CRISPR editing events with ampliCan.
Genome Res. 2019 Mar 8
doi: 10.1101/gr.244293.118
Without appreciation scientific software is usually abandoned and eventually deprecated, but you can easily support authors by citations.
>
> test_check("amplican")
══ testthat results ═══════════════════════════════════════════════════════════
[ OK: 56 | SKIPPED: 0 | WARNINGS: 3 | FAILED: 0 ]
>
> proc.time()
user system elapsed
38.298 7.337 35.832
amplican.Rcheck/amplican-Ex.timings
| name | user | system | elapsed | |
| AlignmentsExperimentSet-class | 2.619 | 0.184 | 2.803 | |
| amplicanAlign | 11.396 | 1.037 | 12.438 | |
| amplicanConsensus | 0.407 | 0.265 | 0.159 | |
| amplicanFilter | 0.237 | 0.174 | 0.083 | |
| amplicanMap | 0.678 | 0.324 | 0.330 | |
| amplicanNormalize | 0.238 | 0.151 | 0.083 | |
| amplicanOverlap | 0.089 | 0.062 | 0.030 | |
| amplicanPipeline | 7.364 | 1.308 | 5.466 | |
| amplicanReport | 0.143 | 0.134 | 0.056 | |
| amplicanSummarize | 0.170 | 0.109 | 0.058 | |
| amplican_print_reads | 0.831 | 0.387 | 0.455 | |
| assignedCount | 0.040 | 0.001 | 0.042 | |
| barcodeData-set | 0.01 | 0.00 | 0.01 | |
| barcodeData | 0.013 | 0.001 | 0.015 | |
| comb_along | 0.049 | 0.006 | 0.055 | |
| experimentData-set | 0.009 | 0.000 | 0.010 | |
| experimentData | 0.020 | 0.002 | 0.023 | |
| extractEvents | 4.833 | 0.190 | 5.023 | |
| findEOP | 0.008 | 0.002 | 0.010 | |
| findLQR | 0.021 | 0.014 | 0.011 | |
| findPD | 0.025 | 0.019 | 0.008 | |
| fwdReads-set | 0.040 | 0.026 | 0.013 | |
| fwdReads | 1.003 | 0.351 | 0.684 | |
| fwdReadsType-set | 0.009 | 0.001 | 0.010 | |
| fwdReadsType | 0.008 | 0.001 | 0.010 | |
| geom_bezier | 0.650 | 0.023 | 0.672 | |
| lookupAlignment | 0.459 | 0.002 | 0.460 | |
| metaplot_deletions | 0.991 | 0.459 | 0.496 | |
| metaplot_insertions | 0.984 | 0.372 | 0.625 | |
| metaplot_mismatches | 1.015 | 0.414 | 0.613 | |
| plot_cuts | 1.110 | 0.405 | 0.708 | |
| plot_deletions | 1.026 | 0.471 | 0.520 | |
| plot_height | 0.001 | 0.000 | 0.001 | |
| plot_heterogeneity | 2.552 | 0.087 | 0.680 | |
| plot_insertions | 1.042 | 0.408 | 0.626 | |
| plot_mismatches | 1.165 | 0.413 | 0.762 | |
| plot_variants | 3.035 | 0.259 | 1.713 | |
| readCounts-set | 0.01 | 0.00 | 0.01 | |
| readCounts | 0.005 | 0.000 | 0.006 | |
| rveReads-set | 0.010 | 0.001 | 0.011 | |
| rveReads | 0.727 | 0.008 | 0.735 | |
| rveReadsType-set | 0.011 | 0.001 | 0.012 | |
| rveReadsType | 0.008 | 0.001 | 0.009 | |
| unassignedCount | 0.009 | 0.000 | 0.009 | |
| unassignedData-set | 0.011 | 0.001 | 0.011 | |
| unassignedData | 0.014 | 0.001 | 0.016 | |
| writeAlignments | 0.047 | 0.001 | 0.048 | |