| Back to Multiple platform build/check report for BioC 3.9 | 
  | 
This page was generated on 2019-10-16 12:18:38 -0400 (Wed, 16 Oct 2019).
| Package 1405/1741 | Hostname | OS / Arch | INSTALL | BUILD | CHECK | BUILD BIN | ||||||
| ROC 1.60.0 Vince Carey 
  | malbec2 | Linux (Ubuntu 18.04.2 LTS) / x86_64 | OK | OK | OK | |||||||
| tokay2 | Windows Server 2012 R2 Standard / x64 | OK | [ OK ] | OK | OK | |||||||
| celaya2 | OS X 10.11.6 El Capitan / x86_64 | OK | OK | OK | OK | 
| Package: ROC | 
| Version: 1.60.0 | 
| Command: chmod a+r ROC -R && C:\Users\biocbuild\bbs-3.9-bioc\R\bin\R.exe CMD build --keep-empty-dirs --no-resave-data ROC | 
| StartedAt: 2019-10-15 21:19:34 -0400 (Tue, 15 Oct 2019) | 
| EndedAt: 2019-10-15 21:21:08 -0400 (Tue, 15 Oct 2019) | 
| EllapsedTime: 93.7 seconds | 
| RetCode: 0 | 
| Status: OK | 
| PackageFile: ROC_1.60.0.tar.gz | 
| PackageFileSize: 165 KiB | 
############################################################################## ############################################################################## ### ### Running command: ### ### chmod a+r ROC -R && C:\Users\biocbuild\bbs-3.9-bioc\R\bin\R.exe CMD build --keep-empty-dirs --no-resave-data ROC ### ############################################################################## ############################################################################## * checking for file 'ROC/DESCRIPTION' ... OK * preparing 'ROC': * checking DESCRIPTION meta-information ... OK * cleaning src * installing the package to build vignettes * creating vignettes ... OK * cleaning src * checking for LF line-endings in source and make files and shell scripts * checking for empty or unneeded directories * building 'ROC_1.60.0.tar.gz'