| Back to Multiple platform build/check report for BioC 3.9 | 
  | 
This page was generated on 2019-10-16 12:18:39 -0400 (Wed, 16 Oct 2019).
| Package 1405/1741 | Hostname | OS / Arch | INSTALL | BUILD | CHECK | BUILD BIN | ||||||
| ROC 1.60.0 Vince Carey 
  | malbec2 | Linux (Ubuntu 18.04.2 LTS) / x86_64 | OK | OK | OK | |||||||
| tokay2 | Windows Server 2012 R2 Standard / x64 | OK | OK | OK | [ OK ] | |||||||
| celaya2 | OS X 10.11.6 El Capitan / x86_64 | OK | OK | OK | OK | 
| Package: ROC | 
| Version: 1.60.0 | 
| Command: rm -rf ROC.buildbin-libdir && mkdir ROC.buildbin-libdir && C:\Users\biocbuild\bbs-3.9-bioc\R\bin\R.exe CMD INSTALL --merge-multiarch --build --library=ROC.buildbin-libdir ROC_1.60.0.tar.gz | 
| StartedAt: 2019-10-16 10:06:21 -0400 (Wed, 16 Oct 2019) | 
| EndedAt: 2019-10-16 10:06:41 -0400 (Wed, 16 Oct 2019) | 
| EllapsedTime: 19.5 seconds | 
| RetCode: 0 | 
| Status: OK | 
| PackageFile: ROC_1.60.0.zip | 
| PackageFileSize: 201.9 KiB | 
##############################################################################
##############################################################################
###
### Running command:
###
###   rm -rf ROC.buildbin-libdir && mkdir ROC.buildbin-libdir && C:\Users\biocbuild\bbs-3.9-bioc\R\bin\R.exe CMD INSTALL --merge-multiarch --build --library=ROC.buildbin-libdir ROC_1.60.0.tar.gz
###
##############################################################################
##############################################################################
install for i386
* installing *source* package 'ROC' ...
** using staged installation
** libs
C:/Rtools/mingw_32/bin/g++  -I"C:/Users/BIOCBU~1/BBS-3~1.9-B/R/include" -DNDEBUG     -I"C:/extsoft/include"     -O2 -Wall  -mtune=generic -c ROC.cc -o ROC.o
C:/Rtools/mingw_32/bin/g++ -shared -s -static-libgcc -o ROC.dll tmp.def ROC.o -LC:/extsoft/lib/i386 -LC:/extsoft/lib -LC:/Users/BIOCBU~1/BBS-3~1.9-B/R/bin/i386 -lR
installing to C:/Users/biocbuild/bbs-3.9-bioc/meat/ROC.buildbin-libdir/00LOCK-ROC/00new/ROC/libs/i386
** R
** inst
** byte-compile and prepare package for lazy loading
** help
*** installing help indices
  converting help for package 'ROC'
    finding HTML links ... done
    AUC                                     html  
    plot-methods                            html  
    rocc-class                              html  
    rocdemo.sca                             html  
    trapezint                               html  
** building package indices
** installing vignettes
** testing if installed package can be loaded from temporary location
** testing if installed package can be loaded from final location
** testing if installed package keeps a record of temporary installation path
install for x64
* installing *source* package 'ROC' ...
** libs
C:/Rtools/mingw_64/bin/g++  -I"C:/Users/BIOCBU~1/BBS-3~1.9-B/R/include" -DNDEBUG     -I"C:/extsoft/include"     -O2 -Wall  -mtune=generic -c ROC.cc -o ROC.o
C:/Rtools/mingw_64/bin/g++ -shared -s -static-libgcc -o ROC.dll tmp.def ROC.o -LC:/extsoft/lib/x64 -LC:/extsoft/lib -LC:/Users/BIOCBU~1/BBS-3~1.9-B/R/bin/x64 -lR
installing to C:/Users/biocbuild/bbs-3.9-bioc/meat/ROC.buildbin-libdir/ROC/libs/x64
** testing if installed package can be loaded
* MD5 sums
packaged installation of 'ROC' as ROC_1.60.0.zip
* DONE (ROC)