| Back to Multiple platform build/check report for BioC 3.9 |
|
This page was generated on 2019-10-16 12:36:57 -0400 (Wed, 16 Oct 2019).
| Package 855/1741 | Hostname | OS / Arch | INSTALL | BUILD | CHECK | BUILD BIN | ||||||
| KEGGlincs 1.10.0 Shana White
| malbec2 | Linux (Ubuntu 18.04.2 LTS) / x86_64 | OK | OK | OK | |||||||
| tokay2 | Windows Server 2012 R2 Standard / x64 | [ OK ] | OK | OK | OK | |||||||
| celaya2 | OS X 10.11.6 El Capitan / x86_64 | OK | OK | OK | OK |
| Package: KEGGlincs |
| Version: 1.10.0 |
| Command: C:\cygwin\bin\curl.exe -O https://malbec2.bioconductor.org/BBS/3.9/bioc/src/contrib/KEGGlincs_1.10.0.tar.gz && rm -rf KEGGlincs.buildbin-libdir && mkdir KEGGlincs.buildbin-libdir && C:\Users\biocbuild\bbs-3.9-bioc\R\bin\R.exe CMD INSTALL --merge-multiarch --build --library=KEGGlincs.buildbin-libdir KEGGlincs_1.10.0.tar.gz && C:\Users\biocbuild\bbs-3.9-bioc\R\bin\R.exe CMD INSTALL KEGGlincs_1.10.0.zip && rm KEGGlincs_1.10.0.tar.gz KEGGlincs_1.10.0.zip |
| StartedAt: 2019-10-15 19:42:06 -0400 (Tue, 15 Oct 2019) |
| EndedAt: 2019-10-15 19:43:08 -0400 (Tue, 15 Oct 2019) |
| EllapsedTime: 62.1 seconds |
| RetCode: 0 |
| Status: OK |
##############################################################################
##############################################################################
###
### Running command:
###
### C:\cygwin\bin\curl.exe -O https://malbec2.bioconductor.org/BBS/3.9/bioc/src/contrib/KEGGlincs_1.10.0.tar.gz && rm -rf KEGGlincs.buildbin-libdir && mkdir KEGGlincs.buildbin-libdir && C:\Users\biocbuild\bbs-3.9-bioc\R\bin\R.exe CMD INSTALL --merge-multiarch --build --library=KEGGlincs.buildbin-libdir KEGGlincs_1.10.0.tar.gz && C:\Users\biocbuild\bbs-3.9-bioc\R\bin\R.exe CMD INSTALL KEGGlincs_1.10.0.zip && rm KEGGlincs_1.10.0.tar.gz KEGGlincs_1.10.0.zip
###
##############################################################################
##############################################################################
% Total % Received % Xferd Average Speed Time Time Time Current
Dload Upload Total Spent Left Speed
0 0 0 0 0 0 0 0 --:--:-- --:--:-- --:--:-- 0
100 2148k 100 2148k 0 0 25.8M 0 --:--:-- --:--:-- --:--:-- 28.3M
install for i386
* installing *source* package 'KEGGlincs' ...
** using staged installation
** R
** inst
** byte-compile and prepare package for lazy loading
** help
*** installing help indices
converting help for package 'KEGGlincs'
finding HTML links ... done
KEGG_lincs html
KEGGlincs html
KL_compare html
add_edge_data html
cyto_vis html
edge_mapping_info html
expand_KEGG_edges html
expand_KEGG_mappings html
generate_mappings html
get_KGML html
get_fisher_info html
get_graph_object html
keggerize_edges html
node_mapping_info html
overlap_info html
path_genes_by_cell_type html
refine_mappings html
tidy_edge html
toCytoscape html
** building package indices
** installing vignettes
** testing if installed package can be loaded from temporary location
** testing if installed package can be loaded from final location
** testing if installed package keeps a record of temporary installation path
install for x64
* installing *source* package 'KEGGlincs' ...
** testing if installed package can be loaded
* MD5 sums
packaged installation of 'KEGGlincs' as KEGGlincs_1.10.0.zip
* DONE (KEGGlincs)
* installing to library 'C:/Users/biocbuild/bbs-3.9-bioc/R/library'
package 'KEGGlincs' successfully unpacked and MD5 sums checked