| Back to Multiple platform build/check report for BioC 3.9 |
|
This page was generated on 2019-10-16 12:58:53 -0400 (Wed, 16 Oct 2019).
| Package 855/1741 | Hostname | OS / Arch | INSTALL | BUILD | CHECK | BUILD BIN | ||||||
| KEGGlincs 1.10.0 Shana White
| malbec2 | Linux (Ubuntu 18.04.2 LTS) / x86_64 | OK | OK | OK | |||||||
| tokay2 | Windows Server 2012 R2 Standard / x64 | OK | OK | OK | OK | |||||||
| celaya2 | OS X 10.11.6 El Capitan / x86_64 | OK | OK | [ OK ] | OK |
| Package: KEGGlincs |
| Version: 1.10.0 |
| Command: /Library/Frameworks/R.framework/Versions/Current/Resources/bin/R CMD check --install=check:KEGGlincs.install-out.txt --library=/Library/Frameworks/R.framework/Versions/Current/Resources/library --no-vignettes --timings KEGGlincs_1.10.0.tar.gz |
| StartedAt: 2019-10-16 04:01:43 -0400 (Wed, 16 Oct 2019) |
| EndedAt: 2019-10-16 04:06:35 -0400 (Wed, 16 Oct 2019) |
| EllapsedTime: 292.2 seconds |
| RetCode: 0 |
| Status: OK |
| CheckDir: KEGGlincs.Rcheck |
| Warnings: 0 |
##############################################################################
##############################################################################
###
### Running command:
###
### /Library/Frameworks/R.framework/Versions/Current/Resources/bin/R CMD check --install=check:KEGGlincs.install-out.txt --library=/Library/Frameworks/R.framework/Versions/Current/Resources/library --no-vignettes --timings KEGGlincs_1.10.0.tar.gz
###
##############################################################################
##############################################################################
* using log directory ‘/Users/biocbuild/bbs-3.9-bioc/meat/KEGGlincs.Rcheck’
* using R version 3.6.1 (2019-07-05)
* using platform: x86_64-apple-darwin15.6.0 (64-bit)
* using session charset: UTF-8
* using option ‘--no-vignettes’
* checking for file ‘KEGGlincs/DESCRIPTION’ ... OK
* checking extension type ... Package
* this is package ‘KEGGlincs’ version ‘1.10.0’
* checking package namespace information ... OK
* checking package dependencies ... OK
* checking if this is a source package ... OK
* checking if there is a namespace ... OK
* checking for hidden files and directories ... OK
* checking for portable file names ... OK
* checking for sufficient/correct file permissions ... OK
* checking whether package ‘KEGGlincs’ can be installed ... OK
* checking installed package size ... OK
* checking package directory ... OK
* checking ‘build’ directory ... OK
* checking DESCRIPTION meta-information ... OK
* checking top-level files ... OK
* checking for left-over files ... OK
* checking index information ... OK
* checking package subdirectories ... OK
* checking R files for non-ASCII characters ... OK
* checking R files for syntax errors ... OK
* checking whether the package can be loaded ... OK
* checking whether the package can be loaded with stated dependencies ... OK
* checking whether the package can be unloaded cleanly ... OK
* checking whether the namespace can be loaded with stated dependencies ... OK
* checking whether the namespace can be unloaded cleanly ... OK
* checking dependencies in R code ... NOTE
Namespace in Imports field not imported from: ‘XML’
All declared Imports should be used.
* checking S3 generic/method consistency ... OK
* checking replacement functions ... OK
* checking foreign function calls ... OK
* checking R code for possible problems ... OK
* checking Rd files ... OK
* checking Rd metadata ... OK
* checking Rd cross-references ... OK
* checking for missing documentation entries ... OK
* checking for code/documentation mismatches ... OK
* checking Rd \usage sections ... OK
* checking Rd contents ... OK
* checking for unstated dependencies in examples ... OK
* checking files in ‘vignettes’ ... OK
* checking examples ... OK
Examples with CPU or elapsed time > 5s
user system elapsed
overlap_info 26.832 4.340 32.382
add_edge_data 24.204 3.445 28.420
edge_mapping_info 14.201 1.656 16.094
path_genes_by_cell_type 13.058 1.379 14.676
refine_mappings 12.110 1.365 13.711
get_graph_object 11.500 0.619 12.364
* checking for unstated dependencies in vignettes ... OK
* checking package vignettes in ‘inst/doc’ ... OK
* checking running R code from vignettes ... SKIPPED
* checking re-building of vignette outputs ... SKIPPED
* checking PDF version of manual ... OK
* DONE
Status: 1 NOTE
See
‘/Users/biocbuild/bbs-3.9-bioc/meat/KEGGlincs.Rcheck/00check.log’
for details.
KEGGlincs.Rcheck/00install.out
############################################################################## ############################################################################## ### ### Running command: ### ### /Library/Frameworks/R.framework/Versions/Current/Resources/bin/R CMD INSTALL KEGGlincs ### ############################################################################## ############################################################################## * installing to library ‘/Library/Frameworks/R.framework/Versions/3.6/Resources/library’ * installing *source* package ‘KEGGlincs’ ... ** using staged installation ** R ** inst ** byte-compile and prepare package for lazy loading ** help *** installing help indices ** building package indices ** installing vignettes ** testing if installed package can be loaded from temporary location ** testing if installed package can be loaded from final location ** testing if installed package keeps a record of temporary installation path * DONE (KEGGlincs)
KEGGlincs.Rcheck/KEGGlincs-Ex.timings
| name | user | system | elapsed | |
| KEGG_lincs | 0.000 | 0.000 | 0.001 | |
| KL_compare | 0.000 | 0.000 | 0.001 | |
| add_edge_data | 24.204 | 3.445 | 28.420 | |
| cyto_vis | 0.747 | 0.064 | 1.041 | |
| edge_mapping_info | 14.201 | 1.656 | 16.094 | |
| expand_KEGG_edges | 0.423 | 0.059 | 0.726 | |
| expand_KEGG_mappings | 0.161 | 0.001 | 0.396 | |
| generate_mappings | 0.002 | 0.001 | 0.001 | |
| get_KGML | 0.331 | 0.010 | 1.040 | |
| get_fisher_info | 0.006 | 0.000 | 0.006 | |
| get_graph_object | 11.500 | 0.619 | 12.364 | |
| keggerize_edges | 0.001 | 0.000 | 0.000 | |
| node_mapping_info | 0.250 | 0.001 | 0.500 | |
| overlap_info | 26.832 | 4.340 | 32.382 | |
| path_genes_by_cell_type | 13.058 | 1.379 | 14.676 | |
| refine_mappings | 12.110 | 1.365 | 13.711 | |
| tidy_edge | 0.000 | 0.000 | 0.001 | |