| Back to Multiple platform build/check report for BioC 3.9 |
|
This page was generated on 2019-04-09 13:24:24 -0400 (Tue, 09 Apr 2019).
| Package 423/1703 | Hostname | OS / Arch | INSTALL | BUILD | CHECK | BUILD BIN | ||||||
| DFP 1.41.0 Rodrigo Alvarez-Glez
| malbec2 | Linux (Ubuntu 18.04.2 LTS) / x86_64 | OK | OK | OK | |||||||
| tokay2 | Windows Server 2012 R2 Standard / x64 | OK | OK | OK | OK | |||||||
| celaya2 | OS X 10.11.6 El Capitan / x86_64 | OK | OK | OK | OK | |||||||
| merida2 | OS X 10.11.6 El Capitan / x86_64 | OK | OK | [ OK ] | OK |
| Package: DFP |
| Version: 1.41.0 |
| Command: /Library/Frameworks/R.framework/Versions/Current/Resources/bin/R CMD check --install=check:DFP.install-out.txt --library=/Library/Frameworks/R.framework/Versions/Current/Resources/library --no-vignettes --timings DFP_1.41.0.tar.gz |
| StartedAt: 2019-04-09 00:27:56 -0400 (Tue, 09 Apr 2019) |
| EndedAt: 2019-04-09 00:28:35 -0400 (Tue, 09 Apr 2019) |
| EllapsedTime: 39.1 seconds |
| RetCode: 0 |
| Status: OK |
| CheckDir: DFP.Rcheck |
| Warnings: 0 |
##############################################################################
##############################################################################
###
### Running command:
###
### /Library/Frameworks/R.framework/Versions/Current/Resources/bin/R CMD check --install=check:DFP.install-out.txt --library=/Library/Frameworks/R.framework/Versions/Current/Resources/library --no-vignettes --timings DFP_1.41.0.tar.gz
###
##############################################################################
##############################################################################
* using log directory ‘/Users/biocbuild/bbs-3.9-bioc/meat/DFP.Rcheck’
* using R Under development (unstable) (2018-11-27 r75683)
* using platform: x86_64-apple-darwin15.6.0 (64-bit)
* using session charset: UTF-8
* using option ‘--no-vignettes’
* checking for file ‘DFP/DESCRIPTION’ ... OK
* checking extension type ... Package
* this is package ‘DFP’ version ‘1.41.0’
* checking package namespace information ... OK
* checking package dependencies ... OK
* checking if this is a source package ... OK
* checking if there is a namespace ... OK
* checking for hidden files and directories ... OK
* checking for portable file names ... OK
* checking for sufficient/correct file permissions ... OK
* checking whether package ‘DFP’ can be installed ... OK
* checking installed package size ... OK
* checking package directory ... OK
* checking ‘build’ directory ... OK
* checking DESCRIPTION meta-information ... OK
* checking top-level files ... OK
* checking for left-over files ... OK
* checking index information ... OK
* checking package subdirectories ... OK
* checking R files for non-ASCII characters ... OK
* checking R files for syntax errors ... OK
* checking whether the package can be loaded ... OK
* checking whether the package can be loaded with stated dependencies ... OK
* checking whether the package can be unloaded cleanly ... OK
* checking whether the namespace can be loaded with stated dependencies ... OK
* checking whether the namespace can be unloaded cleanly ... OK
* checking dependencies in R code ... NOTE
'library' or 'require' call to ‘Biobase’ which was already attached by Depends.
Please remove these calls from your code.
* checking S3 generic/method consistency ... OK
* checking replacement functions ... OK
* checking foreign function calls ... OK
* checking R code for possible problems ... NOTE
plotDiscriminantFuzzyPattern: warning in matrix(x, nr = ly, nc = lx,
byrow = TRUE): partial argument match of 'nr' to 'nrow'
plotDiscriminantFuzzyPattern: warning in matrix(x, nr = ly, nc = lx,
byrow = TRUE): partial argument match of 'nc' to 'ncol'
plotDiscriminantFuzzyPattern: warning in matrix(y, nr = ly, nc = lx):
partial argument match of 'nr' to 'nrow'
plotDiscriminantFuzzyPattern: warning in matrix(y, nr = ly, nc = lx):
partial argument match of 'nc' to 'ncol'
.plotGeneMF: no visible global function definition for ‘curve’
.plotGeneMF: no visible binding for global variable ‘x’
.plotGeneMF: no visible global function definition for ‘abline’
.plotGeneMF: no visible global function definition for ‘palette’
.plotGeneMF: no visible global function definition for ‘rainbow’
.plotGeneMF: no visible global function definition for ‘legend’
calculateFuzzyPatterns: no visible global function definition for
‘head’
discretizeExpressionValues: no visible global function definition for
‘head’
discriminantFuzzyPattern: no visible global function definition for
‘head’
plotDiscriminantFuzzyPattern: no visible global function definition for
‘image’
plotDiscriminantFuzzyPattern: no visible global function definition for
‘par’
plotDiscriminantFuzzyPattern: no visible global function definition for
‘axis’
plotDiscriminantFuzzyPattern: no visible global function definition for
‘text’
plotMembershipFunctions: no visible global function definition for
‘par’
readCSV: no visible global function definition for ‘read.table’
readCSV: no visible global function definition for ‘head’
Undefined global functions or variables:
abline axis curve head image legend palette par rainbow read.table
text x
Consider adding
importFrom("grDevices", "palette", "rainbow")
importFrom("graphics", "abline", "axis", "curve", "image", "legend",
"par", "text")
importFrom("utils", "head", "read.table")
to your NAMESPACE file.
* checking Rd files ... OK
* checking Rd metadata ... OK
* checking Rd cross-references ... OK
* checking for missing documentation entries ... OK
* checking for code/documentation mismatches ... OK
* checking Rd \usage sections ... OK
* checking Rd contents ... OK
* checking for unstated dependencies in examples ... OK
* checking contents of ‘data’ directory ... OK
* checking data for non-ASCII characters ... OK
* checking data for ASCII and uncompressed saves ... OK
* checking sizes of PDF files under ‘inst/doc’ ... OK
* checking files in ‘vignettes’ ... OK
* checking examples ... OK
* checking for unstated dependencies in vignettes ... OK
* checking package vignettes in ‘inst/doc’ ... OK
* checking running R code from vignettes ... SKIPPED
* checking re-building of vignette outputs ... SKIPPED
* checking PDF version of manual ... OK
* DONE
Status: 2 NOTEs
See
‘/Users/biocbuild/bbs-3.9-bioc/meat/DFP.Rcheck/00check.log’
for details.
DFP.Rcheck/00install.out
############################################################################## ############################################################################## ### ### Running command: ### ### /Library/Frameworks/R.framework/Versions/Current/Resources/bin/R CMD INSTALL DFP ### ############################################################################## ############################################################################## * installing to library ‘/Library/Frameworks/R.framework/Versions/3.6/Resources/library’ * installing *source* package ‘DFP’ ... ** R ** data ** inst ** byte-compile and prepare package for lazy loading ** help *** installing help indices ** building package indices ** installing vignettes ** testing if installed package can be loaded * DONE (DFP)
DFP.Rcheck/DFP-Ex.timings
| name | user | system | elapsed | |
| DFP-package | 1.376 | 0.083 | 1.481 | |
| ExpressionLevel-class | 0.001 | 0.000 | 0.001 | |
| HighExpressionLevel-class | 0.000 | 0.000 | 0.001 | |
| LowExpressionLevel-class | 0.001 | 0.001 | 0.000 | |
| MediumExpressionLevel-class | 0.000 | 0.000 | 0.001 | |
| discriminantFuzzyPattern | 1.480 | 0.022 | 1.522 | |
| readCSV | 0.131 | 0.003 | 0.135 | |
| rmadataset | 0.006 | 0.001 | 0.008 | |