| Back to Multiple platform build/check report for BioC 3.9 | 
  | 
This page was generated on 2019-10-16 12:22:01 -0400 (Wed, 16 Oct 2019).
| Package 430/1741 | Hostname | OS / Arch | INSTALL | BUILD | CHECK | BUILD BIN | ||||||
| DFP 1.42.0 Rodrigo Alvarez-Glez 
  | malbec2 | Linux (Ubuntu 18.04.2 LTS) / x86_64 | OK | OK | OK | |||||||
| tokay2 | Windows Server 2012 R2 Standard / x64 | OK | OK | OK | [ OK ] | |||||||
| celaya2 | OS X 10.11.6 El Capitan / x86_64 | OK | OK | OK | OK | 
| Package: DFP | 
| Version: 1.42.0 | 
| Command: rm -rf DFP.buildbin-libdir && mkdir DFP.buildbin-libdir && C:\Users\biocbuild\bbs-3.9-bioc\R\bin\R.exe CMD INSTALL --merge-multiarch --build --library=DFP.buildbin-libdir DFP_1.42.0.tar.gz | 
| StartedAt: 2019-10-16 09:04:20 -0400 (Wed, 16 Oct 2019) | 
| EndedAt: 2019-10-16 09:04:54 -0400 (Wed, 16 Oct 2019) | 
| EllapsedTime: 33.7 seconds | 
| RetCode: 0 | 
| Status: OK | 
| PackageFile: DFP_1.42.0.zip | 
| PackageFileSize: 579.4 KiB | 
##############################################################################
##############################################################################
###
### Running command:
###
###   rm -rf DFP.buildbin-libdir && mkdir DFP.buildbin-libdir && C:\Users\biocbuild\bbs-3.9-bioc\R\bin\R.exe CMD INSTALL --merge-multiarch --build --library=DFP.buildbin-libdir DFP_1.42.0.tar.gz
###
##############################################################################
##############################################################################
install for i386
* installing *source* package 'DFP' ...
** using staged installation
** R
** data
** inst
** byte-compile and prepare package for lazy loading
** help
*** installing help indices
  converting help for package 'DFP'
    finding HTML links ... done
    DFP-internal                            html  
    DFP-package                             html  
    ExpressionLevel-class                   html  
    HighExpressionLevel-class               html  
    LowExpressionLevel-class                html  
    MediumExpressionLevel-class             html  
    calculateDiscriminantFuzzyPattern       html  
    calculateFuzzyPatterns                  html  
    calculateMembershipFunctions            html  
    discretizeExpressionValues              html  
    discriminantFuzzyPattern                html  
    plotDiscriminantFuzzyPattern            html  
    plotMembershipFunctions                 html  
    readCSV                                 html  
    rmadataset                              html  
    show-methods                            html  
    showDiscreteValues                      html  
    showFuzzyPatterns                       html  
** building package indices
** installing vignettes
** testing if installed package can be loaded from temporary location
** testing if installed package can be loaded from final location
** testing if installed package keeps a record of temporary installation path
install for x64
* installing *source* package 'DFP' ...
** testing if installed package can be loaded
* MD5 sums
packaged installation of 'DFP' as DFP_1.42.0.zip
* DONE (DFP)